BEGIN:VCALENDAR
VERSION:2.0
PRODID:-//Quinzaine franco-allemande - ECPv6.15.20//NONSGML v1.0//EN
CALSCALE:GREGORIAN
METHOD:PUBLISH
X-WR-CALNAME:Quinzaine franco-allemande
X-ORIGINAL-URL:https://15francoallemandeoccitanie.fr/de/
X-WR-CALDESC:Veranstaltungen für Quinzaine franco-allemande
REFRESH-INTERVAL;VALUE=DURATION:PT1H
X-Robots-Tag:noindex
X-PUBLISHED-TTL:PT1H
BEGIN:VTIMEZONE
TZID:Europe/Paris
BEGIN:DAYLIGHT
TZOFFSETFROM:+0100
TZOFFSETTO:+0200
TZNAME:CEST
DTSTART:20240331T010000
END:DAYLIGHT
BEGIN:STANDARD
TZOFFSETFROM:+0200
TZOFFSETTO:+0100
TZNAME:CET
DTSTART:20241027T010000
END:STANDARD
BEGIN:DAYLIGHT
TZOFFSETFROM:+0100
TZOFFSETTO:+0200
TZNAME:CEST
DTSTART:20250330T010000
END:DAYLIGHT
BEGIN:STANDARD
TZOFFSETFROM:+0200
TZOFFSETTO:+0100
TZNAME:CET
DTSTART:20251026T010000
END:STANDARD
BEGIN:DAYLIGHT
TZOFFSETFROM:+0100
TZOFFSETTO:+0200
TZNAME:CEST
DTSTART:20260329T010000
END:DAYLIGHT
BEGIN:STANDARD
TZOFFSETFROM:+0200
TZOFFSETTO:+0100
TZNAME:CET
DTSTART:20261025T010000
END:STANDARD
END:VTIMEZONE
BEGIN:VEVENT
DTSTART;TZID=Europe/Paris:20250402T183000
DTEND;TZID=Europe/Paris:20250402T183000
DTSTAMP:20260424T202056
CREATED:20250305T124524Z
LAST-MODIFIED:20250313T132712Z
UID:10000488-1743618600-1743618600@15francoallemandeoccitanie.fr
SUMMARY:Cercle de lecture en allemand "Blutbuch" (Kim de l'Horizon)  Prix du Livre allemand 2022
DESCRIPTION:Lorsque sa grand-mère commence à perdre la mémoire\, Kim tente de combler les silences en invoquant ses souvenirs d’enfance\, dans une remémoration d’une infinie et terrible tendresse.\nS’ouvre alors une tourbillonnante quête familiale sur les figures féminines qui constituent sa lignée maternelle : un arbre généalogique de sorcières entretenant un puissant lien avec la nature\, de femmes subversives en recherche permanente de liberté\, parmi lesquelles Kim se crée une place.\nProdigieux roman de formation du XXIe siècle\, récit de libération – des traumatismes familiaux\, de l’identité de genre et de classe -\, Hêtre pourpre invente sa propre langue magique pour dire l’indicible. Bruissant de corps et de formes diverses\, ce premier roman\, lauréat des Prix du livre allemand et suisse en 2022\, est un feu de joie qui embrase tout sur son passage.
URL:https://15francoallemandeoccitanie.fr/de/evenement/cercle-de-lecture-en-allemand-blutbuch-kim-de-lhorizon-prix-du-livre-allemand-2022/
LOCATION:Maison de Heidelberg\, 4 rueTrésoriers de la Bourse\, Montpellier\, 34000\, France
ATTACH;FMTTYPE=image/jpeg:https://15francoallemandeoccitanie.fr/wp-content/uploads/2025/03/2025_04_02_Blutbuch.jpg
GEO:43.610022;3.8757307
X-APPLE-STRUCTURED-LOCATION;VALUE=URI;X-ADDRESS=Maison de Heidelberg 4 rueTrésoriers de la Bourse Montpellier 34000 France;X-APPLE-RADIUS=500;X-TITLE=4 rueTrésoriers de la Bourse:geo:3.8757307,43.610022
END:VEVENT
BEGIN:VEVENT
DTSTART;TZID=Europe/Paris:20250325T183000
DTEND;TZID=Europe/Paris:20250325T183000
DTSTAMP:20260424T202056
CREATED:20250309T013852Z
LAST-MODIFIED:20250313T134020Z
UID:10000933-1742927400-1742927400@15francoallemandeoccitanie.fr
SUMMARY:Rencontre littéraire avec Ariane Koch Animée et traduit en français par Marie Hermann
DESCRIPTION:Une jeune femme habite seule dans une maison trop grande pour elle. Une grande maison\, qui tombe peu à peu en ruines\, dans une ville trop petite\, nichée au pied d’une montagne pyramidale dont l’ombre plane sur la vallée. Lorsqu’un étranger\, ayant pour tout bagage quelques sacs en plastique\, vient briser la monotonie de son existence\, la jeune femme\, fascinée\, décide de l’héberger dans l’une des dix pièces de sa demeure. Cependant\, la présence de cet hôte perturbe ses habitudes\, et elle en fait rapidement un objet d’étude\, de fantasme. Il est scruté\, dompté\, exécute de bonne grâce les ordres qu’on lui dicte. Mais alors qu’il devient un élément indispensable à leur micro-écosystème\, elle en oublierait presque qu’il s’agit d’un être avec ses propres besoins et désirs… Déroutant et équivoque à la manière d’un roman de Kafka\, L’Hôte brouille les frontières entre réel et imaginaire pour mieux questionner notre rapport à l’autre et à la différence.\nAriane Koch est née en 1988 à Bâle. Elle a étudié les beaux-arts\, l’interdisciplinarité\, ainsi que la philosophie et le théâtre. Ce premier roman\, a été récompensé par le Prix suisse de littérature 2022 ainsi que le Aspekte-Literaturpreis 2021.\nAvec le soutien de Pro Helvetia\n© Heike Steinweg/Suhrkamp Verlag.
URL:https://15francoallemandeoccitanie.fr/de/evenement/rencontre-litteraire-avec-ariane-koch-animee-et-traduit-en-francais-par-marie-hermann/
LOCATION:Maison de Heidelberg\, 4 rueTrésoriers de la Bourse\, Montpellier\, 34000\, France
ATTACH;FMTTYPE=image/jpeg:https://15francoallemandeoccitanie.fr/wp-content/uploads/2025/03/2025_03_27_Koch_Ariane_061©HeikeSteinweg_SV.jpg
GEO:43.610022;3.8757307
X-APPLE-STRUCTURED-LOCATION;VALUE=URI;X-ADDRESS=Maison de Heidelberg 4 rueTrésoriers de la Bourse Montpellier 34000 France;X-APPLE-RADIUS=500;X-TITLE=4 rueTrésoriers de la Bourse:geo:3.8757307,43.610022
END:VEVENT
END:VCALENDAR