BEGIN:VCALENDAR
VERSION:2.0
PRODID:-//Quinzaine franco-allemande - ECPv6.15.20//NONSGML v1.0//EN
CALSCALE:GREGORIAN
METHOD:PUBLISH
X-WR-CALNAME:Quinzaine franco-allemande
X-ORIGINAL-URL:https://15francoallemandeoccitanie.fr/de/
X-WR-CALDESC:Veranstaltungen für Quinzaine franco-allemande
REFRESH-INTERVAL;VALUE=DURATION:PT1H
X-Robots-Tag:noindex
X-PUBLISHED-TTL:PT1H
BEGIN:VTIMEZONE
TZID:Europe/Paris
BEGIN:DAYLIGHT
TZOFFSETFROM:+0100
TZOFFSETTO:+0200
TZNAME:CEST
DTSTART:20240331T010000
END:DAYLIGHT
BEGIN:STANDARD
TZOFFSETFROM:+0200
TZOFFSETTO:+0100
TZNAME:CET
DTSTART:20241027T010000
END:STANDARD
BEGIN:DAYLIGHT
TZOFFSETFROM:+0100
TZOFFSETTO:+0200
TZNAME:CEST
DTSTART:20250330T010000
END:DAYLIGHT
BEGIN:STANDARD
TZOFFSETFROM:+0200
TZOFFSETTO:+0100
TZNAME:CET
DTSTART:20251026T010000
END:STANDARD
BEGIN:DAYLIGHT
TZOFFSETFROM:+0100
TZOFFSETTO:+0200
TZNAME:CEST
DTSTART:20260329T010000
END:DAYLIGHT
BEGIN:STANDARD
TZOFFSETFROM:+0200
TZOFFSETTO:+0100
TZNAME:CET
DTSTART:20261025T010000
END:STANDARD
BEGIN:DAYLIGHT
TZOFFSETFROM:+0100
TZOFFSETTO:+0200
TZNAME:CEST
DTSTART:20270328T010000
END:DAYLIGHT
BEGIN:STANDARD
TZOFFSETFROM:+0200
TZOFFSETTO:+0100
TZNAME:CET
DTSTART:20271031T010000
END:STANDARD
END:VTIMEZONE
BEGIN:VEVENT
DTSTART;TZID=Europe/Paris:20260403T090000
DTEND;TZID=Europe/Paris:20260403T090000
DTSTAMP:20260424T213356
CREATED:20260306T183046Z
LAST-MODIFIED:20260402T110436Z
UID:10007416-1775206800-1775206800@15francoallemandeoccitanie.fr
SUMMARY:Visite de la Maison des relations internationales par le Collège Paul Bert
DESCRIPTION:Les élèves du collège Paul Bert participeront à une Journée Découverte au sein de la Maison des Relations Internationales de Montpellier. Cette dernière est un centre d’informations pour chaque citoyenne et citoyen\, et accueille différentes manifestations culturelles\, comme des conférences\, des expositions ou des lectures.\nLors de cet évènement\, les collégiens auront l’occasion échanger avec Roland Ickowicz\, Consul honoraire d’Allemagne et Mme Clare HART\, Vice-Présidente de Montpellier Méditerranée Métropole et Déléguée au Rayonnement international et Coopération européenne.
URL:https://15francoallemandeoccitanie.fr/de/evenement/visite-de-la-maison-des-relations-internationales-par-le-college-paul-bert/
LOCATION:Maison des Relations Internationales Nelson Mandela\, 14 Descente en Barrat\, Montpellier\, 34000
ATTACH;FMTTYPE=image/jpeg:https://15francoallemandeoccitanie.fr/wp-content/uploads/2026/03/MRI-scaled-e1775127863662.jpg
GEO:43.6133562;3.8804623
X-APPLE-STRUCTURED-LOCATION;VALUE=URI;X-ADDRESS=Maison des Relations Internationales Nelson Mandela 14 Descente en Barrat Montpellier 34000;X-APPLE-RADIUS=500;X-TITLE=14 Descente en Barrat:geo:3.8804623,43.6133562
END:VEVENT
BEGIN:VEVENT
DTSTART;VALUE=DATE:20250429
DTEND;VALUE=DATE:20250430
DTSTAMP:20260424T213356
CREATED:20250311T131131Z
LAST-MODIFIED:20250311T131903Z
UID:10000936-1745884800-1745971199@15francoallemandeoccitanie.fr
SUMMARY:Cap sur l'Allemagne
DESCRIPTION:Entrepreneurs\, développez votre activité en Allemagne ! 🚀🇩🇪 \nVous envisagez une expansion à l’international ? Participez à „Cap sur l’Allemagne\, une journée dédiée aux opportunités du marché allemand\, organisée par Montpellier Méditerranée Métropole et RAFAL Réseau d’Affaires Franco-Allemand. \n📅 Rendez-vous le 29 avril à la Maison des Relations Internationales Nelson Mandela \n🔎 Pourquoi participer ?\n✅ Identifier les opportunités et comprendre les spécificités du marché allemand\,\n✅ Obtenir des conseils pratiques pour structurer votre projet d’implantation\,\n✅ Rencontrer des experts et entrepreneurs déjà implantés\,\n✅ Échanger avec des acteurs clés. \n📌 Un programme complet pour préparer efficacement votre développement en Allemagne :\n🎤 Séminaire (9h-12h) : fondamentaux du marché\, stratégies d’entrée\, aspects culturels et réglementaires\,\n 🤝 Networking BtoB (12h-14h) : rencontrez des experts et d’autres entreprises en plein développement\,\n 🎯 Ateliers thématiques (14h-17h) : témoignages d’entrepreneurs\, conseils juridiques et session questions-réponses. \nAlors\, prêt(e) à conquérir de nouveaux territoires ? Clique sur le lien 🚀 Postulez dès maintenant  \n\n  🚀 Postulez dès maintenant !
URL:https://15francoallemandeoccitanie.fr/de/evenement/cap-sur-lallemagne/
LOCATION:Maison des Relations Internationales Nelson Mandela\, 14 Descente en Barrat\, Montpellier\, 34000
ATTACH;FMTTYPE=image/jpeg:https://15francoallemandeoccitanie.fr/wp-content/uploads/2025/03/1741676443803.jpeg
ORGANIZER;CN="RAFAL r%C3%A9seau d'affaires franco-allemand":MAILTO:gestion.rafal@gmail.com
GEO:43.6133562;3.8804623
X-APPLE-STRUCTURED-LOCATION;VALUE=URI;X-ADDRESS=Maison des Relations Internationales Nelson Mandela 14 Descente en Barrat Montpellier 34000;X-APPLE-RADIUS=500;X-TITLE=14 Descente en Barrat:geo:3.8804623,43.6133562
END:VEVENT
END:VCALENDAR