BEGIN:VCALENDAR
VERSION:2.0
PRODID:-//Quinzaine franco-allemande - ECPv6.15.20//NONSGML v1.0//EN
CALSCALE:GREGORIAN
METHOD:PUBLISH
X-ORIGINAL-URL:https://15francoallemandeoccitanie.fr/de/
X-WR-CALDESC:Veranstaltungen für Quinzaine franco-allemande
REFRESH-INTERVAL;VALUE=DURATION:PT1H
X-Robots-Tag:noindex
X-PUBLISHED-TTL:PT1H
BEGIN:VTIMEZONE
TZID:Europe/Paris
BEGIN:DAYLIGHT
TZOFFSETFROM:+0100
TZOFFSETTO:+0200
TZNAME:CEST
DTSTART:20240331T010000
END:DAYLIGHT
BEGIN:STANDARD
TZOFFSETFROM:+0200
TZOFFSETTO:+0100
TZNAME:CET
DTSTART:20241027T010000
END:STANDARD
BEGIN:DAYLIGHT
TZOFFSETFROM:+0100
TZOFFSETTO:+0200
TZNAME:CEST
DTSTART:20250330T010000
END:DAYLIGHT
BEGIN:STANDARD
TZOFFSETFROM:+0200
TZOFFSETTO:+0100
TZNAME:CET
DTSTART:20251026T010000
END:STANDARD
BEGIN:DAYLIGHT
TZOFFSETFROM:+0100
TZOFFSETTO:+0200
TZNAME:CEST
DTSTART:20260329T010000
END:DAYLIGHT
BEGIN:STANDARD
TZOFFSETFROM:+0200
TZOFFSETTO:+0100
TZNAME:CET
DTSTART:20261025T010000
END:STANDARD
END:VTIMEZONE
BEGIN:VEVENT
DTSTART;TZID=Europe/Paris:20250409T103000
DTEND;TZID=Europe/Paris:20250409T210000
DTSTAMP:20260424T223047
CREATED:20250305T155145Z
LAST-MODIFIED:20250305T195620Z
UID:10000496-1744194600-1744232400@15francoallemandeoccitanie.fr
SUMMARY:Concert de Zweierpasch
DESCRIPTION:Groupe de hip-hop originaire de Freiburg et ateliers\nPoétique\, polyphonique\, et engagé avant tout : la formation de HipHop Zweierpasch s’affranchit des barrières et joue avec les frontières\, qu’elles soient musicales ou linguistiques.\nEn 3 temps\, Salle polyvalente de Sommières\, mercredi 9 avril : 10H30 – 12H00 Débat public intergénérationnel sur la place du HipHop en France et en Allemagne avec la modération de Radio Sommières.\n10.30: débat (entrée libre)\n14.30 – 16.00 Atelier d’écriture HipHop en français et allemand (sur inscription)\n19.30 – 21.00 Concert public du groupe Zweierpasch\, avec la participation du groupe d’écriture (entrée libre)
URL:https://15francoallemandeoccitanie.fr/de/evenement/concert-de-zweierpasch/
LOCATION:Salle polyvalente  Espace culturel Lawrence Durrell\, 245 Bd Ernest François\, Sommières\, 30250
ATTACH;FMTTYPE=image/jpeg:https://15francoallemandeoccitanie.fr/wp-content/uploads/2025/03/2025_04_09_Zweierspasch_Sommieres©Panoramique_Pix.jpg
GEO:43.782357;4.092825
X-APPLE-STRUCTURED-LOCATION;VALUE=URI;X-ADDRESS=Salle polyvalente  Espace culturel Lawrence Durrell 245 Bd Ernest François Sommières 30250;X-APPLE-RADIUS=500;X-TITLE=245 Bd Ernest François:geo:4.092825,43.782357
END:VEVENT
END:VCALENDAR