BEGIN:VCALENDAR
VERSION:2.0
PRODID:-//Quinzaine franco-allemande - ECPv6.15.20//NONSGML v1.0//EN
CALSCALE:GREGORIAN
METHOD:PUBLISH
X-WR-CALNAME:Quinzaine franco-allemande
X-ORIGINAL-URL:https://15francoallemandeoccitanie.fr/de/
X-WR-CALDESC:Veranstaltungen für Quinzaine franco-allemande
REFRESH-INTERVAL;VALUE=DURATION:PT1H
X-Robots-Tag:noindex
X-PUBLISHED-TTL:PT1H
BEGIN:VTIMEZONE
TZID:Europe/Paris
BEGIN:DAYLIGHT
TZOFFSETFROM:+0100
TZOFFSETTO:+0200
TZNAME:CEST
DTSTART:20210328T010000
END:DAYLIGHT
BEGIN:STANDARD
TZOFFSETFROM:+0200
TZOFFSETTO:+0100
TZNAME:CET
DTSTART:20211031T010000
END:STANDARD
BEGIN:DAYLIGHT
TZOFFSETFROM:+0100
TZOFFSETTO:+0200
TZNAME:CEST
DTSTART:20220327T010000
END:DAYLIGHT
BEGIN:STANDARD
TZOFFSETFROM:+0200
TZOFFSETTO:+0100
TZNAME:CET
DTSTART:20221030T010000
END:STANDARD
BEGIN:DAYLIGHT
TZOFFSETFROM:+0100
TZOFFSETTO:+0200
TZNAME:CEST
DTSTART:20230326T010000
END:DAYLIGHT
BEGIN:STANDARD
TZOFFSETFROM:+0200
TZOFFSETTO:+0100
TZNAME:CET
DTSTART:20231029T010000
END:STANDARD
END:VTIMEZONE
BEGIN:VEVENT
DTSTART;TZID=Europe/Paris:20221121T130000
DTEND;TZID=Europe/Paris:20221121T170000
DTSTAMP:20260424T183333
CREATED:20221209T084319Z
LAST-MODIFIED:20221209T084727Z
UID:10000066-1669035600-1669050000@15francoallemandeoccitanie.fr
SUMMARY:Migrationssensible Psychotherapie in der Traumaambulanz
DESCRIPTION:Symposium in der LVR-Klinik Bonn im Rahmen der deutsch-französischen „Quinzaine“\nim Rahmen des diesjährigen deutsch-französischen Kulturaustauschs freuen wir uns\, Kolleg*innen aus Toulouse zu begrüßen.\nFachlich möchten wir uns zu den Themen Traumaambulanz und Migration austauschen und hier sowohl Gemeinsamkeiten als auch Unterschiede aus der jeweiligen französischen und deutschen Perspektive diskutieren. \nProgramm \n\nEinführung und Begrüßung\nProf. Dr. Markus Banger\, Ärztlicher Direktor\nDr. Christophe Schmitt\, Präsident CME\nDr. Michael Schormann\, Chefarzt AP II \n\nTraumaambulanz in Bonn und Toulouse:\nAngebot\, Herausforderungen und Erfolg\nAygül Geles\, Psychol. Psychotherapeutin\nDr. Aziga Billot\, Psychiater \n\nPsychotherapeutische Behandlung der Flutopfer\nFranziska von Freymann\, Psychologin \n\nFlüchtlinge aus der Ukraine:\nPsychiatrischer Behandlungsbedarf\nKatharina Velgach\, Oberärztin \n\nPsychopathologie vor dem Hintergrund der Migration (französische und deutsche Perspektive)\nDr. Julien Da Costa\, Psychiater\nAndré Alxas\, Psychiater\nDas gesamte Programm wird simultan übersetzt \n**Die Veranstaltung ist kostenfrei. Die Zertifizierung über die Ärztekammer Nordrhein ist beantragt.\nFür eine Teilnahme vor Ort bitten wir um Anmeldung per E-Mail an carina.lawson@lvr.de**
URL:https://15francoallemandeoccitanie.fr/de/evenement/migrationssensible-psychotherapie-in-der-traumaambulanz/
CATEGORIES:Bürgerschaft,Präsenzveranstaltung,Präsenzveranstaltung,Visiokonferenz,Visiokonferenz,Wirtschaft
ATTACH;FMTTYPE=image/jpeg:https://15francoallemandeoccitanie.fr/wp-content/uploads/2022/12/LVR-klinik-Bonn.jpg
END:VEVENT
END:VCALENDAR