BEGIN:VCALENDAR
VERSION:2.0
PRODID:-//Quinzaine franco-allemande - ECPv6.15.20//NONSGML v1.0//EN
CALSCALE:GREGORIAN
METHOD:PUBLISH
X-WR-CALNAME:Quinzaine franco-allemande
X-ORIGINAL-URL:https://15francoallemandeoccitanie.fr
X-WR-CALDESC:Évènements pour Quinzaine franco-allemande
REFRESH-INTERVAL;VALUE=DURATION:PT1H
X-Robots-Tag:noindex
X-PUBLISHED-TTL:PT1H
BEGIN:VTIMEZONE
TZID:Europe/Paris
BEGIN:DAYLIGHT
TZOFFSETFROM:+0100
TZOFFSETTO:+0200
TZNAME:CEST
DTSTART:20210328T010000
END:DAYLIGHT
BEGIN:STANDARD
TZOFFSETFROM:+0200
TZOFFSETTO:+0100
TZNAME:CET
DTSTART:20211031T010000
END:STANDARD
BEGIN:DAYLIGHT
TZOFFSETFROM:+0100
TZOFFSETTO:+0200
TZNAME:CEST
DTSTART:20220327T010000
END:DAYLIGHT
BEGIN:STANDARD
TZOFFSETFROM:+0200
TZOFFSETTO:+0100
TZNAME:CET
DTSTART:20221030T010000
END:STANDARD
BEGIN:DAYLIGHT
TZOFFSETFROM:+0100
TZOFFSETTO:+0200
TZNAME:CEST
DTSTART:20230326T010000
END:DAYLIGHT
BEGIN:STANDARD
TZOFFSETFROM:+0200
TZOFFSETTO:+0100
TZNAME:CET
DTSTART:20231029T010000
END:STANDARD
END:VTIMEZONE
BEGIN:VEVENT
DTSTART;VALUE=DATE:20221111
DTEND;VALUE=DATE:20221114
DTSTAMP:20260424T141437
CREATED:20221016T201911Z
LAST-MODIFIED:20221016T201911Z
UID:10000082-1668124800-1668383999@15francoallemandeoccitanie.fr
SUMMARY:Weinmesse Metropolregion  Montpellier Südfrankreich
DESCRIPTION:Die Weinmesse findet im Rahmen der Deutsch-Okzitanischen Festwochen statt und wird vom Montpellier-Haus in Zusammenarbeit mit der Metropolregion Montpellier Méditerranée und mit Unterstützung von AOP Languedoc\, IGP34 Hérault und IGP Pays d’Oc organisiert.\nMontpellier verfügt über ein landesweit einzigartiges Weinkulturerbe. Winzer sind unsere Landschaftsarchitekten und der Wein\, seit 2700 Jahren bewahrtes antikes Erbe\,\nbildet ein Markenzeichen der Stadt und eine zukünftige Säule.\nDaher hat die Metropolregion Montpellier 2021 den Wein zum Entwicklungsschwerpunkt erklärt. Unterstützt von Forschungs- und Bildungseinrichtungen rund um Wein und\nGastronomie\, ist das Ziel die Etablierung einer starken internationalen Marke\, die Montpellier zum Status der Hauptstadt des Weins verhelfen soll.\nDie Metropole befindet sich im Herzen der weltweit größten Weinregion – mit 200 Winzern\, darunter 54 unabhängige Produzenten und 3.000 Hektar\, die für 33% der\nfranzösischen Weinproduktion aufkommen. Früh wurde ein Fokus auf Qualität und Naturschutz gelegt (40% mit Bio-Siegel und 80% « Hoher ökologischer Wert »-Siegel).\n\nNutzen Sie die Gelegenheit\, die große Vielfalt der Terroirs zu entdecken und eine breite Auswahl an erlesenen Weinen mit einem\nunvergleichlichen Preis-Leistungs-Verhältnis zu verkosten.\n  \nInfos und Tickets:\nwww.montpellier-haus.de\noder an den üblichen VVKstellen.
URL:https://15francoallemandeoccitanie.fr/evenement/weinmesse-metropolregion-montpellier-sudfrankreich/
LOCATION:Haus der Begegnung\, Eugen-Biser-Saal\, Richard-Hauser-Platz\, Altstadt Heidelberg\, Bade Wurtemberg\, 69117\, Allemagne
ATTACH;FMTTYPE=image/jpeg:https://15francoallemandeoccitanie.fr/wp-content/uploads/2022/10/weinmesse.jpg
ORGANIZER;CN="Maison de Montpellier":MAILTO:jauregui@montpellier-haus.de
END:VEVENT
BEGIN:VEVENT
DTSTART;TZID=Europe/Paris:20221112T173000
DTEND;TZID=Europe/Paris:20221112T210000
DTSTAMP:20260424T141437
CREATED:20220718T130218Z
LAST-MODIFIED:20220718T130218Z
UID:10000068-1668274200-1668286800@15francoallemandeoccitanie.fr
SUMMARY:Concert des Chœurs Franco-Allemands de Bonn et Toulouse
DESCRIPTION:Le Deutsch-Französischer Chor Bonn et le Chœur Franco-Allemand de Toulouse sont tous les deux membres de la Fédération des Chœurs Franco-Allemands dont le siège est à Bonn. Notre fédération\, créée en 1983\, regroupe une vingtaine de chœurs répartis également entre la France et l’Allemagne. Chaque chœur fait régulièrement des rencontres avec les autres chœurs de la fédération. \nLe 12 novembre 2022\, le CFA de Toulouse se déplace à Bonn pour donner en concert avec son alter-égo le Requiem de Charles Gounod et le Requiem de Camille Saint-Saëns. \nLa direction est assurée par Vladimir Tarasov (Bonn) et David NG (Toulouse) \n 
URL:https://15francoallemandeoccitanie.fr/evenement/concert-des-choeurs-franco-allemands-de-bonn-et-toulouse/
LOCATION:Kirche Sankt Aegidius\, Buschdorfer Str. 60\, Bonn\, 53117\, Allemagne
CATEGORIES:Présentiel
ORGANIZER;CN="Choeur Franco-Allemand de Toulouse":MAILTO:cfa-toulouse@cfa-toulouse.org
GEO:51.125126461548;7.0082858647574
X-APPLE-STRUCTURED-LOCATION;VALUE=URI;X-ADDRESS=Kirche Sankt Aegidius Buschdorfer Str. 60 Bonn 53117 Allemagne;X-APPLE-RADIUS=500;X-TITLE=Buschdorfer Str. 60:geo:7.0082858647574,51.125126461548
END:VEVENT
BEGIN:VEVENT
DTSTART;TZID=Europe/Paris:20221112T193000
DTEND;TZID=Europe/Paris:20221112T210000
DTSTAMP:20260424T141437
CREATED:20230102T132257Z
LAST-MODIFIED:20230102T132257Z
UID:10000065-1668281400-1668286800@15francoallemandeoccitanie.fr
SUMMARY:Concert des Chœurs Franco-Allemands de Bonn et Toulouse – Konzert der Deutsch-Französischen Chöre aus Bonn und Toulouse
DESCRIPTION:Le Deutsch-Französischer Chor Bonn reçoit le Chœur Franco-Allemand de Toulouse. Sous la direction de leurs chefs respectifs Vladimir Tarasov et David NG\, ils donneront un concert commun à Bonn. \nAu programme : Requiem de Charles Gounod et Messe de Requiem de Camille Saint-Saëns\nAvec orchestre et quatre solistes \nDate : 12 novembre à 19h30\nLieu : Sankt Aegidius – Buschdorfer Str. 60 – 53117 Bonn-Buschdorf\nEntrée : 15€ (scolaires et étudiants : 8€)
URL:https://15francoallemandeoccitanie.fr/evenement/concert-des-choeurs-franco-allemands-de-bonn-et-toulouse-konzert-der-deutsch-franzosischen-chore-aus-bonn-und-toulouse/
LOCATION:Kirche Sankt Aegidius\, Buschdorfer Str. 60\, Bonn\, 53117\, Allemagne
CATEGORIES:Citoyenneté,Présentiel
ATTACH;FMTTYPE=image/jpeg:https://15francoallemandeoccitanie.fr/wp-content/uploads/2022/09/affiche-Concert-Requiem-Bonn2.jpg
ORGANIZER;CN="Deutsch-Franz&ouml%3Bsischer Chor Bonn":MAILTO:kontakt@dfc-bonn.de﻿
GEO:51.125126461548;7.0082858647574
X-APPLE-STRUCTURED-LOCATION;VALUE=URI;X-ADDRESS=Kirche Sankt Aegidius Buschdorfer Str. 60 Bonn 53117 Allemagne;X-APPLE-RADIUS=500;X-TITLE=Buschdorfer Str. 60:geo:7.0082858647574,51.125126461548
END:VEVENT
END:VCALENDAR