BEGIN:VCALENDAR
VERSION:2.0
PRODID:-//Quinzaine franco-allemande - ECPv6.15.20//NONSGML v1.0//EN
CALSCALE:GREGORIAN
METHOD:PUBLISH
X-ORIGINAL-URL:https://15francoallemandeoccitanie.fr
X-WR-CALDESC:Évènements pour Quinzaine franco-allemande
REFRESH-INTERVAL;VALUE=DURATION:PT1H
X-Robots-Tag:noindex
X-PUBLISHED-TTL:PT1H
BEGIN:VTIMEZONE
TZID:Europe/Paris
BEGIN:DAYLIGHT
TZOFFSETFROM:+0100
TZOFFSETTO:+0200
TZNAME:CEST
DTSTART:20210328T010000
END:DAYLIGHT
BEGIN:STANDARD
TZOFFSETFROM:+0200
TZOFFSETTO:+0100
TZNAME:CET
DTSTART:20211031T010000
END:STANDARD
BEGIN:DAYLIGHT
TZOFFSETFROM:+0100
TZOFFSETTO:+0200
TZNAME:CEST
DTSTART:20220327T010000
END:DAYLIGHT
BEGIN:STANDARD
TZOFFSETFROM:+0200
TZOFFSETTO:+0100
TZNAME:CET
DTSTART:20221030T010000
END:STANDARD
BEGIN:DAYLIGHT
TZOFFSETFROM:+0100
TZOFFSETTO:+0200
TZNAME:CEST
DTSTART:20230326T010000
END:DAYLIGHT
BEGIN:STANDARD
TZOFFSETFROM:+0200
TZOFFSETTO:+0100
TZNAME:CET
DTSTART:20231029T010000
END:STANDARD
END:VTIMEZONE
BEGIN:VEVENT
DTSTART;VALUE=DATE:20221117
DTEND;VALUE=DATE:20221201
DTSTAMP:20260424T131526
CREATED:20221117T002517Z
LAST-MODIFIED:20221117T002517Z
UID:10000094-1668643200-1669852799@15francoallemandeoccitanie.fr
SUMMARY:Exposition de Meissen-Martres: De gestes\, de terre & de feu –------- Meissen-Martres : Von Kunsthandwerk\, Erde und Feuer
DESCRIPTION:Les Arts du Feu ont en commun de transformer par la chaleur la matière en donnant naissance à des objets artisanaux ou artistiques\, des pièces uniques. La rencontre entre deux arts séculaires\, la porcelaine de Meissen en Saxe\, la Faïence de Martres en Occitanie a ainsi donné lieu à une exposition présentée à Meissen du 18 au 30 novembre 2022. \nL’exposition Meissen-Martres : de gestes\, de terre et de feu met ainsi en scène les différentes étapes de fabrication de la faïence d’art de Martres-Tolosane\, dite faïence au grand feu\, des pièces anciennes et des œuvres contemporaines de Colette Berdot et de Stéphanie Joffre. \nCe regard croisé posé sur l’artisanat d’art de Meissen et de Martres-Tolosane s’inscrit dans le cadre de la coopération et les échanges culturels entre l’État Libre de Saxe et la Région Occitanie/Pyrénées Méditerranée\, avec le soutien des deux régions\, de la Ville de Martres-Tolosane\, la Fondation Porcelaine de Meissen\, la Manufacture de Meissen et l’Ambassade de France en Allemagne. \nDans le prolongement de cette exposition\, la Manufacture de Meissen sera l’invitée d’honneur du prochain Salon des Arts et du Feu en octobre 2023 à Martres-Tolosane. \nUn vernissage est prévu le 18 novembre à 18h30 en présence de la Ministre de la Justice\, de la Démocratie\, de l’Europe et de l’égalité Katja Meier ainsi que de Nadia Pellefigue\, vice-présidente en charge de l’Enseignement supérieur recherche\, l’Europe et l’international ainsi que le Maire de Martres-Tolosane Loïc Gojard. \n 
URL:https://15francoallemandeoccitanie.fr/evenement/exposition-de-meissen-martres-de-gestes-de-terre-de-feu-meissen-martres-von-kunsthandwerk-erde-und-feuer/
LOCATION:staatliche porzellan-manufaktur meissen gmbh\, Talstraße 9\, Meissen\, 01662\, Allemagne
ATTACH;FMTTYPE=image/jpeg:https://15francoallemandeoccitanie.fr/wp-content/uploads/2022/11/exposition-meissen.jpg
GEO:51.154793522014;13.464787895103
X-APPLE-STRUCTURED-LOCATION;VALUE=URI;X-ADDRESS=staatliche porzellan-manufaktur meissen gmbh Talstraße 9 Meissen 01662 Allemagne;X-APPLE-RADIUS=500;X-TITLE=Talstraße 9:geo:13.464787895103,51.154793522014
END:VEVENT
BEGIN:VEVENT
DTSTART;TZID=Europe/Paris:20221119T200000
DTEND;TZID=Europe/Paris:20221119T213000
DTSTAMP:20260424T131526
CREATED:20220718T130114Z
LAST-MODIFIED:20220718T130114Z
UID:10000070-1668888000-1668893400@15francoallemandeoccitanie.fr
SUMMARY:¡Dolorès! Un espectaculo total (en recherche lieu d'accueil sur Hamburg\, Stuttgart ou Tübingen)
DESCRIPTION:¡Dolorès! Un espectaculo total\nThéâtre burlesque\nEn allemand/espagnol \nAtypique\, interactif\, féministe\, totalement déjanté…\nUn « one-mujer-show » unique en son genre !\nDolorès revient de sa dernière tournée internationale\net elle est heureuse de partager avec vous sa propre\nvision du flamenco. Le flamenco « Made in Dolores » !\nDans une véritable conférence\, quoique loufoque\,\nelle nous parle de sa vie d’artiste\, de sa carrière…\nAttention! Dolores est un être extrêmement complexe.\nElle recherche l’amour unique et total !\nAttention\, il se peut que ce soit vous… !\nEntre théâtre\, clown et burlesque\, un spectacle\nd’où vous ne sortirez pas indemne. \nAvec une touche de féminisme ce spectacle est idéal pour traiter la question du genre\, les relations H/F. Jean-Christophe Coutaud est germaniste de formation avec des parents qui se sont connus à Hamburg. Il rêve de présenter son travail burlesque sur un évènement permettant de présenter le personnage de Dolorès incarné par Sylvin Rubinstein\, la « Dolorès historique » de Hamburg (http://www.slate.fr/story/157459/sylvin-rubinstein-assassin-nazis-deguisement-femme)\n. Le flamenco est un phénomène intrinsèquement interculturel entre Espagne\, France et Espagne. » ¡Dolorès! Un espectaculo total » en est la preuve … \nMise en scène :\nChristophe Devietti et\nJean-Christophe Coutaud\nJeu :\nJean-Christophe Coutaud\nTous publics dès 7 ans\nAvec le soutien de la Ville de Nîmes et du Conseil départemental du Gard. \n« Le rire qui d’ailleurs a été le fil rouge de la soirée de bout en bout.\nUn rire qui a jailli de scènes mémorables (…). Du burlesque comme annoncé mais du loufoque comme on a peine à l’imaginer.\nBref une bonne tranche de rigolade sans prise de tête pour le plus grand plaisir des amateurs du genre … »\nMIDI LIBRE \nPlus d’infos sur Dolores ?\nTeaser Dolorès : https://www.youtube.com/watch?v=gZ-3hmMoLpY&ab_channel=DoloresFlamencoBurlesque\nSite compagnie Spektra : https://www.compagniespektra.com/
URL:https://15francoallemandeoccitanie.fr/evenement/dolores-un-espectaculo-total-en-recherche-lieu-daccueil-sur-hamburg-stuttgart-ou-tubingen/
LOCATION:Lieu test\, 3 rue des corneilles\, Laverune\, 34000\, Allemagne
CATEGORIES:Présentiel
ATTACH;FMTTYPE=image/jpeg:https://15francoallemandeoccitanie.fr/wp-content/uploads/2022/07/Dolores-2012-scaled.jpg
END:VEVENT
END:VCALENDAR