BEGIN:VCALENDAR
VERSION:2.0
PRODID:-//Quinzaine franco-allemande - ECPv6.15.20//NONSGML v1.0//EN
CALSCALE:GREGORIAN
METHOD:PUBLISH
X-ORIGINAL-URL:https://15francoallemandeoccitanie.fr
X-WR-CALDESC:Évènements pour Quinzaine franco-allemande
REFRESH-INTERVAL;VALUE=DURATION:PT1H
X-Robots-Tag:noindex
X-PUBLISHED-TTL:PT1H
BEGIN:VTIMEZONE
TZID:Europe/Paris
BEGIN:DAYLIGHT
TZOFFSETFROM:+0100
TZOFFSETTO:+0200
TZNAME:CEST
DTSTART:20220327T010000
END:DAYLIGHT
BEGIN:STANDARD
TZOFFSETFROM:+0200
TZOFFSETTO:+0100
TZNAME:CET
DTSTART:20221030T010000
END:STANDARD
BEGIN:DAYLIGHT
TZOFFSETFROM:+0100
TZOFFSETTO:+0200
TZNAME:CEST
DTSTART:20230326T010000
END:DAYLIGHT
BEGIN:STANDARD
TZOFFSETFROM:+0200
TZOFFSETTO:+0100
TZNAME:CET
DTSTART:20231029T010000
END:STANDARD
BEGIN:DAYLIGHT
TZOFFSETFROM:+0100
TZOFFSETTO:+0200
TZNAME:CEST
DTSTART:20240331T010000
END:DAYLIGHT
BEGIN:STANDARD
TZOFFSETFROM:+0200
TZOFFSETTO:+0100
TZNAME:CET
DTSTART:20241027T010000
END:STANDARD
END:VTIMEZONE
BEGIN:VEVENT
DTSTART;TZID=Europe/Paris:20230316T183000
DTEND;TZID=Europe/Paris:20230428T120000
DTSTAMP:20260424T122347
CREATED:20230303T093708Z
LAST-MODIFIED:20230313T093413Z
UID:10000131-1678991400-1682683200@15francoallemandeoccitanie.fr
SUMMARY:Exposition artiste: Kati Gausmann & Muriel Valat-B: entre les lignes // zwischen den linien (Arts graphiques\, peinture et dessin textile)
DESCRIPTION:Sous le titre entre les lignes // zwischen den linien\, Kati Gausmann et Muriel Valat-B déploient un univers subtil de dessins et d’estampes qui traitent aussi bien d’espaces intimes que de rythmes planétaires. Les deux artistes ont en commun leur goût pour le dessin et pour diverses techniques d’impression. Dans le cadre d’un échange franco-allemand en 2021 et 2022\, elles ont partagé le même atelier lors de résidences de création en Occitanie et à Berlin. \nKati Gausmann vit et travaille à Berlin. Le thème essentiel de sa pratique artistique est l’intégration de l’homme dans les mouvements géologiques de la planète Terre. \nMuriel Valat-B vit à Planèzes (66)\, après avoir vécu dix années à Berlin. Sa recherche artistique – gravure et art textile – est traversée par le rapport au texte et à l’écriture. \nPour plus d’informations\, consultez le site internet.
URL:https://15francoallemandeoccitanie.fr/evenement/exposition-artiste-muriel-valat-b-arts-graphiques-peinture-et-dessin-textile/
LOCATION:Maison de Heidelberg\, 4 rueTrésoriers de la Bourse\, Montpellier\, 34000\, France
CATEGORIES:Culture,Présentiel
ATTACH;FMTTYPE=image/jpeg:https://15francoallemandeoccitanie.fr/wp-content/uploads/2023/03/CARTON-MDH_Gausmann-Valat-B_recto.jpg
GEO:43.610022;3.8757307
X-APPLE-STRUCTURED-LOCATION;VALUE=URI;X-ADDRESS=Maison de Heidelberg 4 rueTrésoriers de la Bourse Montpellier 34000 France;X-APPLE-RADIUS=500;X-TITLE=4 rueTrésoriers de la Bourse:geo:3.8757307,43.610022
END:VEVENT
BEGIN:VEVENT
DTSTART;TZID=Europe/Paris:20230401T080000
DTEND;TZID=Europe/Paris:20230421T170000
DTSTAMP:20260424T122347
CREATED:20230321T131514Z
LAST-MODIFIED:20230331T111508Z
UID:10000150-1680336000-1682096400@15francoallemandeoccitanie.fr
SUMMARY:Saison culturelle franco-allemande au Crès
DESCRIPTION:A l’occasion de l’ouverture de la QFAO 2023 la mairie de Crès organise une journée thématique sur l’Allemagne en partenariat avec l’association Connaissance et Partage (Agora – entrée libre). \nPlusieurs dates à inscrire dans votre agenda:  \n  \n\n Du 01 au 21/04 : 2 expositions (Agora- entrée libre) \n\n=> salle 1 : Toute l’Allemagne : Klee\, Richter\, Beethoven\, Brandebourg\, Döblin et bien d’autres à découvrir (réalisation Service Culture) \n=> salle 2 : Bouleversements à l’Est\, des vies chamboulées : réalisation par Ambassade d’Allemagne (Allemagne Diplomatie) \n  \n\nDu 04 au 06/04 : projection pour les scolaires (secondaires) GoodBye Lenin !\n\nDe Wolfgang Becker en VO sous-titrée (sur réservation) suivi d’un petit goûter allemand \n  \n\n05/04 après-midi : projection pour les familles du Jumelage et grand public (entrée libre)\n05/04 après-midi : inauguration du corner allemand à la médiathèque : magazines\, livres\, documents bilingues\, auteurs allemands et documentation sur Unterschleissheim\n06/04 à 18h : lancement du club cosmopolite (Europe et ailleurs !) à l’Agora : 1ère rencontre et bière de l’amitié\, entrée libre\n\n  \n\n13/04 : Duo Eos concert\n\nProgramme en lien avec le fil directeur de la saison Théâtre Agora sur l’Allemagne \n14h30 accueil des scolaires (élémentaire) \n20h30 Ouverture au grand public
URL:https://15francoallemandeoccitanie.fr/evenement/2719/
LOCATION:Agora le Crès\, Voie Domitienne\, Le Crès\, 34920
CATEGORIES:Culture,Éducation,Présentiel,Présentiel
ATTACH;FMTTYPE=image/jpeg:https://15francoallemandeoccitanie.fr/wp-content/uploads/2023/03/Agora-le-Cres_free_format.jpg
GEO:43.6486621;3.9311546
X-APPLE-STRUCTURED-LOCATION;VALUE=URI;X-ADDRESS=Agora le Crès Voie Domitienne Le Crès 34920;X-APPLE-RADIUS=500;X-TITLE=Voie Domitienne:geo:3.9311546,43.6486621
END:VEVENT
BEGIN:VEVENT
DTSTART;TZID=Europe/Paris:20230401T180000
DTEND;TZID=Europe/Paris:20230528T000000
DTSTAMP:20260424T122347
CREATED:20230329T213459Z
LAST-MODIFIED:20230329T213459Z
UID:10000171-1680372000-1685232000@15francoallemandeoccitanie.fr
SUMMARY:UN TEMPS FILAIRE a threaded time
DESCRIPTION:Galerie Lligat [hors les murs] présente\, sur une invitation de Layla Moget\,\nUN TEMPS FILAIRE a threaded time\nNadia Lichtig et Muriel Valat-B\nSélection d’œuvres sur toile et textile\n_\nOn parle fréquemment dans nos sociétés connectées de la technologie filaire pour désigner des protocoles d’implémentation de systèmes de communication numérique. Ainsi le câble de cuivre ou la fibre optique se disputent la vitesse de connexion et de transmission des données. Hartmut Rosa note qu’à « l’ère de la mondialisation et du règne de l’actualité que représente internet\, le temps est de plus en plus conçu comme un élément de compression ou même d’annihilation de l’espace». Mais si la technologie filaire contracte le temps et l’espace\, et produit ainsi une accélération sociale\, nous voulons penser un autre temps filaire\, un temps qui étire\, tisse et tresse nos existences et nos récits intimes. \nFiler en français c’est travailler le fil et la trame mais c’est aussi fuir\, partir soudainement\, je file quand je décide de disparaître\, quand je décide de faire avec la disparition. Rien de commun avec la compression mais a contrario\, ce sont de longs processus plastiques de redéfinition des espaces intimes et émotionnels qui sont convoqués et intriqués ici jusqu’à dissoudre les matériaux dans d’autres formes d’existences. Ce temps filaire qui spatialise\, étire ou met le temps à l’arrêt\, est mis en demeure dans les œuvres de Nadia Lichtig et de Muriel Valat-B. Les séries Pictures of Nothing ou Pelha sont avant tout des gestes qui se tiennent dans le temps long et l’étendue\, entre héritage et témoignage\, chacune accordant à la reprise une puissance de réinvention\, d’oscillation entre épanouissement et évanouissement.
URL:https://15francoallemandeoccitanie.fr/evenement/un-temps-filaire-a-threaded-time/
LOCATION:L.A.C. Lieu d’Art Contemporain Sigean\, 1 rue de la Berre Hameau du Lac\, Sigean\, Occitanie\, 11130\, France
CATEGORIES:Présentiel
ATTACH;FMTTYPE=image/png:https://15francoallemandeoccitanie.fr/wp-content/uploads/2023/03/20230323_UN-TEMPS-FILAIRE-AFFICHE-NL.png
ORGANIZER;CN="Galerie Lligat":MAILTO:contact@galerielligat.com
GEO:43.056906;2.963007
X-APPLE-STRUCTURED-LOCATION;VALUE=URI;X-ADDRESS=L.A.C. Lieu d’Art Contemporain Sigean 1 rue de la Berre Hameau du Lac Sigean Occitanie 11130 France;X-APPLE-RADIUS=500;X-TITLE=1 rue de la Berre Hameau du Lac:geo:2.963007,43.056906
END:VEVENT
BEGIN:VEVENT
DTSTART;VALUE=DATE:20230403
DTEND;VALUE=DATE:20230422
DTSTAMP:20260424T122347
CREATED:20230326T200133Z
LAST-MODIFIED:20230326T200133Z
UID:10000159-1680480000-1682121599@15francoallemandeoccitanie.fr
SUMMARY:Exposition "Les relations franco-allemandes. Une amitié féconde au service de l’Europe"
DESCRIPTION:Où en est la coopération franco-allemande ? Qu’a-t-elle apporté à l’Europe ? * \nComment l’amitié se décline-t-elle au quotidien entre Français et Allemands ? \nTels sont les thèmes abordés par cette exposition riche de 26 panneaux et de près de 45 photos et documents. Pour découvrir une aventure inédite au service de la paix. \n\nExposition prêtée par l’ambassade.
URL:https://15francoallemandeoccitanie.fr/evenement/exposition-les-relations-franco-allemandes-une-amitie-feconde-au-service-de-leurope/
LOCATION:Maison de ma Région – Perpignan\, 35 boulevard Saint-Assiscle\, Perpignan\, Occitanie\, 66000\, France
CATEGORIES:Citoyenneté,Culture,Présentiel,Présentiel
ATTACH;FMTTYPE=image/jpeg:https://15francoallemandeoccitanie.fr/wp-content/uploads/2023/03/les-relations-franco-allemandes.jpg
GEO:42.6966774;2.8785213
X-APPLE-STRUCTURED-LOCATION;VALUE=URI;X-ADDRESS=Maison de ma Région – Perpignan 35 boulevard Saint-Assiscle Perpignan Occitanie 66000 France;X-APPLE-RADIUS=500;X-TITLE=35 boulevard Saint-Assiscle:geo:2.8785213,42.6966774
END:VEVENT
BEGIN:VEVENT
DTSTART;VALUE=DATE:20230403
DTEND;VALUE=DATE:20230422
DTSTAMP:20260424T122347
CREATED:20230326T201713Z
LAST-MODIFIED:20230326T201713Z
UID:10000161-1680480000-1682121599@15francoallemandeoccitanie.fr
SUMMARY:Exposition "L'Allemagne et la France\, un demi-siècle d'amitié et de coopération"
DESCRIPTION:Comment les peuples français et allemand sont-ils parvenus à prendre le chemin de l’amitié après des décennies de haine et de guerres ? \n Leurs pères\, leurs grands-pères et leurs arrière-grands-pères se sont affrontés sur les champs de bataille. Le froid\, la boue\, les bombardements\, les privations\, la violence\, les deuils : entre 1870 et 1945\, les peuples allemand et français ne se sont épargné aucune souffrance. \n Pourtant\, le 22 janvier 1963\, le général de Gaulle et le chancelier Konrad Adenauer scellaient la réconciliation franco-allemande par le traité de l’Elysée\, ouvrant la voie à une amitié et à une coopération uniques au monde\, ainsi qu’à la construction d’une Europe pacifique.  \nCinquante ans après\, la réconciliation franco-allemande apparaît ainsi porteuse d’un message d’espoir. Peut-elle servir de modèle pour d’autres pays ou régions du monde ? L’exposition pose la question et apporte des éléments de réponse. Une chose est sûre : le sujet passionne sur tous les continents. Proposée par Allemagne Diplomatie aux ambassades allemandes à l’étranger\, l’exposition « L’Allemagne et la France\, un demi-siècle d’amitié et de coopération » a suscité un véritable engouement. Déjà traduite dans une dizaine de langues\, elle a voyagé en 2013 dans plus de 60 pays.
URL:https://15francoallemandeoccitanie.fr/evenement/exposition-lallemagne-et-la-france-un-demi-siecle-damitie-et-de-cooperation/
LOCATION:Maison de ma Région de Castres\, 40 All. Alphonse Juin\, Castres\, Occitanie\, 81100\, France
CATEGORIES:Citoyenneté,Éducation,Présentiel,Présentiel
ATTACH;FMTTYPE=image/jpeg:https://15francoallemandeoccitanie.fr/wp-content/uploads/2023/03/50-ans-traite-elysee-galeriebild-data.jpg
GEO:43.6003133;2.238831
X-APPLE-STRUCTURED-LOCATION;VALUE=URI;X-ADDRESS=Maison de ma Région de Castres 40 All. Alphonse Juin Castres Occitanie 81100 France;X-APPLE-RADIUS=500;X-TITLE=40 All. Alphonse Juin:geo:2.238831,43.6003133
END:VEVENT
BEGIN:VEVENT
DTSTART;TZID=Europe/Paris:20230403T080000
DTEND;TZID=Europe/Paris:20230421T170000
DTSTAMP:20260424T122347
CREATED:20230316T105720Z
LAST-MODIFIED:20230316T105720Z
UID:10000138-1680508800-1682096400@15francoallemandeoccitanie.fr
SUMMARY:Amitié franco-allemand (concours de production artistique)
DESCRIPTION:La section de l’Allemand au Lycée Jean-Monnet est composée d’une petite équipe de deux professeurs et parfois d’un(e) assistant(e) de langue. Les cours sont dispensés dans le cadre du tronc commun des enseignements obligatoires de la Seconde à la Terminale\, avec les horaires réglementaires. \nLe choix de l’Allemand comme langue vivante scolaire est d’ailleurs une excellente préparation à la vie après le Baccalauréat. Dans les différents cursus universitaires et professionnels\, il existe de plus en plus de diplômes franco-allemands dans lesquels la maitrise de l’Allemand est indispensable.  Être germaniste est aussi un atout majeur sur le marché de travail en général\, non seulement dans le tourisme. L’Allemagne est le premier partenaire économique et politique de la France et de grandes firmes allemandes implantées en France ont des difficultés à trouver du  personnel capable de s’exprimer en allemand. \nBeaucoup d’élèves du Lycée Jean Monnet sont intéressés par les matières artistiques. A l’occasion de la Quinzaine franco allemande d’Occitanie\, un concours sur l’amitié franco-allemande sera organisé par les professeurs d’allemand du 03 au 21.04.2023. \nLes œuvres des élèves seront exposées au CDI et récompensées par un présent pour leur investissement.
URL:https://15francoallemandeoccitanie.fr/evenement/amitie-franco-allemand-concours-de-production-artistique/
LOCATION:Lycee Jean Monnet\, Rue de Malbosc\,\, Montpellier\, 34080\, France
CATEGORIES:Présentiel
ATTACH;FMTTYPE=image/jpeg:https://15francoallemandeoccitanie.fr/wp-content/uploads/2023/03/LyceeJeanMonnetMontpellier_panoramique.jpg
ORGANIZER;CN="LYCEE JEAN MONNET MONTPELLIER":MAILTO:ce.0341736c@ac-montpellier.fr
GEO:43.6318601;3.8311588
X-APPLE-STRUCTURED-LOCATION;VALUE=URI;X-ADDRESS=Lycee Jean Monnet Rue de Malbosc Montpellier 34080 France;X-APPLE-RADIUS=500;X-TITLE=Rue de Malbosc\,:geo:3.8311588,43.6318601
END:VEVENT
BEGIN:VEVENT
DTSTART;TZID=Europe/Paris:20230403T080000
DTEND;TZID=Europe/Paris:20230421T170000
DTSTAMP:20260424T122347
CREATED:20230326T201013Z
LAST-MODIFIED:20230326T201013Z
UID:10000160-1680508800-1682096400@15francoallemandeoccitanie.fr
SUMMARY:Exposition "Contes de Grimm : l’indicible émotion
DESCRIPTION:Illustrations de Chiara Arsego  » prêtée par les services de l’Ambassade. \nHansel et Gretel\, le Petit Chaperon rouge\, la Belle au bois dormant… de nombreux contes de Grimm sont profondément ancrés dans la culture allemande. \nAujourd’hui comme hier\, les petits découvrent avec émerveillement l’univers magique des deux frères. Leur recueil Contes de l’enfance et du foyer figure parmi les livres les plus célèbres et répandus de la littérature allemande. Ils sont aujourd’hui classés au Patrimoine documentaire de l’UNESCO.
URL:https://15francoallemandeoccitanie.fr/evenement/exposition-contes-de-grimm-lindicible-emotion/
LOCATION:Maison de ma Région Carcassonne\, 5 rue Aimé Ramond\, Carcassonne\, Occitanie\, 11000\, France
CATEGORIES:Citoyenneté,Éducation,Présentiel,Présentiel
ATTACH;FMTTYPE=image/jpeg:https://15francoallemandeoccitanie.fr/wp-content/uploads/2023/03/conte-grimm-galeriebild-data.jpg
GEO:43.2118039;2.3547817
X-APPLE-STRUCTURED-LOCATION;VALUE=URI;X-ADDRESS=Maison de ma Région Carcassonne 5 rue Aimé Ramond Carcassonne Occitanie 11000 France;X-APPLE-RADIUS=500;X-TITLE=5 rue Aimé Ramond:geo:2.3547817,43.2118039
END:VEVENT
BEGIN:VEVENT
DTSTART;TZID=Europe/Paris:20230404T140000
DTEND;TZID=Europe/Paris:20230421T190000
DTSTAMP:20260424T122347
CREATED:20230307T133231Z
LAST-MODIFIED:20230407T141154Z
UID:10000113-1680616800-1682103600@15francoallemandeoccitanie.fr
SUMMARY:Exposition « L’Allemagne\, un portrait »
DESCRIPTION:Dans le cadre de la quinzaine franco-allemande impulsée par la Région Occitanie Pyrénées Méditerranée\, et ses partenaires\, la Maison de Ma région d’Alès et des acteurs alésiens proposent plusieurs animations du 3 au 21 avril :\n\n\n\nDu 4 au 21 avril aux Archives municipales de la ville d’Alès :\nExposition “Allemagne\, un portrait”\nDu Mardi au Vendredi de 14h à 18h (pour les scolaires sur réservation au 04 67 17 88 30)\n\n\nLe 5 avril à 17h30 aux Archives municipales de la ville d’’Alès\n« De part et d’autre du Rhin » animé par Michael Stange\, directeur de la Maison de l’Europe de Nîmes – Centre Europe Direct.\nVernissage et lancement de la quinzaine avec\, dans le cadre des 60 ans du Traité de l’Elysée et de l’amitié franco-allemande\, une présentation de l’actualité et des dispositifs qui font vivre le couple franco-allemand et un Quiz interactif pour mieux connaître l’Allemagne.\n\n\nLe vendredi 14 avril à 19h à la cave Papilles au nez\nDégustation de vins allemands et vernissage de l’exposition des œuvres de Julia Kaulbach\, artiste peintre en lien avec l’association Chemins d’art. L’exposition sera visible du 3 au 21 avril à la cave Papilles au nez.\n\n\nLe samedi 15 avril de 10h à 11h30 à la Médiathèque Alphonse Daudet d’Alès \nCafé voyageurs : Destination Allemagne\, venez partager vos bons plans pour visiter l’Allemagne.\n\nDu 21 au 23 Avril : Randonnée sur les pas de Stevenson et des CamisardsOrganisée par le FIRA\, Sur le chemin de Stevenson\, Sur les pas des Huguenots\, Cévennes Tourisme et s’inscrivant dans les Itinéraires Culturels Européens (ICE). Informations et réservation auprès du FIRA : lefira@orange.fr\n\n\nPour plus d’informations\, merci de consulter le site internet
URL:https://15francoallemandeoccitanie.fr/evenement/exposition-lallemagne-un-portrait/
LOCATION:Archives Municipales Alès\, 4\, boulevard Gambetta\, ALES\, ALES\, 30100\, France
CATEGORIES:Présentiel
ATTACH;FMTTYPE=image/jpeg:https://15francoallemandeoccitanie.fr/wp-content/uploads/2023/03/MMR_ALES_EXPO_PHOTOS_ALLEMAGNE_COUV-FB.jpg
ORGANIZER;CN="Maison de Ma R%C3%A9gion Al%C3%A8s":MAILTO:maisonregion.ales@laregion.fr
GEO:44.1217596;4.0849988
X-APPLE-STRUCTURED-LOCATION;VALUE=URI;X-ADDRESS=Archives Municipales Alès 4 boulevard Gambetta ALES ALES 30100 France;X-APPLE-RADIUS=500;X-TITLE=4\, boulevard Gambetta:geo:4.0849988,44.1217596
END:VEVENT
BEGIN:VEVENT
DTSTART;TZID=Europe/Paris:20230411T093000
DTEND;TZID=Europe/Paris:20230412T173000
DTSTAMP:20260424T122347
CREATED:20230321T080508Z
LAST-MODIFIED:20230402T095827Z
UID:10000148-1681205400-1681320600@15francoallemandeoccitanie.fr
SUMMARY:Les assises franco-allemandes de la filière bois et forêt
DESCRIPTION:Entre l’Allemagne et la France\, les forêts ne connaissent pas de frontières\, les problématiques liées à l’usage multifonctionnel des forêts doivent être partagées. C’est tout l’objectif des échanges et des ateliers de travail qui auront lieu sur ces deux jours.\n \nAlors que l’Hérault était fortement touché par les feux de forêt\, été 2022\, le Land allemand de Brandebourg était touché fortement par les flammes soit l’équivalent de près de 1.200 terrains de football. De\nmême pour le parc national de la Suisse saxonne\, près de Dresde.\n \nUn tiers du territoire allemand est constitué de forêts\, l’Allemagne recherche donc à coopérer sur la pérennité des pratiques de gestion forestière des communautés ainsi qu’aux futurs impacts de la\ndégradation des forêts. \nCe forum est une occasion de mettre en place une collaboration bilatérale à plusieurs niveaux : la gestion\, la mobilisation\, développer la concertation internationale « européenne »\, la contractualisation et une politique du bois énergie commune.\n \n11.04.2023\, Hémicycle\, Hôtel de Région de Montpellier\n\nTable ronde 1 : Quelle place pour la forêt et l’arbre en ville ?\nTable ronde 2 : Comment accompagner nos forêts pour faire face au\nchangement climatique ?\nTable ronde 3 : Comment faire comprendre la nécessité de récolte\net d’entretien des territoires forestiers ? \n\nAteliers pédagogiques sur les nouveaux métiers de la filière « bois »\nprévus sur place\nPrésentation de projets réalisés en collaboration avec lee Lycée international Jules Guesde avec un groupe d’élèves de première européenne.\nEncadrants: Me Brouillet (professeur d’allemand LJG)\, Me Hausberger (SVT allemand)\, Me Pourcel (Relations internationales). Ateliers de création artistique (fabrication d’objets en bois\, conte sur le thème de la forêt et de la biodiversité). \n  \n\n12.04.2023\, Lycée privé agricole\, Vallée de l’Hérault\n\nTable ronde 1: La gestion des feux de forêts\, prévention & lutte\nTable ronde 2: L’introduction du bois dans la construction\n \nPLACE LIMITEE\, inscription ici
URL:https://15francoallemandeoccitanie.fr/evenement/les-assises-franco-allemandes-de-la-filiere-bois-et-foret/
LOCATION:Hémicycle Hôtel de Région Montpellier\, Av. de la Pompignane\, Montpellier\, 34000\, France
CATEGORIES:Distanciel,Économie,Présentiel
ATTACH;FMTTYPE=image/png:https://15francoallemandeoccitanie.fr/wp-content/uploads/2023/03/Visuel-1080px_STD_Quinzaine-franco-allemande-2023.png
GEO:43.6141176;3.8980883
X-APPLE-STRUCTURED-LOCATION;VALUE=URI;X-ADDRESS=Hémicycle Hôtel de Région Montpellier Av. de la Pompignane Montpellier 34000 France;X-APPLE-RADIUS=500;X-TITLE=Av. de la Pompignane:geo:3.8980883,43.6141176
END:VEVENT
BEGIN:VEVENT
DTSTART;TZID=Europe/Paris:20230412T103000
DTEND;TZID=Europe/Paris:20230412T120000
DTSTAMP:20260424T122347
CREATED:20230402T101001Z
LAST-MODIFIED:20230402T101001Z
UID:10000193-1681295400-1681300800@15francoallemandeoccitanie.fr
SUMMARY:S'implanter et se développer en Allemagne
DESCRIPTION:Une conférence en ligne pour découvrir comment s’implanter et se développer en Allemagne. \nEn 2022\, on dénombre plus de 5 500 filiales françaises en Allemagne (>50 % du capital). \nL’Allemagne représente à elle seule 21 % du PIB de l’UE. Face à un tel potentiel et aux attentes en matière de relations client/fournisseur\, la présence locale est bien la stratégie gagnante : un véritable accélérateur de business ! \nAu travers de cet atelier\, vous trouverez toutes les informations sur les formes d’implantations\, les structures d’entreprises\, leur fonctionnement au quotidien sur les aspects juridiques fiscaux RH et de recrutement\, ainsi qu’un focus sur la possibilités de croissance externe pour accélérer l’accès au marché. \n  \nPROGRAMME \n\nApproche stratégique du marché allemand\nStratégies d’implantation en Allemagne\nRecruter\, fidéliser et motiver ses collaborateurs\n„Les spécificités d’Allemagne de l’Est – la FIOst »\n\n  \nInscription ICI
URL:https://15francoallemandeoccitanie.fr/evenement/simplanter-et-se-developper-en-allemagne/
LOCATION:CCI Occitanie Blagnac\, 5 Rue Dieudonné Costes\, Blagnac\, Occitanie\, 31700\, France
CATEGORIES:Distanciel,Économie
ATTACH;FMTTYPE=image/jpeg:https://15francoallemandeoccitanie.fr/wp-content/uploads/2023/04/atelier-1.jpg
GEO:43.6318293;1.3789938
X-APPLE-STRUCTURED-LOCATION;VALUE=URI;X-ADDRESS=CCI Occitanie Blagnac 5 Rue Dieudonné Costes Blagnac Occitanie 31700 France;X-APPLE-RADIUS=500;X-TITLE=5 Rue Dieudonné Costes:geo:1.3789938,43.6318293
END:VEVENT
BEGIN:VEVENT
DTSTART;TZID=Europe/Paris:20230412T180000
DTEND;TZID=Europe/Paris:20230412T210000
DTSTAMP:20260424T122347
CREATED:20230413T185824Z
LAST-MODIFIED:20230413T185824Z
UID:10000204-1681322400-1681333200@15francoallemandeoccitanie.fr
SUMMARY:Ciné Débat autour du film « La Vague »
DESCRIPTION:Projection du film « La Vague » au sein du Point Info Jeunes de Montpellier.\nSuivi d’un débat autour des thématiques du film
URL:https://15francoallemandeoccitanie.fr/evenement/cine-debat-autour-du-film-la-vague/
LOCATION:Infojeunes Montpellier\, 6 rue d'Obilion\, Montpellier\, HÉRAULT\, 34000\, France
CATEGORIES:Présentiel
ATTACH;FMTTYPE=image/png:https://15francoallemandeoccitanie.fr/wp-content/uploads/2023/04/Poster-brocante-vintage-telephone-et-fond-rouge.png
ORGANIZER;CN="CRIJ OCCITANIE":MAILTO:LUCAS.GUILLOT@PROTON.ME
GEO:43.6068856;3.8795034
X-APPLE-STRUCTURED-LOCATION;VALUE=URI;X-ADDRESS=Infojeunes Montpellier 6 rue d'Obilion Montpellier HÉRAULT 34000 France;X-APPLE-RADIUS=500;X-TITLE=6 rue d'Obilion:geo:3.8795034,43.6068856
END:VEVENT
BEGIN:VEVENT
DTSTART;TZID=Europe/Paris:20230412T200000
DTEND;TZID=Europe/Paris:20230412T220000
DTSTAMP:20260424T122347
CREATED:20230330T165619Z
LAST-MODIFIED:20230330T165823Z
UID:10000184-1681329600-1681336800@15francoallemandeoccitanie.fr
SUMMARY:Concert - Le chant des arbres
DESCRIPTION:Le 12 avril 2023 l’association « Allemagne Occitanie l’Europe au Coeur » en partenariat avec Fibois Occitanie\,  la Vallée de l’Hérault et la commune de Gignac vous invite à un concert de musique afin de clôturer le forum économique et citoyen sur le thème « les assises franco-allemandes de la filière bois et forêt ». \nCette session musicale vous plongera en deux temps dans un univers singulier. \n  \n\nPartie 1: Duo Movimento\n\nInspirées par le livre de l’auteur allemand Peter Wohlleben\, « La vie secrète des arbres »\, le groupe Duo Movimento emmène le public dans un voyage sonore des racines à la couronne des arbres. Des extraits du livre se mêlent à la musique\, reflétant toute la palette des sentiments que nous évoquent les arbres. \nChristiane Reiling (violoncelliste allemande) et Bérengère Le Boulair (violoniste française) se sont rencontrées au Nord de l’Allemagne\, dans la région Schleswig-Holstein. L’approfondissement de leur amitié\, par le biais de la musique\, les a conduites à réfléchir artistiquement sur leurs différences culturelles. \n  \n\nPartie 2: L’Orchestre de Chambre du Languedoc\n\nRéunis autour de son directeur artistique et violon solo Alexandre Benderski\, les solistes de l’OCL interpréteront un répertoire à l’image du thème de la soirée. \n  \nMusiciens: \nAlexandre et Katia BENDERSKI\, violons \nAntoine FEYTIS/ Marina CAPSTICK\, altos \nJanice RENAU/ Boris BARAZ\, violoncelles \n  \nENTREE LIBRE SOUS INSCRIPTION ici \n 
URL:https://15francoallemandeoccitanie.fr/evenement/concert-le-chant-des-arbres/
LOCATION:Sonambule\, 2 Av. du Mas Salat\, Gignac\, 34150\, France
CATEGORIES:Culture,Présentiel
ATTACH;FMTTYPE=image/jpeg:https://15francoallemandeoccitanie.fr/wp-content/uploads/2023/03/Les-assises-du-bois-concert.jpg
ORGANIZER;CN="Allemagne Occitanie L'Europe au COeur":MAILTO:fanny.czajkowski@allemagne-occitanie.eu
GEO:43.6558917;3.5457731
X-APPLE-STRUCTURED-LOCATION;VALUE=URI;X-ADDRESS=Sonambule 2 Av. du Mas Salat Gignac 34150 France;X-APPLE-RADIUS=500;X-TITLE=2 Av. du Mas Salat:geo:3.5457731,43.6558917
END:VEVENT
END:VCALENDAR