BEGIN:VCALENDAR
VERSION:2.0
PRODID:-//Quinzaine franco-allemande - ECPv6.15.20//NONSGML v1.0//EN
CALSCALE:GREGORIAN
METHOD:PUBLISH
X-ORIGINAL-URL:https://15francoallemandeoccitanie.fr
X-WR-CALDESC:Évènements pour Quinzaine franco-allemande
REFRESH-INTERVAL;VALUE=DURATION:PT1H
X-Robots-Tag:noindex
X-PUBLISHED-TTL:PT1H
BEGIN:VTIMEZONE
TZID:Europe/Paris
BEGIN:DAYLIGHT
TZOFFSETFROM:+0100
TZOFFSETTO:+0200
TZNAME:CEST
DTSTART:20220327T010000
END:DAYLIGHT
BEGIN:STANDARD
TZOFFSETFROM:+0200
TZOFFSETTO:+0100
TZNAME:CET
DTSTART:20221030T010000
END:STANDARD
BEGIN:DAYLIGHT
TZOFFSETFROM:+0100
TZOFFSETTO:+0200
TZNAME:CEST
DTSTART:20230326T010000
END:DAYLIGHT
BEGIN:STANDARD
TZOFFSETFROM:+0200
TZOFFSETTO:+0100
TZNAME:CET
DTSTART:20231029T010000
END:STANDARD
BEGIN:DAYLIGHT
TZOFFSETFROM:+0100
TZOFFSETTO:+0200
TZNAME:CEST
DTSTART:20240331T010000
END:DAYLIGHT
BEGIN:STANDARD
TZOFFSETFROM:+0200
TZOFFSETTO:+0100
TZNAME:CET
DTSTART:20241027T010000
END:STANDARD
END:VTIMEZONE
BEGIN:VEVENT
DTSTART;TZID=Europe/Paris:20230316T183000
DTEND;TZID=Europe/Paris:20230428T120000
DTSTAMP:20260420T113827
CREATED:20230303T093708Z
LAST-MODIFIED:20230313T093413Z
UID:10000131-1678991400-1682683200@15francoallemandeoccitanie.fr
SUMMARY:Exposition artiste: Kati Gausmann & Muriel Valat-B: entre les lignes // zwischen den linien (Arts graphiques\, peinture et dessin textile)
DESCRIPTION:Sous le titre entre les lignes // zwischen den linien\, Kati Gausmann et Muriel Valat-B déploient un univers subtil de dessins et d’estampes qui traitent aussi bien d’espaces intimes que de rythmes planétaires. Les deux artistes ont en commun leur goût pour le dessin et pour diverses techniques d’impression. Dans le cadre d’un échange franco-allemand en 2021 et 2022\, elles ont partagé le même atelier lors de résidences de création en Occitanie et à Berlin. \nKati Gausmann vit et travaille à Berlin. Le thème essentiel de sa pratique artistique est l’intégration de l’homme dans les mouvements géologiques de la planète Terre. \nMuriel Valat-B vit à Planèzes (66)\, après avoir vécu dix années à Berlin. Sa recherche artistique – gravure et art textile – est traversée par le rapport au texte et à l’écriture. \nPour plus d’informations\, consultez le site internet.
URL:https://15francoallemandeoccitanie.fr/evenement/exposition-artiste-muriel-valat-b-arts-graphiques-peinture-et-dessin-textile/
LOCATION:Maison de Heidelberg\, 4 rueTrésoriers de la Bourse\, Montpellier\, 34000\, France
CATEGORIES:Culture,Présentiel
ATTACH;FMTTYPE=image/jpeg:https://15francoallemandeoccitanie.fr/wp-content/uploads/2023/03/CARTON-MDH_Gausmann-Valat-B_recto.jpg
GEO:43.610022;3.8757307
X-APPLE-STRUCTURED-LOCATION;VALUE=URI;X-ADDRESS=Maison de Heidelberg 4 rueTrésoriers de la Bourse Montpellier 34000 France;X-APPLE-RADIUS=500;X-TITLE=4 rueTrésoriers de la Bourse:geo:3.8757307,43.610022
END:VEVENT
BEGIN:VEVENT
DTSTART;TZID=Europe/Paris:20230401T180000
DTEND;TZID=Europe/Paris:20230528T000000
DTSTAMP:20260420T113827
CREATED:20230329T213459Z
LAST-MODIFIED:20230329T213459Z
UID:10000171-1680372000-1685232000@15francoallemandeoccitanie.fr
SUMMARY:UN TEMPS FILAIRE a threaded time
DESCRIPTION:Galerie Lligat [hors les murs] présente\, sur une invitation de Layla Moget\,\nUN TEMPS FILAIRE a threaded time\nNadia Lichtig et Muriel Valat-B\nSélection d’œuvres sur toile et textile\n_\nOn parle fréquemment dans nos sociétés connectées de la technologie filaire pour désigner des protocoles d’implémentation de systèmes de communication numérique. Ainsi le câble de cuivre ou la fibre optique se disputent la vitesse de connexion et de transmission des données. Hartmut Rosa note qu’à « l’ère de la mondialisation et du règne de l’actualité que représente internet\, le temps est de plus en plus conçu comme un élément de compression ou même d’annihilation de l’espace». Mais si la technologie filaire contracte le temps et l’espace\, et produit ainsi une accélération sociale\, nous voulons penser un autre temps filaire\, un temps qui étire\, tisse et tresse nos existences et nos récits intimes. \nFiler en français c’est travailler le fil et la trame mais c’est aussi fuir\, partir soudainement\, je file quand je décide de disparaître\, quand je décide de faire avec la disparition. Rien de commun avec la compression mais a contrario\, ce sont de longs processus plastiques de redéfinition des espaces intimes et émotionnels qui sont convoqués et intriqués ici jusqu’à dissoudre les matériaux dans d’autres formes d’existences. Ce temps filaire qui spatialise\, étire ou met le temps à l’arrêt\, est mis en demeure dans les œuvres de Nadia Lichtig et de Muriel Valat-B. Les séries Pictures of Nothing ou Pelha sont avant tout des gestes qui se tiennent dans le temps long et l’étendue\, entre héritage et témoignage\, chacune accordant à la reprise une puissance de réinvention\, d’oscillation entre épanouissement et évanouissement.
URL:https://15francoallemandeoccitanie.fr/evenement/un-temps-filaire-a-threaded-time/
LOCATION:L.A.C. Lieu d’Art Contemporain Sigean\, 1 rue de la Berre Hameau du Lac\, Sigean\, Occitanie\, 11130\, France
CATEGORIES:Présentiel
ATTACH;FMTTYPE=image/png:https://15francoallemandeoccitanie.fr/wp-content/uploads/2023/03/20230323_UN-TEMPS-FILAIRE-AFFICHE-NL.png
ORGANIZER;CN="Galerie Lligat":MAILTO:contact@galerielligat.com
GEO:43.056906;2.963007
X-APPLE-STRUCTURED-LOCATION;VALUE=URI;X-ADDRESS=L.A.C. Lieu d’Art Contemporain Sigean 1 rue de la Berre Hameau du Lac Sigean Occitanie 11130 France;X-APPLE-RADIUS=500;X-TITLE=1 rue de la Berre Hameau du Lac:geo:2.963007,43.056906
END:VEVENT
BEGIN:VEVENT
DTSTART;TZID=Europe/Paris:20230415T080000
DTEND;TZID=Europe/Paris:20230531T170000
DTSTAMP:20260420T113827
CREATED:20230503T164908Z
LAST-MODIFIED:20230503T165228Z
UID:10000221-1681545600-1685552400@15francoallemandeoccitanie.fr
SUMMARY:APPEL À CANDIDATURES : DESTINATION ALLEMAGNE
DESCRIPTION:Entrepreneurs\, vous souhaitez vous déployer à l’international ? Candidatez au programme d’échanges entre entreprises « Destination Allemagne » organisé par la Métropole de Montpellier et la Ville de Heidelberg.  \n\nCandidatez avant le 31 mai\, cliquez ici\n\nMontpellier Méditerranée Métropole et la Ville de Heidelberg organisent et financent un programme d’accompagnement des entreprises : Destination Allemagne.\nCe programme se concentre autour de deux missions d’affaires organisées à l’automne 2023\, l’une à Heidelberg et l’autre à Montpellier et d’un programme d’accompagnement proposé par RAFAL et ses consultants.\n\nObjectifs de ce programme\n\n\nAccompagner 5 entreprises allemandes de la Ville de Heidelberg et 5 entreprises françaises de la Métropole de Montpellier dans leur démarche d’internationalisation à destination de la région Rhin Neckar ou Occitanie.\nFavoriser le développement des entreprises accompagnées en leur donnant accès à un tissu économique et partenarial international dynamique.\n\nSi vous désirez des informations complémentaires\, cliquez ici.
URL:https://15francoallemandeoccitanie.fr/evenement/appel-a-candidatures-destination-allemagne/
LOCATION:Montpellier Méditerranée Métropole\, 50\, place Zeus\, Montpellier\, Occitanie\, 34961\, France
CATEGORIES:Économie,Présentiel
ATTACH;FMTTYPE=image/jpeg:https://15francoallemandeoccitanie.fr/wp-content/uploads/2023/05/2023.05.03-Business-Exchange-Program-multilingual-banner.jpg
ORGANIZER;CN="Montpellier M%C3%A9diterran%C3%A9e M%C3%A9tropole":MAILTO:b.gilles@montpellier3m.fr
GEO:43.6077027;3.890756
X-APPLE-STRUCTURED-LOCATION;VALUE=URI;X-ADDRESS=Montpellier Méditerranée Métropole 50 place Zeus Montpellier Occitanie 34961 France;X-APPLE-RADIUS=500;X-TITLE=50\, place Zeus:geo:3.890756,43.6077027
END:VEVENT
BEGIN:VEVENT
DTSTART;TZID=Europe/Paris:20230417T080000
DTEND;TZID=Europe/Paris:20230522T170000
DTSTAMP:20260420T113827
CREATED:20230329T064028Z
LAST-MODIFIED:20230401T150505Z
UID:10000167-1681718400-1684774800@15francoallemandeoccitanie.fr
SUMMARY:Exposition « les œuvres célèbres revisitées » par les étudiants du collège Hubertine Auclert
DESCRIPTION:Cette année\, trois classes de germanistes travaillent ensemble afin de mettre en place une exposition. \n\nLes cinquièmes et quatrièmes travailleront sur l’art et proposeront des reproductions de tableaux et/ou sculptures d’artistes allemands et une courte biographie de chaque créatrice ou créateur.\nLes troisièmes organiseront des panneaux autour des villes et Länder allemands.\n\nL’exposition sera réalisée en partenariat avec le CDI et installée dans le hall du collège. \nLors du vernissage ( date à définir)\, les élèves chanteront un répertoire d’artistes allemand. \nTous les personnels du collège  seront conviés à partager un repas à la cantine afin de découvrir des spécialités culinaires allemandes. \n  \nIllustration photo de l’artiste « Caspar David Friedrich ».
URL:https://15francoallemandeoccitanie.fr/evenement/exposition-les-oeuvres-celebres-revisitees-par-les-etudiants-du-college-hubertine-auclert/
LOCATION:Collège Hubertine Auclert\, 12\, rue Georges Ohnet\, Toulouse\, 31200\, France
CATEGORIES:Éducation,Présentiel
ATTACH;FMTTYPE=image/jpeg:https://15francoallemandeoccitanie.fr/wp-content/uploads/2023/03/20160719_154452-scaled.jpg
ORGANIZER;CN="Coll%C3%A8ge Hubertine Auclert":MAILTO:0311111P@ac-toulouse.fr &lt;0311111P@ac-toulouse.fr
GEO:43.6370672;1.4700648
X-APPLE-STRUCTURED-LOCATION;VALUE=URI;X-ADDRESS=Collège Hubertine Auclert 12 rue Georges Ohnet Toulouse 31200 France;X-APPLE-RADIUS=500;X-TITLE=12\, rue Georges Ohnet:geo:1.4700648,43.6370672
END:VEVENT
BEGIN:VEVENT
DTSTART;TZID=Europe/Paris:20230417T110000
DTEND;TZID=Europe/Paris:20230502T170000
DTSTAMP:20260420T113827
CREATED:20230413T185005Z
LAST-MODIFIED:20230413T185005Z
UID:10000215-1681729200-1683046800@15francoallemandeoccitanie.fr
SUMMARY:Exposition "Allemagne\, un portrait" par l’Ambassade de la République Fédérale d’Allemagne
DESCRIPTION:Dans le cadre de la Quinzaine franco-allemande en Occitanie\, la Maison de Ma Région à Nîmes organise\, du 17 avril au 2 mai\, une exposition intitulée « Allemagne\, un portait » proposée par l’Ambassade de la République Fédérale d’Allemagne. Elle est gratuite et ouverte tous les jours sauf le week-end et jours fériés aux horaires d’ouverture de la Maison de ma Région\, 3 place des arènes.\nDécouvrez ou redécouvrez votre pays voisin à travers des photos de ses régions\, ses villes et ses paysages naturels. \nL’Allemagne est un pays d’une grande diversité où les fêtes traditionnelles côtoient les festivals de musique moderne\, où des maisons à colombages se mélangent aux gratte-ciel les plus modernes\, où la littérature et le théâtre jouent depuis toujours un rôle primordial. \nEntre la coupole du Reichstag à Berlin\, le Thomanerchor de Leipzig\, les musées high-tech des constructeurs automobiles\, le côté « gemütlich » des marchés de Noël et le romantisme de villes telles que Heidelberg\, laissez-vous emporter par le charme de cette nouvelle exposition qui vous fait voyager à travers l’Allemagne… \nChaque panneau est agrémenté d’un petit texte explicatif. \nRDV le 20 avril à 18 h00 avec Michaël STANGE\, Directeur de la Maison de l’Europe\, pour le vernissage et le lancement de la quinzaine avec\, dans le cadre des 60 ans du Traité de l’Élysée et de l’amitié franco-allemande\, une présentation de l’actualité et des dispositifs qui font vivre le couple franco-allemand et un Quiz interactif pour mieux connaître l’Allemagne. \nEn savoir plus que la Quinzaine : https://15francoallemandeoccitanie.fr
URL:https://15francoallemandeoccitanie.fr/evenement/exposition-allemagne-un-portrait-par-lambassade-de-la-republique-federale-dallemagne/
LOCATION:Maison de ma Région de Nîmes\, 3 place des arènes\, Nimes\, 30000\, France
CATEGORIES:Présentiel
ATTACH;FMTTYPE=image/jpeg:https://15francoallemandeoccitanie.fr/wp-content/uploads/2023/04/MMR_NIMES_EXPO_ALLEMAGNE_POST-FB.jpg
ORGANIZER;CN="Maison de Ma r%C3%A9gion N%C3%AEmes":MAILTO:maisonregion.nimes@laregion.fr
GEO:43.833912;4.3603267
X-APPLE-STRUCTURED-LOCATION;VALUE=URI;X-ADDRESS=Maison de ma Région de Nîmes 3 place des arènes Nimes 30000 France;X-APPLE-RADIUS=500;X-TITLE=3 place des arènes:geo:4.3603267,43.833912
END:VEVENT
END:VCALENDAR