BEGIN:VCALENDAR
VERSION:2.0
PRODID:-//Quinzaine franco-allemande - ECPv6.15.20//NONSGML v1.0//EN
CALSCALE:GREGORIAN
METHOD:PUBLISH
X-ORIGINAL-URL:https://15francoallemandeoccitanie.fr
X-WR-CALDESC:Évènements pour Quinzaine franco-allemande
REFRESH-INTERVAL;VALUE=DURATION:PT1H
X-Robots-Tag:noindex
X-PUBLISHED-TTL:PT1H
BEGIN:VTIMEZONE
TZID:Europe/Paris
BEGIN:DAYLIGHT
TZOFFSETFROM:+0100
TZOFFSETTO:+0200
TZNAME:CEST
DTSTART:20250330T010000
END:DAYLIGHT
BEGIN:STANDARD
TZOFFSETFROM:+0200
TZOFFSETTO:+0100
TZNAME:CET
DTSTART:20251026T010000
END:STANDARD
BEGIN:DAYLIGHT
TZOFFSETFROM:+0100
TZOFFSETTO:+0200
TZNAME:CEST
DTSTART:20260329T010000
END:DAYLIGHT
BEGIN:STANDARD
TZOFFSETFROM:+0200
TZOFFSETTO:+0100
TZNAME:CET
DTSTART:20261025T010000
END:STANDARD
BEGIN:DAYLIGHT
TZOFFSETFROM:+0100
TZOFFSETTO:+0200
TZNAME:CEST
DTSTART:20270328T010000
END:DAYLIGHT
BEGIN:STANDARD
TZOFFSETFROM:+0200
TZOFFSETTO:+0100
TZNAME:CET
DTSTART:20271031T010000
END:STANDARD
END:VTIMEZONE
BEGIN:VEVENT
DTSTART;VALUE=DATE:20260202
DTEND;VALUE=DATE:20260401
DTSTAMP:20260419T172130
CREATED:20260322T150343Z
LAST-MODIFIED:20260322T150526Z
UID:10007425-1769990400-1775001599@15francoallemandeoccitanie.fr
SUMMARY:Regards croisés : La résistance en France et Widerstand in Deutschland
DESCRIPTION:Dans le cadre de l’échange franco-allemand\, les élèves allemands et français vont croiser leurs regards sur la résistance contre le national-socialisme en France ET en Allemagne. A travers quelques personnages emblématiques des DEUX pays qui étaient engagés contre le nazisme\, ils comprendront les enjeux\, les différences et les ressemblances dans ces combats courageux qui peuvent servir d’exemple et nourrir une réflexion sur la démocratie et le courage et l’engagement qu’il faut pour la défendre. Une exposition sera le fruit de ce travail commun. Elle sera montrée au lycée de Bad Bergzabern\, en Allemagne et ensuite au lycée Docteur Lacroix à Narbonne.
URL:https://15francoallemandeoccitanie.fr/evenement/regards-croises-la-resistance-en-france-et-widerstand-in-deutschland/
LOCATION:Lycée Docteur Lacroix Rue Gay Lussac\, Narbonne\, 11100
CATEGORIES:Citoyenneté,Culture,Éducation,Éducation Jeunesse,Jeunesse,Présentiel,Présentiel,Présentiel
ATTACH;FMTTYPE=image/jpeg:https://15francoallemandeoccitanie.fr/wp-content/uploads/2026/03/2026_02-03_Resistance_Fr-All_03-e1774191910942.jpg
GEO:43.184277;3.003078
END:VEVENT
BEGIN:VEVENT
DTSTART;VALUE=DATE:20260213
DTEND;VALUE=DATE:20260418
DTSTAMP:20260419T172130
CREATED:20260322T150934Z
LAST-MODIFIED:20260322T151057Z
UID:10007426-1770940800-1776470399@15francoallemandeoccitanie.fr
SUMMARY:« Komm\, wir lesen ! » : lire et donner envie de lire !
DESCRIPTION:Le projet « Komm\, wir lesen ! » est une collaboration entre Madame Stieber-Fabre\, enseignante en allemand et Madame Granier\, professeure documentaliste. Il s’adresse aux élèves germanistes de seconde générale. Le but est de permettre aux élèves de découvrir la culture allemande via des ouvrages variés disponibles au CDI (romans\, romans-graphiques\, BD et documentaires\, traduits en français ou en version bilingue). Les élèves réaliseront une critique attrayante de leur ouvrage sous forme de podcast. Durant la quinzaine\, ces podcasts seront mis en ligne sur le site du CDI et les livres présentés seront accessibles à l’ensemble de la communauté du lycée. Une présentation orale en allemand dans le cadre du cours clôturera le projet.
URL:https://15francoallemandeoccitanie.fr/evenement/20782/
LOCATION:Lycée Bazille – Agropolis\, 3224 roue de Mende\, Montpellier\, 34090\, France
CATEGORIES:Citoyenneté,Éducation,Éducation Jeunesse,Jeunesse,Présentiel,Présentiel
ATTACH;FMTTYPE=image/jpeg:https://15francoallemandeoccitanie.fr/wp-content/uploads/2026/03/2026_02_13-04_17_Agropolis-scaled-e1774192163310.jpg
END:VEVENT
BEGIN:VEVENT
DTSTART;TZID=Europe/Paris:20260310T000000
DTEND;TZID=Europe/Paris:20260419T000000
DTSTAMP:20260419T172130
CREATED:20260302T184318Z
LAST-MODIFIED:20260414T075353Z
UID:10001055-1773100800-1776556800@15francoallemandeoccitanie.fr
SUMMARY:Échange étudiant franco-allemand - Technologies durables: Découvrons et imaginons ensemble
DESCRIPTION:Échange étudiant entre l’école d’ingénieur ICAM – site de Toulouse – et la HBRS située à Sankt Augustin près de Bonn (NRW)\nL’échange est composé d’un projet pédagogique autour du thème des technologies durables qui aura lieu en ligne. Les étudiants travailleront ensemble en binômes binationaux puis les deux groupes se rencontreront à Toulouse. Ils visiteront des entreprises et découvriront des initiatives pour une vie plus durable à Toulouse.\nIls visiteront également la ville et passeront de bons moments ensemble. \nCet échange a été rendu possible grâce au financement de l’OFAJ. \nPhoto © ICAM \n   
URL:https://15francoallemandeoccitanie.fr/evenement/echange-etudiant-franco-allemand-technologies-durables-decouvrons-et-imaginons-ensemble-2/
LOCATION:ICAM\, 75 avenue de Grance-Bretagne\, Toulouse\, 31300\, France
CATEGORIES:Citoyenneté,Culture,Éducation,Éducation Jeunesse,ESR,Présentiel,Présentiel,Présentiel
ATTACH;FMTTYPE=image/jpeg:https://15francoallemandeoccitanie.fr/wp-content/uploads/2026/03/2026_03_10-04_19_ICAM_Site-scaled-e1774195455205.jpg
GEO:43.5983923;1.4153156
X-APPLE-STRUCTURED-LOCATION;VALUE=URI;X-ADDRESS=ICAM 75 avenue de Grance-Bretagne Toulouse 31300 France;X-APPLE-RADIUS=500;X-TITLE=75 avenue de Grance-Bretagne:geo:1.4153156,43.5983923
END:VEVENT
BEGIN:VEVENT
DTSTART;TZID=Europe/Paris:20260322T000000
DTEND;TZID=Europe/Paris:20260329T000000
DTSTAMP:20260419T172130
CREATED:20260302T184355Z
LAST-MODIFIED:20260302T184355Z
UID:10001070-1774137600-1774742400@15francoallemandeoccitanie.fr
SUMMARY:Projet Erasmus+ entre le lycée René Gosse et le Celeanum Gymnasium (Zwolle\, Pays-Bas)
DESCRIPTION:Dans le cadre d’un projet Erasmus+\, 15 élèves de seconde du Lycée René Gosse ont eu l’opportunité de partir aux Pays-Bas en novembre pour rencontrer et travailler avec des élèves italiens\, néerlandais et allemands autour du thème de l’eau « In nurture\, futures grow – where water\, words and friendship flow ». En amont de notre rencontre aux Pays-Bas\, les germanistes du lycée sont entrés en contact avec les élèves allemands\, ce qui leur a permis de faire connaissance et de progresser dans la langue de Goethe. Par ailleurs\, même si l’anglais a été la principale langue d’échanges et de travail sur place\, les élèves se sont rendu compte de la proximité linguistique entre les 3 langues : néerlandais\, anglais et allemand. Ces similitudes feront l’objet d’un travail en atelier lorsque nous recevrons les correspondants néerlandais en avril\, ce qui sera l’occasion de réfléchir aux ponts que l’on peut faire entre ces différentes langues parlées en Europe et dans le monde.
URL:https://15francoallemandeoccitanie.fr/evenement/projet-erasmus-entre-le-lycee-rene-gosse-et-le-celeanum-gymnasium-zwolle-pays-bas-2/
CATEGORIES:Citoyenneté,Éducation Jeunesse
END:VEVENT
BEGIN:VEVENT
DTSTART;TZID=Europe/Paris:20260324T000000
DTEND;TZID=Europe/Paris:20260331T000000
DTSTAMP:20260419T172130
CREATED:20260302T184410Z
LAST-MODIFIED:20260322T185258Z
UID:10001074-1774310400-1774915200@15francoallemandeoccitanie.fr
SUMMARY:Échange scolaire - Schüleraustausch "Zusammen morgen gestalten"
DESCRIPTION:Échange scolaire – Schüleraustausch « Zusammen morgen gestalten »\nLes défis face à la dégradation de notre environnement sont devenus une réelle préoccupation de nos jours partout dans le monde. Inclure la jeunesse à la réflexion sur la thématique semble primordial. Notre empreinte individuelle mais surtout collective représente dans cette réflexion un point crucial. Quel rôle joue-t-on en tant qu’acteur responsable par rapport au changement climatique et de la pollution de notre environnement qui a un impact bien au-delà des frontières.\nCe projet scolaire vise à rassembler des élèves de Muret et de Dresde autour d’un projet commun afin de leur permettre de trouver ensemble des visions et solutions pour se sentir acteur positif face aux défis environnementaux. Grâce à cet échange inter-culturel et un travail commun en groupes mixtes\, les élèves pourront non seulement progresser au niveau de leurs compétences linguistiques et sociales mais aussi au niveau de leur capacité de chercher des solutions créatives et innovantes ensemble. \nIllustration: © Andreas Metallerreni
URL:https://15francoallemandeoccitanie.fr/evenement/echange-scolaire-schuleraustausch-zusammen-morgen-gestalten-2/
LOCATION:Dresde\, Saxe\, Germany
CATEGORIES:Citoyenneté,Éducation Jeunesse
ATTACH;FMTTYPE=image/jpeg:https://15francoallemandeoccitanie.fr/wp-content/uploads/2026/03/andreasmetallerreni-frauenkirche-dresden-e1774205519733.jpg
GEO:51.165691;10.451526
END:VEVENT
BEGIN:VEVENT
DTSTART;TZID=Europe/Paris:20260325T000000
DTEND;TZID=Europe/Paris:20260408T000000
DTSTAMP:20260419T172130
CREATED:20260302T184424Z
LAST-MODIFIED:20260402T111035Z
UID:10001077-1774396800-1775606400@15francoallemandeoccitanie.fr
SUMMARY:"ConnecThéo": Agir pour la démocratie et pour la paix dans une Europe de la diversité
DESCRIPTION:Dans le contexte de l’histoire mouvementée de Strasbourg\, les participants se penchent sur les millions de victimes de la 1ère guerre mondiale et les différentes formes de commémoration qui leur sont consacrées\, découvrent les institutions européennes garantes de paix et mettent concrètement en pratique la réconciliation de l’amitié franco-allemande dans le projet médiatique UnioNet.eu\n– novembre 2025 – mars 2026: échanges virtuels avec des élèves du lycée allemand de Andernach sur le thème de la mémoire et des sujets sociétaux avec productions (à travers des sondages réalisés suite à des articles de UnioNet sur des thèmes sociétaux.)\n– 25/03 : départ pour Strasbourg et rencontre avec nos partenaires allemands d’UnioNet pour visiter la ville et réaliser des ateliers pour développer notre partenariat médiatique.\n– 26/03 matin: Visite-travail au coeur du média européen Arte\n– 26/03 après-midi: Visite guidée et interactive du lieu de mémoire de Schirmeck\, mémorial d’Alsace-Moselle\n– 27/03: Visite du quartier européen et accueil au Parlement européen à 14h\nRetour train de nuit. Arrivée 28/03 à Tarbes\nSemaine du 2 au 8 avril: Restitution\, affichage\, publications pendant la QFAO. Exposition ouverte à tous. \n \nhttps://www.unionet.eu/
URL:https://15francoallemandeoccitanie.fr/evenement/connectheo-agir-pour-la-democratie-et-pour-la-paix-dans-une-europe-de-la-diversite-2/
LOCATION:Lycée Théophile Gautier\, 15 rue Abbé Torne\, Tarbes\, 65000\, France
CATEGORIES:Citoyenneté,Culture,Éducation,Éducation Jeunesse,Jeunesse,Présentiel,Présentiel
ATTACH;FMTTYPE=image/png:https://15francoallemandeoccitanie.fr/wp-content/uploads/2026/03/QFAO-2026-THEOPHILE-GAUTIER-1-e1775048215998.png
END:VEVENT
BEGIN:VEVENT
DTSTART;TZID=Europe/Paris:20260326T133000
DTEND;TZID=Europe/Paris:20260327T130000
DTSTAMP:20260419T172130
CREATED:20260322T193042Z
LAST-MODIFIED:20260322T193042Z
UID:10007432-1774531800-1774616400@15francoallemandeoccitanie.fr
SUMMARY:Acceptabilité sociale des énergies renouvelables en France et en Allemagne - Regards croisés sur les discours\, débats et discordes
DESCRIPTION:Le colloque pluridisciplinaire vise à explorer et contraster les divers discours politiques\, médiatiques et publicitaires qui ont émergé autour des énergies renouvelables ces 30 dernières années en Allemagne et en France pour retracer les arguments pour et contre ces installations mis en avant par les différents acteurs. L’objectif du colloque n’est pas seulement de faire dialoguer différentes disciplines comme la linguistique\, la sociologie\, le droit\, la géographie et les sciences politiques mais aussi d’inscrire les contributions dans une perspective comparative afin de cerner les similitudes et les différences qui existent dans les discours et les débats. La prise en compte de l’hétérogénéité sociale des acteurs ainsi que la diversité des débats actuels ou permettent d’étudier l’acceptation et la contestation sous différents angles.
URL:https://15francoallemandeoccitanie.fr/evenement/acceptabilite-sociale-des-energies-renouvelables-en-france-et-en-allemagne-regards-croises-sur-les-discours-debats-et-discordes-2/
LOCATION:Université Montpellier Paul-Valéry\, site Saint-Charles\, salle des colloques 1\, 71 rue du Pr Henri serre\, Montpellier\, 34000\, France
CATEGORIES:Citoyenneté,Éducation,Éducation Jeunesse,ESR,Présentiel,Présentiel
ATTACH;FMTTYPE=image/jpeg:https://15francoallemandeoccitanie.fr/wp-content/uploads/2026/03/2026_03_26-27_Colloque_EnR-e1774207421480.jpg
END:VEVENT
BEGIN:VEVENT
DTSTART;TZID=Europe/Paris:20260327T140000
DTEND;TZID=Europe/Paris:20260327T140000
DTSTAMP:20260419T172130
CREATED:20260302T184439Z
LAST-MODIFIED:20260322T193203Z
UID:10001082-1774620000-1774620000@15francoallemandeoccitanie.fr
SUMMARY:Comment construire l’acceptabilité sociale des énergies renouvelables sur nos territoires ? Regards croisés franco-allemands
DESCRIPTION:Comment construire l’acceptabilité sociale des énergies renouvelables sur nos territoires ? Regards croisés franco-allemands\nL’enjeu de la transition énergétique s’inscrit au cœur de l’engagement européen dans la lutte contre le changement climatique et revêt une importance majeure dans les politiques énergétiques des pays membres de l’UE\, dont l’Allemagne et la France. Pour autant\, le développement des énergies renouvelables et les divers modes de production qui s’y rattachent sont confrontés à une acceptabilité relative\, voire incertaine au sein des territoires. Dès lors\, comment concilier les projets énergétiques et d’autres enjeux vécus parfois comme antagonistes (biodiversité\, activités agricoles et halieutiques\, tourisme…) ? Deux tables rondes traiteront de ce sujet avec des intervenants allemands et français\, en considérant d’une part la question des cadres politique et normatif permettant de concilier acceptabilité sociale et aménagement \, d’autre part\, les relations entre les acteurs (opérateurs\, groupements d’intérêt\, associations citoyennes ou agences publiques) impliqués dans des développements emblématiques en Occitanie et dans le Brandebourg. \nAccès conférence: Tram Place Albert 1er – St Charles
URL:https://15francoallemandeoccitanie.fr/evenement/comment-construire-lacceptabilite-sociale-des-energies-renouvelables-sur-nos-territoires-regards-croises-franco-allemands-2/
LOCATION:Université Montpellier Paul-Valéry\, site Saint-Charles\, salle des colloques 1\, 71 rue du Pr Henri serre\, Montpellier\, 34000\, France
CATEGORIES:Citoyenneté,Éducation,ESR,Présentiel,Présentiel
ATTACH;FMTTYPE=image/jpeg:https://15francoallemandeoccitanie.fr/wp-content/uploads/2026/03/2026_03_26-27_Colloque_EnR-e1774207421480.jpg
END:VEVENT
END:VCALENDAR