BEGIN:VCALENDAR
VERSION:2.0
PRODID:-//Quinzaine franco-allemande - ECPv6.15.20//NONSGML v1.0//EN
CALSCALE:GREGORIAN
METHOD:PUBLISH
X-WR-CALNAME:Quinzaine franco-allemande
X-ORIGINAL-URL:https://15francoallemandeoccitanie.fr
X-WR-CALDESC:Évènements pour Quinzaine franco-allemande
REFRESH-INTERVAL;VALUE=DURATION:PT1H
X-Robots-Tag:noindex
X-PUBLISHED-TTL:PT1H
BEGIN:VTIMEZONE
TZID:Europe/Paris
BEGIN:DAYLIGHT
TZOFFSETFROM:+0100
TZOFFSETTO:+0200
TZNAME:CEST
DTSTART:20250330T010000
END:DAYLIGHT
BEGIN:STANDARD
TZOFFSETFROM:+0200
TZOFFSETTO:+0100
TZNAME:CET
DTSTART:20251026T010000
END:STANDARD
BEGIN:DAYLIGHT
TZOFFSETFROM:+0100
TZOFFSETTO:+0200
TZNAME:CEST
DTSTART:20260329T010000
END:DAYLIGHT
BEGIN:STANDARD
TZOFFSETFROM:+0200
TZOFFSETTO:+0100
TZNAME:CET
DTSTART:20261025T010000
END:STANDARD
BEGIN:DAYLIGHT
TZOFFSETFROM:+0100
TZOFFSETTO:+0200
TZNAME:CEST
DTSTART:20270328T010000
END:DAYLIGHT
BEGIN:STANDARD
TZOFFSETFROM:+0200
TZOFFSETTO:+0100
TZNAME:CET
DTSTART:20271031T010000
END:STANDARD
END:VTIMEZONE
BEGIN:VEVENT
DTSTART;VALUE=DATE:20260213
DTEND;VALUE=DATE:20260418
DTSTAMP:20260421T134758
CREATED:20260322T150934Z
LAST-MODIFIED:20260322T151057Z
UID:10007426-1770940800-1776470399@15francoallemandeoccitanie.fr
SUMMARY:« Komm\, wir lesen ! » : lire et donner envie de lire !
DESCRIPTION:Le projet « Komm\, wir lesen ! » est une collaboration entre Madame Stieber-Fabre\, enseignante en allemand et Madame Granier\, professeure documentaliste. Il s’adresse aux élèves germanistes de seconde générale. Le but est de permettre aux élèves de découvrir la culture allemande via des ouvrages variés disponibles au CDI (romans\, romans-graphiques\, BD et documentaires\, traduits en français ou en version bilingue). Les élèves réaliseront une critique attrayante de leur ouvrage sous forme de podcast. Durant la quinzaine\, ces podcasts seront mis en ligne sur le site du CDI et les livres présentés seront accessibles à l’ensemble de la communauté du lycée. Une présentation orale en allemand dans le cadre du cours clôturera le projet.
URL:https://15francoallemandeoccitanie.fr/evenement/20782/
LOCATION:Lycée Bazille – Agropolis\, 3224 roue de Mende\, Montpellier\, 34090\, France
CATEGORIES:Citoyenneté,Éducation,Éducation Jeunesse,Jeunesse,Présentiel,Présentiel
ATTACH;FMTTYPE=image/jpeg:https://15francoallemandeoccitanie.fr/wp-content/uploads/2026/03/2026_02_13-04_17_Agropolis-scaled-e1774192163310.jpg
END:VEVENT
BEGIN:VEVENT
DTSTART;TZID=Europe/Paris:20260310T000000
DTEND;TZID=Europe/Paris:20260419T000000
DTSTAMP:20260421T134758
CREATED:20260302T184318Z
LAST-MODIFIED:20260414T075353Z
UID:10001055-1773100800-1776556800@15francoallemandeoccitanie.fr
SUMMARY:Échange étudiant franco-allemand - Technologies durables: Découvrons et imaginons ensemble
DESCRIPTION:Échange étudiant entre l’école d’ingénieur ICAM – site de Toulouse – et la HBRS située à Sankt Augustin près de Bonn (NRW)\nL’échange est composé d’un projet pédagogique autour du thème des technologies durables qui aura lieu en ligne. Les étudiants travailleront ensemble en binômes binationaux puis les deux groupes se rencontreront à Toulouse. Ils visiteront des entreprises et découvriront des initiatives pour une vie plus durable à Toulouse.\nIls visiteront également la ville et passeront de bons moments ensemble. \nCet échange a été rendu possible grâce au financement de l’OFAJ. \nPhoto © ICAM \n   
URL:https://15francoallemandeoccitanie.fr/evenement/echange-etudiant-franco-allemand-technologies-durables-decouvrons-et-imaginons-ensemble-2/
LOCATION:ICAM\, 75 avenue de Grance-Bretagne\, Toulouse\, 31300\, France
CATEGORIES:Citoyenneté,Culture,Éducation,Éducation Jeunesse,ESR,Présentiel,Présentiel,Présentiel
ATTACH;FMTTYPE=image/jpeg:https://15francoallemandeoccitanie.fr/wp-content/uploads/2026/03/2026_03_10-04_19_ICAM_Site-scaled-e1774195455205.jpg
GEO:43.5983923;1.4153156
X-APPLE-STRUCTURED-LOCATION;VALUE=URI;X-ADDRESS=ICAM 75 avenue de Grance-Bretagne Toulouse 31300 France;X-APPLE-RADIUS=500;X-TITLE=75 avenue de Grance-Bretagne:geo:1.4153156,43.5983923
END:VEVENT
BEGIN:VEVENT
DTSTART;TZID=Europe/Paris:20260325T000000
DTEND;TZID=Europe/Paris:20260408T000000
DTSTAMP:20260421T134758
CREATED:20260302T184424Z
LAST-MODIFIED:20260402T111035Z
UID:10001077-1774396800-1775606400@15francoallemandeoccitanie.fr
SUMMARY:"ConnecThéo": Agir pour la démocratie et pour la paix dans une Europe de la diversité
DESCRIPTION:Dans le contexte de l’histoire mouvementée de Strasbourg\, les participants se penchent sur les millions de victimes de la 1ère guerre mondiale et les différentes formes de commémoration qui leur sont consacrées\, découvrent les institutions européennes garantes de paix et mettent concrètement en pratique la réconciliation de l’amitié franco-allemande dans le projet médiatique UnioNet.eu\n– novembre 2025 – mars 2026: échanges virtuels avec des élèves du lycée allemand de Andernach sur le thème de la mémoire et des sujets sociétaux avec productions (à travers des sondages réalisés suite à des articles de UnioNet sur des thèmes sociétaux.)\n– 25/03 : départ pour Strasbourg et rencontre avec nos partenaires allemands d’UnioNet pour visiter la ville et réaliser des ateliers pour développer notre partenariat médiatique.\n– 26/03 matin: Visite-travail au coeur du média européen Arte\n– 26/03 après-midi: Visite guidée et interactive du lieu de mémoire de Schirmeck\, mémorial d’Alsace-Moselle\n– 27/03: Visite du quartier européen et accueil au Parlement européen à 14h\nRetour train de nuit. Arrivée 28/03 à Tarbes\nSemaine du 2 au 8 avril: Restitution\, affichage\, publications pendant la QFAO. Exposition ouverte à tous. \n \nhttps://www.unionet.eu/
URL:https://15francoallemandeoccitanie.fr/evenement/connectheo-agir-pour-la-democratie-et-pour-la-paix-dans-une-europe-de-la-diversite-2/
LOCATION:Lycée Théophile Gautier\, 15 rue Abbé Torne\, Tarbes\, 65000\, France
CATEGORIES:Citoyenneté,Culture,Éducation,Éducation Jeunesse,Jeunesse,Présentiel,Présentiel
ATTACH;FMTTYPE=image/png:https://15francoallemandeoccitanie.fr/wp-content/uploads/2026/03/QFAO-2026-THEOPHILE-GAUTIER-1-e1775048215998.png
END:VEVENT
BEGIN:VEVENT
DTSTART;TZID=Europe/Paris:20260328T000000
DTEND;TZID=Europe/Paris:20260410T000000
DTSTAMP:20260421T134758
CREATED:20260302T184440Z
LAST-MODIFIED:20260302T184440Z
UID:10001085-1774656000-1775779200@15francoallemandeoccitanie.fr
SUMMARY:Échange intrafamilial et culturel Bamberg - Rodez
DESCRIPTION:Accueil de 49 collégiens et lycéens de Bamberg dans le cadre de l’échange interfamilial et culturel organisé par le comité de jumelage. Thématique du séjour : eau et environnement.
URL:https://15francoallemandeoccitanie.fr/evenement/echange-intrafamilial-et-culturel-bamberg-rodez-2/
LOCATION:Rodez\, Place Eugène-Raynaldy\, Rodez\, Occitanie\, 12000\, France
CATEGORIES:Citoyenneté,Culture,Éducation Jeunesse
GEO:44.3492617;2.5764991
X-APPLE-STRUCTURED-LOCATION;VALUE=URI;X-ADDRESS=Rodez Place Eugène-Raynaldy Rodez Occitanie 12000 France;X-APPLE-RADIUS=500;X-TITLE=Place Eugène-Raynaldy:geo:2.5764991,44.3492617
END:VEVENT
BEGIN:VEVENT
DTSTART;TZID=Europe/Paris:20260402T000000
DTEND;TZID=Europe/Paris:20260416T000000
DTSTAMP:20260421T134758
CREATED:20260302T184509Z
LAST-MODIFIED:20260402T112157Z
UID:10001093-1775088000-1776297600@15francoallemandeoccitanie.fr
SUMMARY:À la découverte de l'Allemagne!
DESCRIPTION:Les élèves germanistes du collège des Quatre Saisons ont créé des jeux (escape game et trivial pursuit) pour faire découvrir la culture allemande aux élèves non germanistes de l’établissement. Une exposition permettra à tous de mieux connaître l’Allemagne. Une jeune Allemande volontaire civique interviendra dans les cours d’éducation musicale et d’arts plastiques pour faire découvrir des artistes allemands et un repas aux saveurs d’outre Rhin sera proposé à la cantine.
URL:https://15francoallemandeoccitanie.fr/evenement/a-la-decouverte-de-lallemagne-2/
LOCATION:Collège des Quatre Saisons\, 1 Av. des Glycines\, Onet-le-Château\, 12850\, France
CATEGORIES:Citoyenneté,Culture,Éducation,Éducation Jeunesse,Jeunesse,Présentiel,Présentiel,Présentiel
END:VEVENT
BEGIN:VEVENT
DTSTART;TZID=Europe/Paris:20260402T130000
DTEND;TZID=Europe/Paris:20260402T130000
DTSTAMP:20260421T134758
CREATED:20260327T083349Z
LAST-MODIFIED:20260402T082545Z
UID:10007440-1775134800-1775134800@15francoallemandeoccitanie.fr
SUMMARY:« Lettre à un ami français : Hommage à/an Manfred Flügge »
DESCRIPTION:Ce projet rend hommage à l´écrivain Manfred Flügge\, décédé en mars 2025\, passeur de frontières culturelles (Prix Jean Monnet du dialogue européen en 2014)\, biographe d´auteur.e.s et artistes allemand.e.s s´étant réfugié.e.s en France en 1933. Il mettra à l´honneur l’univers poétique et littéraire de Manfred Flügge au travers de la lecture du texte « Lettre à un ami français » en langue française et allemande\, écrit dans le contexte électoral de l´année 2017\, illustrant une des premières expériences d´échange franco-allemand. Le texte sera lu par Elsa Tulmets (enseignante-chercheuse\, CMB\, Univ. Viadrina) et Mélina Burlaud (professeure au Conservatoire à Rayonnement Régional de Toulouse)\, toutes deux franco-allemandes\, et accompagnés de moments musicaux. Il met en avant l´engagement littéraire de l´auteur et propose un espace de résilience au-delà de la relation franco-allemande. \nLiens zoom à demander à: elsa.tulmets@europa-uni.de et mburlaud@hotmail.com \nInfo: https://semaineetudiant.univ-toulouse.fr/engagement-associatif-citoyen/turbine-universite-toulouse/programmation-mois-turbine \n13.00 – 14.00 \nespace La Turbine – Cité Internationale Universitaire – 17 rue Sainte Catherine – 31400 Toulouse (M° Palais de Justice) \nIllustration: \n\nDr. habil Elsa Tulmets-Gerhardt • Europa Universität Viadrina © Europa Universität Viadrina\nMélina Burlaud
URL:https://15francoallemandeoccitanie.fr/evenement/lettre-a-un-ami-francais-hommage-a-an-manfred-flugge/
LOCATION:Espace étudiant « La Turbine » de la Cité internationale universitaire\, 17 Rue Sainte-Catherine\, Toulouse\, 31400\, France
CATEGORIES:Citoyenneté,Culture,Éducation,ESR,Jeunesse,Présentiel,Présentiel,Présentiel
ATTACH;FMTTYPE=image/jpeg:https://15francoallemandeoccitanie.fr/wp-content/uploads/2026/03/2026-04-02_Fluegge_Lect.jpg
END:VEVENT
BEGIN:VEVENT
DTSTART;TZID=Europe/Paris:20260402T140000
DTEND;TZID=Europe/Paris:20260403T130000
DTSTAMP:20260421T134758
CREATED:20260322T190825Z
LAST-MODIFIED:20260322T190825Z
UID:10007429-1775138400-1775221200@15francoallemandeoccitanie.fr
SUMMARY:Formation des associations franco-allemandes
DESCRIPTION:Depuis de nombreuses années\, la Maison de Heidelberg accompagne les comités de jumelage et associations franco-allemandes dans la partie Est de l’Occitanie. Des rencontres régulières des responsables nous tiennent particulièrement à coeur afin de renforcer le réseau\, faire émerger de bonnes pratiques et des synergies entre les parties prenantes. C’est pourquoi nous sommes fiers de pouvoir accueillir deux demi-journées de formation animées par Jean-Michel Prats\, Président de la FAFA pour l’Europe.\n\nPROGRAMME 02/04 – volet juridique et administratif\n14h00 à 15h15 Être responsable d’un jumelage/d’une association franco-allemande en 2026\n15h15 à 15h45 Pause café / échanges\n15h45 à 17h00 De l’idée au projet / Les demandes de subventions\nLES OBJECTIFS DE LA FORMATION\nRappeler les fondamentaux de la gestion d’un jumelage (statuts\, règlement intérieur\, RGPD\, déclaration préfecture\, le serment d’amitiés\, les activités avec ses partenaires…)\nRappeler les grandes étapes de la gestion de projet\nRappeler les différents guichets de financement pour un jumelage franco-allemand (FCFA\, OFAJ\, FDVA\, CERV\, …)\n\nPROGRAMME 03/04 – volet numérique et intelligence artificielle\n09h30 à 11h00 Le numérique au service des jumelages (où trouver les outils\, google pour les associations\, le travail collaboratif\, Canva\, Slack)\n11h00 à 11h30 Pause café / échanges\n11h30 à 13h00 L’intelligence artificielle au service des jumelages (Rédiger / déposer / réaliser / gérer une subvention avec de l’IA (prérequis : connaissance de l’IA)\n\nToutes les informations: https://maison-de-heidelberg.org/agenda/formation-jumelages-fafa-1/
URL:https://15francoallemandeoccitanie.fr/evenement/formation-des-associations-franco-allemandes-3/
LOCATION:Maison de Heidelberg\, 4 rueTrésoriers de la Bourse\, Montpellier\, 34000\, France
CATEGORIES:Citoyenneté,Présentiel
ATTACH;FMTTYPE=image/jpeg:https://15francoallemandeoccitanie.fr/wp-content/uploads/2026/03/2026_04_02-03_Forum-jumelages-1-scaled-e1774206069486.jpg
GEO:43.610022;3.8757307
X-APPLE-STRUCTURED-LOCATION;VALUE=URI;X-ADDRESS=Maison de Heidelberg 4 rueTrésoriers de la Bourse Montpellier 34000 France;X-APPLE-RADIUS=500;X-TITLE=4 rueTrésoriers de la Bourse:geo:3.8757307,43.610022
END:VEVENT
BEGIN:VEVENT
DTSTART;TZID=Europe/Paris:20260402T183000
DTEND;TZID=Europe/Paris:20260402T183000
DTSTAMP:20260421T134758
CREATED:20260302T184455Z
LAST-MODIFIED:20260402T105203Z
UID:10001089-1775154600-1775154600@15francoallemandeoccitanie.fr
SUMMARY:Soirée tandem en présentiel - Rafraîchissez vos connaissances en allemand ou en français de manière conviviale !
DESCRIPTION:Les soirées tandem du Goethe-Institut Toulouse vous permettent de rencontrer des locuteur·rice.s natif·ves et d’approfondir vos connaissances de la culture et langue du pays voisin. Diverses activités linguistiques divertissantes sont organisées pour favoriser les échanges\, faire connaissance et peut-être trouver un·e partenaire tandem sur le long terme. Nos rencontres en tandem sont ouvertes à tou·te·s\,quel que soit le niveau de langue mais une réservation préalable est demandée : accueil-toulouse@goethe.de \nCrédit photo: Goethe-Institut Toulouse
URL:https://15francoallemandeoccitanie.fr/evenement/soiree-tandem-en-presentiel-rafraichissez-vos-connaissances-en-allemand-ou-en-francais-de-maniere-conviviale-4/
LOCATION:Goethe-Institut Toulouse\, 4 bis rue Clémence Isaure\, Toulouse\, 31000
CATEGORIES:Citoyenneté,Culture,Éducation,Présentiel,Présentiel,Présentiel
ATTACH;FMTTYPE=image/jpeg:https://15francoallemandeoccitanie.fr/wp-content/uploads/2026/03/Tandem_Kreis-c-Goethe-Institut-Toulouse-scaled.jpg
ORGANIZER;CN="Goethe-Institut Toulouse":MAILTO:accueil-toulouse@goethe.de
GEO:43.6009639;1.4419022
X-APPLE-STRUCTURED-LOCATION;VALUE=URI;X-ADDRESS=Goethe-Institut Toulouse 4 bis rue Clémence Isaure Toulouse 31000;X-APPLE-RADIUS=500;X-TITLE=4 bis rue Clémence Isaure:geo:1.4419022,43.6009639
END:VEVENT
END:VCALENDAR