BEGIN:VCALENDAR
VERSION:2.0
PRODID:-//Quinzaine franco-allemande - ECPv6.15.20//NONSGML v1.0//EN
CALSCALE:GREGORIAN
METHOD:PUBLISH
X-WR-CALNAME:Quinzaine franco-allemande
X-ORIGINAL-URL:https://15francoallemandeoccitanie.fr
X-WR-CALDESC:Évènements pour Quinzaine franco-allemande
REFRESH-INTERVAL;VALUE=DURATION:PT1H
X-Robots-Tag:noindex
X-PUBLISHED-TTL:PT1H
BEGIN:VTIMEZONE
TZID:Europe/Paris
BEGIN:DAYLIGHT
TZOFFSETFROM:+0100
TZOFFSETTO:+0200
TZNAME:CEST
DTSTART:20250330T010000
END:DAYLIGHT
BEGIN:STANDARD
TZOFFSETFROM:+0200
TZOFFSETTO:+0100
TZNAME:CET
DTSTART:20251026T010000
END:STANDARD
BEGIN:DAYLIGHT
TZOFFSETFROM:+0100
TZOFFSETTO:+0200
TZNAME:CEST
DTSTART:20260329T010000
END:DAYLIGHT
BEGIN:STANDARD
TZOFFSETFROM:+0200
TZOFFSETTO:+0100
TZNAME:CET
DTSTART:20261025T010000
END:STANDARD
BEGIN:DAYLIGHT
TZOFFSETFROM:+0100
TZOFFSETTO:+0200
TZNAME:CEST
DTSTART:20270328T010000
END:DAYLIGHT
BEGIN:STANDARD
TZOFFSETFROM:+0200
TZOFFSETTO:+0100
TZNAME:CET
DTSTART:20271031T010000
END:STANDARD
END:VTIMEZONE
BEGIN:VEVENT
DTSTART;VALUE=DATE:20260316
DTEND;VALUE=DATE:20260317
DTSTAMP:20260420T114154
CREATED:20260316T082907Z
LAST-MODIFIED:20260316T095733Z
UID:10007418-1773619200-1773705599@15francoallemandeoccitanie.fr
SUMMARY:Journée Découverte: visite de Constellr pour le collège Saint Joseph de Lectoure
DESCRIPTION:L’entreprise Constellr ouvre ses portes aux élèves du collège Saint Joseph de Lectoure. Les collégiens pourront échanger avec les professionnels afin d’en apprendre plus sur leurs métiers et découvrir leur quotidien\, en immersion dans l’entreprise. Constellr Toulouse\, filiale de l’entreprise allemande\, est spécialisée dans le développement de micro-satellites et plus particulièrement dans les systèmes d’intelligence thermique. Cela sera l’occasion pour les élèves de comprendre l’importance des langues et des compétences linguistiques et de se projeter dans une entreprise franco-allemande.
URL:https://15francoallemandeoccitanie.fr/evenement/journee-decouverte-visite-de-constellr-pour-le-college-saint-joseph-de-lectoure/
LOCATION:Constellr\, 13 rue Sainte Ursule\, Toulouse\, 31000\, France
CATEGORIES:Économie,Éducation,Éducation Jeunesse,Jeunesse,Présentiel,Présentiel
END:VEVENT
BEGIN:VEVENT
DTSTART;TZID=Europe/Paris:20260324T183000
DTEND;TZID=Europe/Paris:20260324T183000
DTSTAMP:20260420T114154
CREATED:20260323T173225Z
LAST-MODIFIED:20260324T213141Z
UID:10007436-1774377000-1774377000@15francoallemandeoccitanie.fr
SUMMARY:Les relations économiques entre la France et l'Allemagne
DESCRIPTION:L’impact de la crise géopolitique sur l’économie sera-t-il amorti du fait de la qualité des relations franco-allemandes? Venez nombreux.
URL:https://15francoallemandeoccitanie.fr/evenement/les-relations-economiques-entre-la-france-et-lallemagne/
LOCATION:Gazette Café\, 6 rue Levat\, Montpellier\, 34000\, France
CATEGORIES:Économie,Présentiel
ATTACH;FMTTYPE=image/jpeg:https://15francoallemandeoccitanie.fr/wp-content/uploads/2026/03/2026_03_24_AVIVA2.jpg
END:VEVENT
BEGIN:VEVENT
DTSTART;TZID=Europe/Paris:20260324T190000
DTEND;TZID=Europe/Paris:20260324T190000
DTSTAMP:20260420T114154
CREATED:20260302T184409Z
LAST-MODIFIED:20260322T175226Z
UID:10001073-1774378800-1774378800@15francoallemandeoccitanie.fr
SUMMARY:Enjeux de l’intégration de l’IA dans l’aéronautique
DESCRIPTION:avec la participation de JAYANT SEN GUPTA\, Head of Airbus AI Research\,\nPlaces limiteées. Inscriptions auprès de salerno@ms-associes.com avant le 13 mars 2026.
URL:https://15francoallemandeoccitanie.fr/evenement/enjeux-de-lintegration-de-lia-dans-laeronautique-2/
LOCATION:Goethe-Institut Toulouse\, 4 bis rue Clémence Isaure\, Toulouse\, 31000
CATEGORIES:Économie,Présentiel
ATTACH;FMTTYPE=image/jpeg:https://15francoallemandeoccitanie.fr/wp-content/uploads/2026/03/2026_03_24_IA_aeronautique-e1774201905143.jpg
GEO:43.6009639;1.4419022
X-APPLE-STRUCTURED-LOCATION;VALUE=URI;X-ADDRESS=Goethe-Institut Toulouse 4 bis rue Clémence Isaure Toulouse 31000;X-APPLE-RADIUS=500;X-TITLE=4 bis rue Clémence Isaure:geo:1.4419022,43.6009639
END:VEVENT
END:VCALENDAR