BEGIN:VCALENDAR
VERSION:2.0
PRODID:-//Quinzaine franco-allemande - ECPv6.15.20//NONSGML v1.0//EN
CALSCALE:GREGORIAN
METHOD:PUBLISH
X-ORIGINAL-URL:https://15francoallemandeoccitanie.fr
X-WR-CALDESC:Évènements pour Quinzaine franco-allemande
REFRESH-INTERVAL;VALUE=DURATION:PT1H
X-Robots-Tag:noindex
X-PUBLISHED-TTL:PT1H
BEGIN:VTIMEZONE
TZID:Europe/Paris
BEGIN:DAYLIGHT
TZOFFSETFROM:+0100
TZOFFSETTO:+0200
TZNAME:CEST
DTSTART:20250330T010000
END:DAYLIGHT
BEGIN:STANDARD
TZOFFSETFROM:+0200
TZOFFSETTO:+0100
TZNAME:CET
DTSTART:20251026T010000
END:STANDARD
BEGIN:DAYLIGHT
TZOFFSETFROM:+0100
TZOFFSETTO:+0200
TZNAME:CEST
DTSTART:20260329T010000
END:DAYLIGHT
BEGIN:STANDARD
TZOFFSETFROM:+0200
TZOFFSETTO:+0100
TZNAME:CET
DTSTART:20261025T010000
END:STANDARD
BEGIN:DAYLIGHT
TZOFFSETFROM:+0100
TZOFFSETTO:+0200
TZNAME:CEST
DTSTART:20270328T010000
END:DAYLIGHT
BEGIN:STANDARD
TZOFFSETFROM:+0200
TZOFFSETTO:+0100
TZNAME:CET
DTSTART:20271031T010000
END:STANDARD
END:VTIMEZONE
BEGIN:VEVENT
DTSTART;TZID=Europe/Paris:20260324T183000
DTEND;TZID=Europe/Paris:20260324T183000
DTSTAMP:20260420T112603
CREATED:20260323T173225Z
LAST-MODIFIED:20260324T213141Z
UID:10007436-1774377000-1774377000@15francoallemandeoccitanie.fr
SUMMARY:Les relations économiques entre la France et l'Allemagne
DESCRIPTION:L’impact de la crise géopolitique sur l’économie sera-t-il amorti du fait de la qualité des relations franco-allemandes? Venez nombreux.
URL:https://15francoallemandeoccitanie.fr/evenement/les-relations-economiques-entre-la-france-et-lallemagne/
LOCATION:Gazette Café\, 6 rue Levat\, Montpellier\, 34000\, France
CATEGORIES:Économie,Présentiel
ATTACH;FMTTYPE=image/jpeg:https://15francoallemandeoccitanie.fr/wp-content/uploads/2026/03/2026_03_24_AVIVA2.jpg
END:VEVENT
BEGIN:VEVENT
DTSTART;TZID=Europe/Paris:20260324T190000
DTEND;TZID=Europe/Paris:20260324T190000
DTSTAMP:20260420T112603
CREATED:20260302T184409Z
LAST-MODIFIED:20260322T175226Z
UID:10001073-1774378800-1774378800@15francoallemandeoccitanie.fr
SUMMARY:Enjeux de l’intégration de l’IA dans l’aéronautique
DESCRIPTION:avec la participation de JAYANT SEN GUPTA\, Head of Airbus AI Research\,\nPlaces limiteées. Inscriptions auprès de salerno@ms-associes.com avant le 13 mars 2026.
URL:https://15francoallemandeoccitanie.fr/evenement/enjeux-de-lintegration-de-lia-dans-laeronautique-2/
LOCATION:Goethe-Institut Toulouse\, 4 bis rue Clémence Isaure\, Toulouse\, 31000
CATEGORIES:Économie,Présentiel
ATTACH;FMTTYPE=image/jpeg:https://15francoallemandeoccitanie.fr/wp-content/uploads/2026/03/2026_03_24_IA_aeronautique-e1774201905143.jpg
GEO:43.6009639;1.4419022
X-APPLE-STRUCTURED-LOCATION;VALUE=URI;X-ADDRESS=Goethe-Institut Toulouse 4 bis rue Clémence Isaure Toulouse 31000;X-APPLE-RADIUS=500;X-TITLE=4 bis rue Clémence Isaure:geo:1.4419022,43.6009639
END:VEVENT
BEGIN:VEVENT
DTSTART;TZID=Europe/Paris:20260403T090000
DTEND;TZID=Europe/Paris:20260403T090000
DTSTAMP:20260420T112603
CREATED:20260306T183046Z
LAST-MODIFIED:20260402T110436Z
UID:10007416-1775206800-1775206800@15francoallemandeoccitanie.fr
SUMMARY:Visite de la Maison des relations internationales par le Collège Paul Bert
DESCRIPTION:Les élèves du collège Paul Bert participeront à une Journée Découverte au sein de la Maison des Relations Internationales de Montpellier. Cette dernière est un centre d’informations pour chaque citoyenne et citoyen\, et accueille différentes manifestations culturelles\, comme des conférences\, des expositions ou des lectures.\nLors de cet évènement\, les collégiens auront l’occasion échanger avec Roland Ickowicz\, Consul honoraire d’Allemagne et Mme Clare HART\, Vice-Présidente de Montpellier Méditerranée Métropole et Déléguée au Rayonnement international et Coopération européenne.
URL:https://15francoallemandeoccitanie.fr/evenement/visite-de-la-maison-des-relations-internationales-par-le-college-paul-bert/
LOCATION:Maison des Relations Internationales Nelson Mandela\, 14 Descente en Barrat\, Montpellier\, 34000
CATEGORIES:Économie,Éducation,Éducation Jeunesse,Présentiel,Présentiel
ATTACH;FMTTYPE=image/jpeg:https://15francoallemandeoccitanie.fr/wp-content/uploads/2026/03/MRI-scaled-e1775127863662.jpg
GEO:43.6133562;3.8804623
X-APPLE-STRUCTURED-LOCATION;VALUE=URI;X-ADDRESS=Maison des Relations Internationales Nelson Mandela 14 Descente en Barrat Montpellier 34000;X-APPLE-RADIUS=500;X-TITLE=14 Descente en Barrat:geo:3.8804623,43.6133562
END:VEVENT
BEGIN:VEVENT
DTSTART;TZID=Europe/Paris:20260407T090000
DTEND;TZID=Europe/Paris:20260407T120000
DTSTAMP:20260420T112603
CREATED:20260306T180052Z
LAST-MODIFIED:20260306T180146Z
UID:10007413-1775552400-1775563200@15francoallemandeoccitanie.fr
SUMMARY:Visite d’Aumovio (Continental Automotive) : Journée Découverte pour le collège Georges Chaumeton
DESCRIPTION:Les élèves du collège Georges Chaumeton (l’Union) participeront à une Journée Découverte au sein de l’entreprise Aumovio (Continental Automotive). La matinée débutera par un temps d’échange entre professionnels et élèves puis sera suivie d’une visite de l’usine. Continental est un fabricant de pneus allemand et un spécialiste du secteur pour les constructeurs automobiles et les clients industriels comme les usagers dans le monde entier. Cette Journée Découverte permettra aux collégiens de découvrir le monde de l’entreprise\, d’éveiller leur intérêt pour la langue allemande et de se projeter dans un parcours professionnel franco-allemand.
URL:https://15francoallemandeoccitanie.fr/evenement/visite-daumovio-continental-automotive-journee-decouverte-pour-le-college-georges-chaumeton/
LOCATION:Aumovio\, 1 avenue Paul Ourliac\, Toulouse\, 31100\, France
CATEGORIES:Économie,Éducation,Éducation Jeunesse,Présentiel,Présentiel
END:VEVENT
BEGIN:VEVENT
DTSTART;TZID=Europe/Paris:20260408T083000
DTEND;TZID=Europe/Paris:20260408T083000
DTSTAMP:20260420T112603
CREATED:20260302T184527Z
LAST-MODIFIED:20260306T114712Z
UID:10001100-1775637000-1775637000@15francoallemandeoccitanie.fr
SUMMARY:Rencontre économique: Économie circulaire
DESCRIPTION:PROGRAMME\nÉconomie CirculaireQuels leviers communs entre action publique\, entreprises et coopérations ? \n08h30 Café d’accueil \n09h00 – 09h15 Mots d’accueil \n09h15 – 09h45 Propos introductifs – Étude & note technique \n09h45 – 11h15TR1 – Politiques publiques et stratégies régionales pour l’économie circulaireObjectif : Comparer les stratégies régionales d’Occitanie\, Saxe et Bade-Wurtemberg\, analyser leurs priorités\, leurs ambitions et les leviers politiques. \n11h15 – 11h30 Pause \n11h30 – 13h00TR2 – Innovation industrielle et économie circulaire : opportunités pour les entreprises (PME\, ETI\, grands groupes) et les filières localesObjectif : explorer les bonnes pratiques industrielles et les innovations en matière de recyclage\, d’éco-conception et de réemploi dans les entreprises des trois régions. \n13h00 – 14h00 Buffet \n14h00 – 15h30TR3 – Coopération transfrontalière et projets communs pour accélérer la transition circulaireObjectif : mettre en lumière les initiatives franco-allemandes entre Occitanie\, Saxe et Bade-Wurtemberg\, les freins à lever\, les leviers de financement européen (ex : FIOST\, Horizon Europe). \n15h30 – 15h45 Conclusion – Synthèse \n \n\nACCÉDER À L’INSCRIPTION
URL:https://15francoallemandeoccitanie.fr/evenement/rencontre-economique-economie-circulaire-2/
CATEGORIES:Économie
END:VEVENT
BEGIN:VEVENT
DTSTART;VALUE=DATE:20260409
DTEND;VALUE=DATE:20260410
DTSTAMP:20260420T112603
CREATED:20260316T100050Z
LAST-MODIFIED:20260316T105840Z
UID:10007419-1775692800-1775779199@15francoallemandeoccitanie.fr
SUMMARY:Visite du lycée Airbus : Journée Découverte pour le collège Marcel Aymard (Millau) et la cité scolaire Jean Jaurès (Saint-Affrique)
DESCRIPTION:Le lycée Airbus ouvre ses portes aux élèves du collège Marcel Aymard et de la cité scolaire Jean Jaurès pour une Journée Découverte. Le lycée Airbus est un lycée professionnel d’entreprise\, implanté au cœur de l’un des sites industriels d’Airbus à Toulouse. Ce sera l’occasion pour les élèves de découvrir les perspectives professionnelles dans le secteur aéronautique\, de comprendre l’importance des compétences linguistiques et de se projeter dans un parcours professionnel franco-allemand.
URL:https://15francoallemandeoccitanie.fr/evenement/visite-du-lycee-airbus-journee-decouverte-le-9-avril-pour-le-college-marcel-aymard-millau-et-la-cite-scolaire-jean-jaures-saint-affrique/
LOCATION:Lycée Airbus\, 57 chemin du Sang de Serp\, Toulouse\, 31200\, France
CATEGORIES:Économie,Éducation,Éducation Jeunesse,Jeunesse,Présentiel,Présentiel
END:VEVENT
BEGIN:VEVENT
DTSTART;TZID=Europe/Paris:20260409T100000
DTEND;TZID=Europe/Paris:20260409T123000
DTSTAMP:20260420T112603
CREATED:20260302T184540Z
LAST-MODIFIED:20260402T163104Z
UID:10001104-1775728800-1775737800@15francoallemandeoccitanie.fr
SUMMARY:Table ronde pour les élèves sur la coopération franco-allemande dans le monde de l’entreprise et la transition écologique
DESCRIPTION:La Journée Découverte et la Maison de Heidelberg organisent une table ronde à destination des élèves de la région au sein de la Chambre de Commerce et d’Industrie de l’Hérault. Cette dernière sera animée par des professionnels issus notamment des entreprises Notus (Heinrich Lieser\, président)\, CYKERO (Bichoi Metias\, président et fondateur)\, et Richard Jarry (président de l’association Allemagne-Occitanie L’Europe au Cœur). Cela sera l’occasion pour les élèves des collèges Les Aiguerelles\, Jean racine\, Denis Diderot et Alphonse Daudet et du lycée Henry IV de découvrir une diversité de parcours professionnels\, notamment franco-allemands\, d’aborder la question de la transition écologique et d’éveiller leur intérêt pour l’apprentissage de l’allemand. \nIllustration: Journée Découverte © OFAJ
URL:https://15francoallemandeoccitanie.fr/evenement/journee-decouverte-ofaj-4/
LOCATION:CCI Hérault – Hôtel Saint-Côme Montpellier centre\, 32 Grand Rue Jean Moulin\, Montpellier\, 3400
CATEGORIES:Économie,Éducation Jeunesse
ATTACH;FMTTYPE=image/jpeg:https://15francoallemandeoccitanie.fr/wp-content/uploads/2026/03/OFAJ_jour-decouv_Affiche-e1775146680938.jpg
GEO:43.6080313;3.8773474
X-APPLE-STRUCTURED-LOCATION;VALUE=URI;X-ADDRESS=CCI Hérault – Hôtel Saint-Côme Montpellier centre 32 Grand Rue Jean Moulin Montpellier 3400;X-APPLE-RADIUS=500;X-TITLE=32 Grand Rue Jean Moulin:geo:3.8773474,43.6080313
END:VEVENT
BEGIN:VEVENT
DTSTART;TZID=Europe/Paris:20260409T140000
DTEND;TZID=Europe/Paris:20260409T140000
DTSTAMP:20260420T112603
CREATED:20260302T184540Z
LAST-MODIFIED:20260402T162838Z
UID:10001105-1775743200-1775743200@15francoallemandeoccitanie.fr
SUMMARY:Visite à l’usine Bosch de Rodez par les élèves des lycées Foch et Alexis Monteil
DESCRIPTION:Les élèves des lycées Foch et Alexis Monteil participeront à une Journée Découverte au sein de l’entreprise Robert Bosch de Rodez. Le Groupe Bosch est un important fournisseur mondial de technologies et de services autour de quatre secteurs d’activité : mobilité\, techniques industrielles\, biens de consommation et techniques pour les énergies et les bâtiments. Les élèves pourront échanger avec les professionnels de l’entreprises\, régulièrement en contact avec l’Allemagne. Cela sera l’occasion pour les élèves de comprendre l’importance des langues et des compétences linguistiques et de se projeter dans un parcours professionnel franco-allemand. Les élèves seront également invités à visiter l’usine. \nIllustration: Journée Découverte OFAJ © OFAJ
URL:https://15francoallemandeoccitanie.fr/evenement/journee-decouverte-ofaj-5/
LOCATION:Bosch\, Parc d'activités de Cantaranne\, Rodez\, 12000\, France
CATEGORIES:Économie,Éducation,Éducation Jeunesse,Jeunesse,Présentiel,Présentiel
ATTACH;FMTTYPE=image/png:https://15francoallemandeoccitanie.fr/wp-content/uploads/2026/03/OFAJ_jour-decouv-e1775147298396.png
END:VEVENT
BEGIN:VEVENT
DTSTART;TZID=Europe/Paris:20260409T140000
DTEND;TZID=Europe/Paris:20260409T140000
DTSTAMP:20260420T112603
CREATED:20260306T181814Z
LAST-MODIFIED:20260323T092348Z
UID:10007415-1775743200-1775743200@15francoallemandeoccitanie.fr
SUMMARY:Visite de Notus pour les élèves du Collège de Juvignac
DESCRIPTION:L’entreprise Notus ouvre ses portes aux élèves du collège de Juvignac. Les collégiens pourront échanger avec les professionnels afin d’en apprendre plus sur leurs métiers et découvrir leur quotidien\, en immersion dans l’entreprise. Celle-ci est productrice indépendante d’énergie\, et spécialise dans le développement\, la construction et l’exploitation de parcs éoliens et photovoltaïques. Cela sera l’occasion pour les élèves de s’interroger sur la transition énergétique\, de croiser les perspectives françaises et allemandes sur la question\, ains que l’importance des langues et des compétences linguistiques et de se projeter dans un parcours professionnel franco-allemand. \nPhoto: © OFAJ
URL:https://15francoallemandeoccitanie.fr/evenement/visite-de-notus-pour-les-eleves-du-college-de-juvignac/
LOCATION:NOTUS energy Sud\, 7 Place de la Comédie\, Montpellier\, 34000
CATEGORIES:Économie,Éducation,Éducation Jeunesse,Présentiel,Présentiel
ATTACH;FMTTYPE=image/png:https://15francoallemandeoccitanie.fr/wp-content/uploads/2026/03/OFAJ_Decouv_03-e1774257680751.png
END:VEVENT
BEGIN:VEVENT
DTSTART;TZID=Europe/Paris:20260410T140000
DTEND;TZID=Europe/Paris:20260410T200000
DTSTAMP:20260420T112603
CREATED:20260302T184610Z
LAST-MODIFIED:20260306T072243Z
UID:10001113-1775829600-1775851200@15francoallemandeoccitanie.fr
SUMMARY:Musique classique & savoir-faire artisanaux
DESCRIPTION:Musique classique & savoir-faire artisanaux\nCette rencontre franco-allemande met à l’honneur deux univers étroitement liés : la musique classique et les métiers artisanaux qui lui donnent vie.À travers deux tables rondes réunissant luthiers\, facteurs d’instruments et éditeurs musicaux français et allemands\, l’événement propose un état des lieux des transformations du secteur : évolution des métiers\, enjeux économiques\, innovations technologiques et impact des nouvelles réglementations internationales\, notamment celles liées à la CITES. \nLa journée se poursuivra par un concert franco-allemand autour de la flûte et du basson\, offrant au public un voyage musical du baroque au XXᵉ siècle. \n\nProgramme\n14h00 — AccueilSalle Mairie \n14h15 — Introduction officielleSalle Mairie \n14h20 – 15h30 — Table ronde 1 : Création de valeur dans l’édition musicale classiqueSalle Mairie \nFace aux évolutions technologiques et aux nouvelles pratiques de diffusion\, le métier d’éditeur musical connaît de profondes transformations.Cette table ronde réunira des acteurs français et allemands de l’édition musicale pour échanger sur leurs stratégies\, leurs modèles économiques et les nouveaux espaces de création de valeur dans la musique classique. \nIntervenants : \nEric Denut\, directeur d’Universal Music Publishing Classical \nUn responsable des éditions Accolade (Warngau) \n\n15h30 – 15h45 — PauseSalle Mairie \n\n15h45 – 16h55 — Table ronde 2 : Création de valeur dans la production d’instrumentsSalle Mairie \nCette rencontre réunira luthiers et facteurs d’instruments à vents français et allemands autour des enjeux contemporains de la facture instrumentale.Les échanges porteront notamment sur l’évolution du métier\, les matériaux utilisés et les défis posés par les nouvelles réglementations internationales\, en particulier celles de la CITES\, qui encadre le commerce des espèces protégées utilisées dans la fabrication d’instruments. \nIntervenants : \nFanny Reyre-Ménard\, présidente de la Chambre syndicale de la facture instrumentale \nChristian Urbita\, luthier à Cordes-sur-Ciel \nHelmut Bleffert\, facteur d’instruments (Grosslangenfeld) \nSebastian Liebold\, historien (Chemnitz) \n\nModération :Antoine Pecqueur\, journaliste et musicien \n\n16h55 — ConclusionSalle Mairie \n\nConcert franco-allemand\n19h00 — Musée LE MAMC \nSophia Aretz\, flûteAntoine Pecqueur\, basson \nŒuvres de Blavet\, Bach\, Françaix… \nJouant sur instruments anciens et modernes\, Sophia Aretz et Antoine Pecqueur feront découvrir au public la richesse du répertoire pour flûte et basson\, du baroque au XXᵉ siècle.Un programme franco-allemand mettant en valeur la virtuosité et la poésie de ces deux instruments à vents. \n\n20h00 — Verre de l’amitiéMusée LE MAMC
URL:https://15francoallemandeoccitanie.fr/evenement/musique-classique-savoir-faire-artisanaux-2/
LOCATION:Mairie de Cordes-sur-Ciel\, 34 Grande\, Grand Rue Raimond VII\, Cordes-sur-Ciel\, 81170\, France
CATEGORIES:Culture,Économie
END:VEVENT
BEGIN:VEVENT
DTSTART;TZID=Europe/Paris:20260413T183000
DTEND;TZID=Europe/Paris:20260413T183000
DTSTAMP:20260420T112603
CREATED:20260302T184640Z
LAST-MODIFIED:20260410T070352Z
UID:10001123-1776105000-1776105000@15francoallemandeoccitanie.fr
SUMMARY:Le management féminin en Allemagne et en France
DESCRIPTION:2026 03 14 RAFAL Save the Date Femmes Management
URL:https://15francoallemandeoccitanie.fr/evenement/soiree-debat-autour-des-femmes-dans-et-a-la-tete-des-entreprises-2/
LOCATION:CCI Hérault – Hôtel Saint-Côme Montpellier centre\, 32 Grand Rue Jean Moulin\, Montpellier\, 3400
CATEGORIES:Économie
ORGANIZER;CN="RAFAL":MAILTO:gestion.rafal@gmail.com
GEO:43.6080313;3.8773474
X-APPLE-STRUCTURED-LOCATION;VALUE=URI;X-ADDRESS=CCI Hérault – Hôtel Saint-Côme Montpellier centre 32 Grand Rue Jean Moulin Montpellier 3400;X-APPLE-RADIUS=500;X-TITLE=32 Grand Rue Jean Moulin:geo:3.8773474,43.6080313
END:VEVENT
BEGIN:VEVENT
DTSTART;TZID=Europe/Paris:20260414T080000
DTEND;TZID=Europe/Paris:20260414T170000
DTSTAMP:20260420T112603
CREATED:20260306T181206Z
LAST-MODIFIED:20260323T085522Z
UID:10007414-1776153600-1776186000@15francoallemandeoccitanie.fr
SUMMARY:Visite de la Maison de Heidelberg : Journée Découverte pour l'EREA Jean-Jacques Rousseau
DESCRIPTION:La Maison de Heidelberg ouvre ses portes aux élèves de la section « Agent Accompagnement au Grand Âge » de l’EREA Jean pour une Journée Découverte. Il s’agit du centre culturel franco-allemand\, historiquement établi à la suite d’un jumelage universitaire et municipal entre Montpellier et Heidelberg\, qui propose notamment des cours d’allemand et des expositions\, et dispose également d’une médiathèque. Ce sera l’occasion pour les élèves de découvrir les différentes possibilités de mobilité en Allemagne et d’éveiller leur intérêt pour l’apprentissage de l’allemand.
URL:https://15francoallemandeoccitanie.fr/evenement/visite-de-la-maison-de-heidelberg-journee-decouverte-le-14-avril-pour-lerea-jean-jacques-rousseau/
LOCATION:Maison de Heidelberg\, 4 rueTrésoriers de la Bourse\, Montpellier\, 34000\, France
CATEGORIES:Économie,Éducation,Éducation Jeunesse,Jeunesse,Présentiel,Présentiel
ATTACH;FMTTYPE=image/jpeg:https://15francoallemandeoccitanie.fr/wp-content/uploads/2026/03/Maison_HD2-e1774256003868.jpg
GEO:43.610022;3.8757307
X-APPLE-STRUCTURED-LOCATION;VALUE=URI;X-ADDRESS=Maison de Heidelberg 4 rueTrésoriers de la Bourse Montpellier 34000 France;X-APPLE-RADIUS=500;X-TITLE=4 rueTrésoriers de la Bourse:geo:3.8757307,43.610022
END:VEVENT
BEGIN:VEVENT
DTSTART;TZID=Europe/Paris:20260414T083000
DTEND;TZID=Europe/Paris:20260414T183000
DTSTAMP:20260420T112603
CREATED:20260302T184654Z
LAST-MODIFIED:20260402T190553Z
UID:10001126-1776155400-1776191400@15francoallemandeoccitanie.fr
SUMMARY:Jour de la Saxe en Occitanie
DESCRIPTION:
URL:https://15francoallemandeoccitanie.fr/evenement/jour-de-saxe-3/
LOCATION:Toulouse School of Economics\, 1 Esplanade de l’Université\, Toulouse\, 31000\, France
CATEGORIES:Économie,Présentiel
ORGANIZER;CN="RAFAL r%C3%A9seau d'affaires franco-allemand":MAILTO:gestion.rafal@gmail.com
END:VEVENT
BEGIN:VEVENT
DTSTART;TZID=Europe/Paris:20260415T093000
DTEND;TZID=Europe/Paris:20260415T093000
DTSTAMP:20260420T112603
CREATED:20260302T184710Z
LAST-MODIFIED:20260402T194529Z
UID:10001132-1776245400-1776245400@15francoallemandeoccitanie.fr
SUMMARY:Visite d’Ecozept pour le collège Croix d’Argent
DESCRIPTION:L’entreprise Ecozept ouvre ses portes aux élèves du collège Croix d’Argent. Les collégiens pourront échanger avec les professionnels afin d’en apprendre plus sur leurs métiers et découvrir leur quotidien\, en immersion dans l’entreprise. L’entreprise est une agence d’expertise-conseil et de recherche franco-allemande\, spécialisée dans les marchés agroalimentaires durables\, l’économie circulaire et la gestion durable des espaces agricoles. Cela sera l’occasion pour les élèves de comprendre l’importance des langues et des compétences linguistiques et de se projeter dans une entreprise franco-allemande.
URL:https://15francoallemandeoccitanie.fr/evenement/journee-decouverte-ofaj-6/
LOCATION:Ecozept\, 145 rue Guillaume Janvier\, Montpellier\, 34000\, France
CATEGORIES:Économie,Éducation,Éducation Jeunesse,Jeunesse,Présentiel,Présentiel
ATTACH;FMTTYPE=image/jpeg:https://15francoallemandeoccitanie.fr/wp-content/uploads/2026/03/Journee-Decouverte-ODDO-scaled-e1775159112537.jpg
GEO:43.5959061;3.8659758
X-APPLE-STRUCTURED-LOCATION;VALUE=URI;X-ADDRESS=Ecozept 145 rue Guillaume Janvier Montpellier 34000 France;X-APPLE-RADIUS=500;X-TITLE=145 rue Guillaume Janvier:geo:3.8659758,43.5959061
END:VEVENT
BEGIN:VEVENT
DTSTART;TZID=Europe/Paris:20260416T140000
DTEND;TZID=Europe/Paris:20260416T140000
DTSTAMP:20260420T112603
CREATED:20260302T184711Z
LAST-MODIFIED:20260323T084843Z
UID:10001135-1776348000-1776348000@15francoallemandeoccitanie.fr
SUMMARY:Témoignage: L’allemand ouvre des portes professionnelles
DESCRIPTION:Alexis Crouzil\, alumni de l’école d’ingénieurs Icam Toulouse transmet son expérience à la prochaine génération d’étudiants de l’Icam Toulouse et leur parle de l’influence considérable que peuvent avoir les compétences en langues sur leur développement professionnel. Il partage\, comment la maîtrise de l’allemand lui a permis de réaliser ses aspirations professionnelles dans une grande entreprise franco-allemande. Une maîtrise qu’il a atteinte grâce à 4 années en Allemagne – pour son mémoire en Bavière et puis pour un poste à Thüringen. Il souhaite montrer que les compétences linguistiques ne sont pas seulement un enrichissement culturel et une ouverture sur le monde\, mais qu’elles peuvent aussi déterminer concrètement le chemin professionnel.
URL:https://15francoallemandeoccitanie.fr/evenement/temoignage-lallemand-ouvre-des-portes-professionnelles-2/
LOCATION:ICAM\, 75 avenue de Grance-Bretagne\, Toulouse\, 31300\, France
CATEGORIES:Citoyenneté,Économie,Éducation,Éducation Jeunesse,ESR,Présentiel,Présentiel,Présentiel
ATTACH;FMTTYPE=image/jpeg:https://15francoallemandeoccitanie.fr/wp-content/uploads/2026/03/2026_04_16_ICAM_Crouzil-e1774255711334.jpg
GEO:43.5983923;1.4153156
X-APPLE-STRUCTURED-LOCATION;VALUE=URI;X-ADDRESS=ICAM 75 avenue de Grance-Bretagne Toulouse 31300 France;X-APPLE-RADIUS=500;X-TITLE=75 avenue de Grance-Bretagne:geo:1.4153156,43.5983923
END:VEVENT
BEGIN:VEVENT
DTSTART;TZID=Europe/Paris:20260416T180000
DTEND;TZID=Europe/Paris:20260416T180000
DTSTAMP:20260420T112603
CREATED:20260302T184725Z
LAST-MODIFIED:20260413T111030Z
UID:10001138-1776362400-1776362400@15francoallemandeoccitanie.fr
SUMMARY:Clôture de la 8e Quinzaine franco-allemande d'Occitanie - Conférence croisée du Pr. Jean Tirole et Pr. Ernst-Ludwig von Thadden
DESCRIPTION:C \nPlaces limitées \nINSCRIPTION OBLIGATOIRE avant le 14 avril\nhttps://my.weezevent.com/qfao-conference-tse-16-04-26
URL:https://15francoallemandeoccitanie.fr/evenement/cloture-qfao-2/
LOCATION:Toulouse School of Economics\, 1 Esplanade de l’Université\, Toulouse\, 31000\, France
CATEGORIES:Citoyenneté,Convivialité,Économie,Éducation,ESR,Présentiel,Présentiel,Présentiel
END:VEVENT
BEGIN:VEVENT
DTSTART;TZID=Europe/Paris:20260416T193000
DTEND;TZID=Europe/Paris:20260416T193000
DTSTAMP:20260420T112603
CREATED:20260302T184724Z
LAST-MODIFIED:20260416T142054Z
UID:10001136-1776367800-1776367800@15francoallemandeoccitanie.fr
SUMMARY:Conférence sur la viticulture dans le Sud de la France
DESCRIPTION:Certains se souviennent peut-être du fléau du phylloxéra qui a détruit une grande partie du vignoble français au milieu du XIXe siècle\, mais ce que l’on sait moins\, c’est que des botanistes de Montpellier\, dont Jules-Émile Planchon\, ont trouvé le moyen de le combattre. \nComment le secteur économique de la viticulture\, particulièrement important pour le sud de la France\, a-t-il évolué\, quelles ont été ses réussites et ses crises au cours des dernières décennies et quelles sont celles qu’il traverse actuellement\, quelles pourraient être les conséquences du changement climatique et des attentes sociétales sur la viticulture\, telles sont quelques-unes des nombreuses questions qui seront abordées lors de cette soirée par Hervé Hannin. Ingénieur agronome et économiste\, Hervé Hannin est titulaire de la chaire Viticulture et vinification à l’Institut d’Agronomie de Montpellier. \nIl s’est particulièrement spécialisé dans les domaines de l’impact du changement climatique\, de l’élimination progressive des pesticides et des marchés internationaux du secteur vitivinicole. \nIl est également expert auprès de l’Organisation internationale de la vigne et du vin (OIV) et membre de nombreux comités scientifiques et professionnels sur la culture et la production du vin.
URL:https://15francoallemandeoccitanie.fr/evenement/conference-sur-la-viticulture-dans-le-sud-de-la-france-2/
LOCATION:Maison de Montpellier\, Kettengasse 19\, Heidelberg\, Bade Wurtemberg\, 69117\, France
CATEGORIES:Culture,Économie
ATTACH;FMTTYPE=image/png:https://15francoallemandeoccitanie.fr/wp-content/uploads/2026/03/2026_04_16_Vin_Heidelberg.png
GEO:49.410928153204;8.7087795672686
X-APPLE-STRUCTURED-LOCATION;VALUE=URI;X-ADDRESS=Maison de Montpellier Kettengasse 19 Heidelberg Bade Wurtemberg 69117 France;X-APPLE-RADIUS=500;X-TITLE=Kettengasse 19:geo:8.7087795672686,49.410928153204
END:VEVENT
END:VCALENDAR