BEGIN:VCALENDAR
VERSION:2.0
PRODID:-//Quinzaine franco-allemande - ECPv6.15.20//NONSGML v1.0//EN
CALSCALE:GREGORIAN
METHOD:PUBLISH
X-WR-CALNAME:Quinzaine franco-allemande
X-ORIGINAL-URL:https://15francoallemandeoccitanie.fr
X-WR-CALDESC:Évènements pour Quinzaine franco-allemande
REFRESH-INTERVAL;VALUE=DURATION:PT1H
X-Robots-Tag:noindex
X-PUBLISHED-TTL:PT1H
BEGIN:VTIMEZONE
TZID:Europe/Paris
BEGIN:DAYLIGHT
TZOFFSETFROM:+0100
TZOFFSETTO:+0200
TZNAME:CEST
DTSTART:20250330T010000
END:DAYLIGHT
BEGIN:STANDARD
TZOFFSETFROM:+0200
TZOFFSETTO:+0100
TZNAME:CET
DTSTART:20251026T010000
END:STANDARD
BEGIN:DAYLIGHT
TZOFFSETFROM:+0100
TZOFFSETTO:+0200
TZNAME:CEST
DTSTART:20260329T010000
END:DAYLIGHT
BEGIN:STANDARD
TZOFFSETFROM:+0200
TZOFFSETTO:+0100
TZNAME:CET
DTSTART:20261025T010000
END:STANDARD
BEGIN:DAYLIGHT
TZOFFSETFROM:+0100
TZOFFSETTO:+0200
TZNAME:CEST
DTSTART:20270328T010000
END:DAYLIGHT
BEGIN:STANDARD
TZOFFSETFROM:+0200
TZOFFSETTO:+0100
TZNAME:CET
DTSTART:20271031T010000
END:STANDARD
END:VTIMEZONE
BEGIN:VEVENT
DTSTART;TZID=Europe/Paris:20260413T183000
DTEND;TZID=Europe/Paris:20260413T183000
DTSTAMP:20260419T172130
CREATED:20260302T184640Z
LAST-MODIFIED:20260324T101334Z
UID:10001124-1776105000-1776105000@15francoallemandeoccitanie.fr
SUMMARY:Atelier de jeux en allemand
DESCRIPTION:« Der Mensch ist nur da ganz Mensch\, wo er spielt“ – „L’Homme n’est tout à fait Homme que là où il joue » – déjà Friedrich Schiller avait conscience des bénéfices du jeu.\nC’est également un excellent moyen de pratiquer une langue dans une atmosphère décontractée\, donc propice à mobiliser toutes vos connaissances sans stress ou pression. Venez donc jouer avec nous ! Un large choix de jeux linguistiques\, culturels\, grammaticaux ou simplement ludiques vous sera proposé\, le tout dans la bonne humeur et encadré par les enseignantes expérimentées de l’association. \nOuvert à tous niveaux. \nNombre de participants limité\, sur inscription sous cours@allemand-toulouse.de
URL:https://15francoallemandeoccitanie.fr/evenement/atelier-de-jeux-en-allemand-2/
LOCATION:Goethe-Institut Toulouse\, 4 bis rue Clémence Isaure\, Toulouse\, 31000
CATEGORIES:Convivialité,Culture,Éducation,Éducation Jeunesse,Jeunesse,Présentiel,Présentiel
ATTACH;FMTTYPE=image/jpeg:https://15francoallemandeoccitanie.fr/wp-content/uploads/2026/03/2026_04_13_Jeux_allds-scaled-e1774265029251.jpg
GEO:43.6009639;1.4419022
X-APPLE-STRUCTURED-LOCATION;VALUE=URI;X-ADDRESS=Goethe-Institut Toulouse 4 bis rue Clémence Isaure Toulouse 31000;X-APPLE-RADIUS=500;X-TITLE=4 bis rue Clémence Isaure:geo:1.4419022,43.6009639
END:VEVENT
BEGIN:VEVENT
DTSTART;TZID=Europe/Paris:20260414T080000
DTEND;TZID=Europe/Paris:20260414T170000
DTSTAMP:20260419T172130
CREATED:20260306T181206Z
LAST-MODIFIED:20260323T085522Z
UID:10007414-1776153600-1776186000@15francoallemandeoccitanie.fr
SUMMARY:Visite de la Maison de Heidelberg : Journée Découverte pour l'EREA Jean-Jacques Rousseau
DESCRIPTION:La Maison de Heidelberg ouvre ses portes aux élèves de la section « Agent Accompagnement au Grand Âge » de l’EREA Jean pour une Journée Découverte. Il s’agit du centre culturel franco-allemand\, historiquement établi à la suite d’un jumelage universitaire et municipal entre Montpellier et Heidelberg\, qui propose notamment des cours d’allemand et des expositions\, et dispose également d’une médiathèque. Ce sera l’occasion pour les élèves de découvrir les différentes possibilités de mobilité en Allemagne et d’éveiller leur intérêt pour l’apprentissage de l’allemand.
URL:https://15francoallemandeoccitanie.fr/evenement/visite-de-la-maison-de-heidelberg-journee-decouverte-le-14-avril-pour-lerea-jean-jacques-rousseau/
LOCATION:Maison de Heidelberg\, 4 rueTrésoriers de la Bourse\, Montpellier\, 34000\, France
CATEGORIES:Économie,Éducation,Éducation Jeunesse,Jeunesse,Présentiel,Présentiel
ATTACH;FMTTYPE=image/jpeg:https://15francoallemandeoccitanie.fr/wp-content/uploads/2026/03/Maison_HD2-e1774256003868.jpg
GEO:43.610022;3.8757307
X-APPLE-STRUCTURED-LOCATION;VALUE=URI;X-ADDRESS=Maison de Heidelberg 4 rueTrésoriers de la Bourse Montpellier 34000 France;X-APPLE-RADIUS=500;X-TITLE=4 rueTrésoriers de la Bourse:geo:3.8757307,43.610022
END:VEVENT
BEGIN:VEVENT
DTSTART;TZID=Europe/Paris:20260414T140000
DTEND;TZID=Europe/Paris:20260414T140000
DTSTAMP:20260419T172130
CREATED:20260302T184654Z
LAST-MODIFIED:20260402T192052Z
UID:10001127-1776175200-1776175200@15francoallemandeoccitanie.fr
SUMMARY:Projection du film : Das Wunder von Bern aux élèves germanistes
DESCRIPTION:Tous les élèves germanistes du collège de la Voie Domitienne (classes de 5°\, 4° et 3° LV2) sont invités par la mairie du Crès à une projection gratuite du film Das Wunder von Bern (Le miracle de Bern). Celle-ci se tiendra à la salle de l’Agora le mardi 14 avril dans le cadre de la QFAO 2026.
URL:https://15francoallemandeoccitanie.fr/evenement/projection-du-film-das-wunder-von-bern-aux-eleves-germanistes-2/
CATEGORIES:Culture,Éducation,Éducation Jeunesse,Jeunesse,Présentiel,Présentiel
ATTACH;FMTTYPE=image/jpeg:https://15francoallemandeoccitanie.fr/wp-content/uploads/2026/03/Das_Wunder_von_Bern_2017_affiche_DE.jpg
END:VEVENT
BEGIN:VEVENT
DTSTART;TZID=Europe/Paris:20260415T093000
DTEND;TZID=Europe/Paris:20260415T093000
DTSTAMP:20260419T172130
CREATED:20260302T184710Z
LAST-MODIFIED:20260402T194529Z
UID:10001132-1776245400-1776245400@15francoallemandeoccitanie.fr
SUMMARY:Visite d’Ecozept pour le collège Croix d’Argent
DESCRIPTION:L’entreprise Ecozept ouvre ses portes aux élèves du collège Croix d’Argent. Les collégiens pourront échanger avec les professionnels afin d’en apprendre plus sur leurs métiers et découvrir leur quotidien\, en immersion dans l’entreprise. L’entreprise est une agence d’expertise-conseil et de recherche franco-allemande\, spécialisée dans les marchés agroalimentaires durables\, l’économie circulaire et la gestion durable des espaces agricoles. Cela sera l’occasion pour les élèves de comprendre l’importance des langues et des compétences linguistiques et de se projeter dans une entreprise franco-allemande.
URL:https://15francoallemandeoccitanie.fr/evenement/journee-decouverte-ofaj-6/
LOCATION:Ecozept\, 145 rue Guillaume Janvier\, Montpellier\, 34000\, France
CATEGORIES:Économie,Éducation,Éducation Jeunesse,Jeunesse,Présentiel,Présentiel
ATTACH;FMTTYPE=image/jpeg:https://15francoallemandeoccitanie.fr/wp-content/uploads/2026/03/Journee-Decouverte-ODDO-scaled-e1775159112537.jpg
GEO:43.5959061;3.8659758
X-APPLE-STRUCTURED-LOCATION;VALUE=URI;X-ADDRESS=Ecozept 145 rue Guillaume Janvier Montpellier 34000 France;X-APPLE-RADIUS=500;X-TITLE=145 rue Guillaume Janvier:geo:3.8659758,43.5959061
END:VEVENT
BEGIN:VEVENT
DTSTART;TZID=Europe/Paris:20260422T100000
DTEND;TZID=Europe/Paris:20260422T130000
DTSTAMP:20260419T172130
CREATED:20260323T155556Z
LAST-MODIFIED:20260323T162105Z
UID:10007435-1776852000-1776862800@15francoallemandeoccitanie.fr
SUMMARY:Les jeunes dans l'Europe
DESCRIPTION:Cet événement qui s’adresse aux jeunes de l’Intercommunalité Sud Roussillon ainsi que des comités de jumelages des Pyrénées-Orientales poursuit comme double objectif celui d’initier les jeunes au projet européen et aux échanges dans le cadre de jumelages mais également de mener avec eux une réflexion qui aboutisse:\n– à une étude de faisabilité d’un jumelage\n– à un séjour d’un groupe à Bruxelles à la rencontre des institutions européennes\n– à une implication des jeunes pour l’Europe en général et pour les jumelages en particulier.\n\nAu programme:\n– accueil de Monsieur le Maire et présentation de la demi-journée\n–  présentation du guide des jumelages de la Fédération Française des Maisons de l’Europe (lancement le 26 mars à Paris pendant les rencontres de la FFME)\n– présentation de la carte jeunes européenne.\n– rendu du dispositif réalisé avec le PIJ de Thuir (restitué le 27 mars)\n– mise en place d’un groupe de travail local\n\nRenseignements : info@mde-pyrmed.eu
URL:https://15francoallemandeoccitanie.fr/evenement/les-jeunes-dans-leurope/
LOCATION:Salle Sud Roussillon\, Salle Sud Roussillon\, Latour-Bas-Elne\, 66200\, France
CATEGORIES:Citoyenneté,Jeunesse,Présentiel
ATTACH;FMTTYPE=image/webp:https://15francoallemandeoccitanie.fr/wp-content/uploads/2026/03/2026_04_22_Jeunes_jumelages-e1774281566973.webp
END:VEVENT
END:VCALENDAR