BEGIN:VCALENDAR
VERSION:2.0
PRODID:-//Quinzaine franco-allemande - ECPv6.15.20//NONSGML v1.0//EN
CALSCALE:GREGORIAN
METHOD:PUBLISH
X-WR-CALNAME:Quinzaine franco-allemande
X-ORIGINAL-URL:https://15francoallemandeoccitanie.fr
X-WR-CALDESC:Évènements pour Quinzaine franco-allemande
REFRESH-INTERVAL;VALUE=DURATION:PT1H
X-Robots-Tag:noindex
X-PUBLISHED-TTL:PT1H
BEGIN:VTIMEZONE
TZID:Europe/Paris
BEGIN:DAYLIGHT
TZOFFSETFROM:+0100
TZOFFSETTO:+0200
TZNAME:CEST
DTSTART:20210328T010000
END:DAYLIGHT
BEGIN:STANDARD
TZOFFSETFROM:+0200
TZOFFSETTO:+0100
TZNAME:CET
DTSTART:20211031T010000
END:STANDARD
BEGIN:DAYLIGHT
TZOFFSETFROM:+0100
TZOFFSETTO:+0200
TZNAME:CEST
DTSTART:20220327T010000
END:DAYLIGHT
BEGIN:STANDARD
TZOFFSETFROM:+0200
TZOFFSETTO:+0100
TZNAME:CET
DTSTART:20221030T010000
END:STANDARD
BEGIN:DAYLIGHT
TZOFFSETFROM:+0100
TZOFFSETTO:+0200
TZNAME:CEST
DTSTART:20230326T010000
END:DAYLIGHT
BEGIN:STANDARD
TZOFFSETFROM:+0200
TZOFFSETTO:+0100
TZNAME:CET
DTSTART:20231029T010000
END:STANDARD
END:VTIMEZONE
BEGIN:VEVENT
DTSTART;VALUE=DATE:20220127
DTEND;VALUE=DATE:20220128
DTSTAMP:20260424T225600
CREATED:20220317T141014Z
LAST-MODIFIED:20220504T174625Z
UID:10000069-1643241600-1643327999@15francoallemandeoccitanie.fr
SUMMARY:La démarche RSE en entreprise\, l’insertion professionnelle des personnes en situation de handicap.
DESCRIPTION:DEBAT FRANCO-ALLEMAND animé par Olivier Biscaye\, directeur de la rédaction\, Midi Libre\n\nComment définit-on aujourd’hui le handicap en France et en Allemagne ?\nQuels sont les leviers en France et en Allemagne afin de favoriser l’insertion des personnes en situation de handicap mis à disposition pour l’entreprise ?\nDans le cadre de la Journée franco-allemande\, une table ronde est organisée avec des experts afin d’offrir un regard croisé sur la responsabilité sociétale en entreprise.
URL:https://15francoallemandeoccitanie.fr/evenement/la-demarche-rse-en-entreprise-linsertion-professionnelle-des-personnes-en-situation-de-handicap/
LOCATION:Maison des relations internationales\, 14 Dsc en Barrat\, 34000 Montpellier\, Montpellier\, Occitanie\, 34000\, France
CATEGORIES:Citoyenneté,Distanciel,Présentiel
ATTACH;FMTTYPE=image/jpeg:https://15francoallemandeoccitanie.fr/wp-content/uploads/2022/03/travail-handicap.jpg
ORGANIZER;CN="RAFAL":MAILTO:fanny.czajkowski@allemagne-occitanie.eu
GEO:43.613407;3.880525
X-APPLE-STRUCTURED-LOCATION;VALUE=URI;X-ADDRESS=Maison des relations internationales 14 Dsc en Barrat 34000 Montpellier Montpellier Occitanie 34000 France;X-APPLE-RADIUS=500;X-TITLE=14 Dsc en Barrat\, 34000 Montpellier:geo:3.880525,43.613407
END:VEVENT
BEGIN:VEVENT
DTSTART;TZID=Europe/Paris:20220405T180000
DTEND;TZID=Europe/Paris:20220405T203000
DTSTAMP:20260424T225600
CREATED:20220323T114804Z
LAST-MODIFIED:20220323T114804Z
UID:10000073-1649181600-1649190600@15francoallemandeoccitanie.fr
SUMMARY:Ma vie de famille entre deux cultures : Clarifier les choix éducatifs interculturels
DESCRIPTION:« Savoir respecter des règles est très important pour un enfant français\, car cela lui permet de s’intégrer dans la collectivité. »\n« Avoir une pensée propre\, un libre arbitre est très important pour un enfant en Allemagne\, car on lui demande sa propre réflexion à l’école. » \nLes deux cultures franco-allemandes dont les méthodes éducatives sont différentes ont pour objectif de permettre à l’enfant de s’épanouir. Il s’agit de devenir un adulte autonome\, être bien dans sa peau\, savoir créer et développer des capacités afin de surmonter toutes situations difficiles de la vie.  \nComprendre les propres besoins de son enfant en termes de développement personnel permettra à chaque parent de faire le meilleur choix éducatif\, exploiter les richesses de l’autre culture et porter un regard plus tolérant sur la méthode pédagogique de son voisin. \nEn conciliant les systèmes éducatifs de chaque culture\, les enfants franco-allemands deviendront des adultes avec des ressources diversifiées ! \nIntervenants : \nHilkka Rouland\, coach certifiée & co-fondatrice de Famille EquiLibre\nSilvia Loy Morel\, coach certifiée SLM
URL:https://15francoallemandeoccitanie.fr/evenement/ma-vie-de-famille-entre-deux-cultures-clarifier-les-choix-educatifs-interculturels/
LOCATION:Visioconférence
ATTACH;FMTTYPE=image/jpeg:https://15francoallemandeoccitanie.fr/wp-content/uploads/2022/03/Clarifier-les-choix-éducatifs-interculturels-.jpg
END:VEVENT
BEGIN:VEVENT
DTSTART;TZID=Europe/Paris:20220416T153000
DTEND;TZID=Europe/Paris:20220416T170000
DTSTAMP:20260424T225600
CREATED:20220317T143953Z
LAST-MODIFIED:20220405T133447Z
UID:10000071-1650123000-1650128400@15francoallemandeoccitanie.fr
SUMMARY:Conférence franco-allemande « La transition énergétique maritime »
DESCRIPTION:
URL:https://15francoallemandeoccitanie.fr/evenement/la-transition-energetique-maritime/
LOCATION:Géode de Sète\, Quai du Maroc\, Sète\, 34200\, France
ATTACH;FMTTYPE=image/jpeg:https://15francoallemandeoccitanie.fr/wp-content/uploads/2022/03/Transition-energetique-maritime.jpg
GEO:43.4001267;3.7012954
X-APPLE-STRUCTURED-LOCATION;VALUE=URI;X-ADDRESS=Géode de Sète Quai du Maroc Sète 34200 France;X-APPLE-RADIUS=500;X-TITLE=Quai du Maroc:geo:3.7012954,43.4001267
END:VEVENT
BEGIN:VEVENT
DTSTART;TZID=Europe/Paris:20220426T180000
DTEND;TZID=Europe/Paris:20220426T203000
DTSTAMP:20260424T225600
CREATED:20220323T131648Z
LAST-MODIFIED:20220405T133016Z
UID:10000075-1650996000-1651005000@15francoallemandeoccitanie.fr
SUMMARY:L’éducation et le bilinguisme :  Comment développer le bilinguisme\, lever les freins et les croyances
DESCRIPTION:Intervention de Madame Marianne Laclautre\, Orthophoniste et Formatrice auprès des professionnels de l’enfance et de l’éducation chez Ateliers Filliozat Lyon – Famille EquiLibre pour soutenir le bilinguisme \nComment soutenir l’acquisition des différentes langues chez son enfant?\nEnsemble nous ferons le point sur les méthodes d’accompagnement de l’enfant et les points forts du multiculturalisme.\nNous enseignerons les attitudes parentales à adopter en famille et les informations à transmettre à l’entourage familial et scolaire\, ainsi que les pièges à éviter pour que chaque enfant puisse être soutenu dans son processus d’apprentissage individuel. \n  \nIntervenants :  \n\nHilkka Rouland\, coach certifiée & co-fondatrice de Famille EquiLibre\nSilvia Loy Morel\, coach certifiée SLM\nMadame Marianne Laclautre\, Orthophoniste et Formatrice auprès des professionnels de l’enfance et de l’éducation chez Ateliers Filliozat
URL:https://15francoallemandeoccitanie.fr/evenement/leducation-et-le-bilinguisme-comment-developper-le-bilinguisme-lever-les-freins-et-les-croyances/
LOCATION:Visioconférence
ATTACH;FMTTYPE=image/jpeg:https://15francoallemandeoccitanie.fr/wp-content/uploads/2022/03/Enfant-bilingue-franco-allemand.jpg
END:VEVENT
BEGIN:VEVENT
DTSTART;VALUE=DATE:20220911
DTEND;VALUE=DATE:20220916
DTSTAMP:20260424T225600
CREATED:20220708T064453Z
LAST-MODIFIED:20220708T064453Z
UID:10000076-1662854400-1663286399@15francoallemandeoccitanie.fr
SUMMARY:PROGRAMME D’ÉCHANGE START-UP ET ENTREPRISES ENTRE MONTPELLIER ET HEIDELBERG
DESCRIPTION:Dans le cadre de l’internationalisation des entreprises\, la Métropole de Montpellier joue\, depuis bientôt vingt années\, un rôle prépondérant. \nDe ces expériences communes nous en avons tiré des enseignements qui vont nous permettre d’améliorer cet accompagnement et surtout d’augmenter les chances de réussites pour les entreprises. \nL’internationalisation doit découler d’une stratégie en adéquation avec l’entreprise mais doit aussi respecter des étapes obligatoires : de préparation\, de découverte\, de positionnement et de maturation. \nLa Ville de Montpellier\, sa Métropole\, et la Ville de Heidelberg\, dans le cadre du 60ème anniversaire de leur jumelage\, grâce à la volonté politique de leurs Maires et Président\, ont décidé de lancer une opération globale d’accompagnement afin de minimiser la part de risque et de pouvoir accompagner les entreprises des 2 territoires dans leur réussite à l’international. \nCet accompagnement est mis en place pour permettre d’éviter certains écueils : mauvaise stratégie\, chronophagie\, financier\, RH…. Il va s’inscrire dans la durée en suivant la progression des quatre plots de la chaine de l’internationalisation grâce à la Task Force International et à l’appui des acteurs institutionnels et privés incontournables (RAFAL\, Business France\, CCI\, Team France Export\, Had’Oc\, Directions du Développement Economique\, Cabinet d’avocats\, Cabinets d’experts\, clubs d’affaires\, financeurs …) \nLa Métropole de Montpellier et la Ville de Heidelberg proposent un premier niveau d’accompagnement « découverte » pour les entreprises/start-up de la Métropole de Montpellier la semaine du 11 au 17 septembre 2022 au travers d’une mission d’affaires à Heidelberg. \nLa Ville de Heidelberg et la Métropole de Montpellier proposent un premier niveau d’accompagnement « découverte » pour les entreprises/start-up de la Ville de Heidelberg la semaine du 17 au 21 octobre 2022 au travers d’une mission d’affaires à Montpellier.
URL:https://15francoallemandeoccitanie.fr/evenement/programme-dechange-start-up-et-entreprises-entre-montpellier-et-heidelberg/2022-09-11/
LOCATION:Heidelberg\, Hôtel de Ville\, Heidelberg\, Rhein Neckar\, Allemagne
CATEGORIES:Présentiel
ORGANIZER;CN="Direction Economie Heidelberg - Marc Massoth":MAILTO:Marc.Massoth@Heidelberg.de
GEO:49.3987524;8.6724335
X-APPLE-STRUCTURED-LOCATION;VALUE=URI;X-ADDRESS=Heidelberg Hôtel de Ville Heidelberg Rhein Neckar Allemagne;X-APPLE-RADIUS=500;X-TITLE=Hôtel de Ville:geo:8.6724335,49.3987524
END:VEVENT
BEGIN:VEVENT
DTSTART;VALUE=DATE:20220911
DTEND;VALUE=DATE:20220918
DTSTAMP:20260424T225600
CREATED:20220708T064513Z
LAST-MODIFIED:20221206T135859Z
UID:10000074-1662854400-1663459199@15francoallemandeoccitanie.fr
SUMMARY:PROGRAMME D’ÉCHANGE START-UP ET ENTREPRISES ENTRE MONTPELLIER ET HEIDELBERG
DESCRIPTION:Dans le cadre de l’internationalisation des entreprises\, la Métropole de Montpellier joue\, depuis bientôt vingt années\, un rôle prépondérant. \nDe ces expériences communes nous en avons tiré des enseignements qui vont nous permettre d’améliorer cet accompagnement et surtout d’augmenter les chances de réussites pour les entreprises. \nL’internationalisation doit découler d’une stratégie en adéquation avec l’entreprise mais doit aussi respecter des étapes obligatoires : de préparation\, de découverte\, de positionnement et de maturation. \nLa Ville de Montpellier\, sa Métropole\, et la Ville de Heidelberg\, dans le cadre du 60ème anniversaire de leur jumelage\, grâce à la volonté politique de leurs Maires et Président\, ont décidé de lancer une opération globale d’accompagnement afin de minimiser la part de risque et de pouvoir accompagner les entreprises des 2 territoires dans leur réussite à l’international. \nCet accompagnement est mis en place pour permettre d’éviter certains écueils : mauvaise stratégie\, chronophagie\, financier\, RH…. Il va s’inscrire dans la durée en suivant la progression des quatre plots de la chaine de l’internationalisation grâce à la Task Force International et à l’appui des acteurs institutionnels et privés incontournables (RAFAL\, Business France\, CCI\, Team France Export\, Had’Oc\, Directions du Développement Economique\, Cabinet d’avocats\, Cabinets d’experts\, clubs d’affaires\, financeurs …) \nLa Métropole de Montpellier et la Ville de Heidelberg proposent un premier niveau d’accompagnement « découverte » pour les entreprises/start-up de la Métropole de Montpellier la semaine du 11 au 17 septembre 2022 au travers d’une mission d’affaires à Heidelberg. \nLa Ville de Heidelberg et la Métropole de Montpellier proposent un premier niveau d’accompagnement « découverte » pour les entreprises/start-up de la Ville de Heidelberg la semaine du 17 au 21 octobre 2022 au travers d’une mission d’affaires à Montpellier.
URL:https://15francoallemandeoccitanie.fr/evenement/programme-dechange-start-up-et-entreprises-entre-montpellier-et-heidelberg-2/
LOCATION:Métropole de Montpellier\, 50 place Zeus\, Montpellier\, Occitanie\, France
CATEGORIES:Présentiel
ORGANIZER;CN="D&eacute%3Bveloppement International Montpellier M&eacute%3Bditerran&eacute%3Be M&eacute%3Btropole - P Ribes":MAILTO:p.ribes@montpellier3m.fr
GEO:43.6077041;3.8907493
X-APPLE-STRUCTURED-LOCATION;VALUE=URI;X-ADDRESS=Métropole de Montpellier 50 place Zeus Montpellier Occitanie France;X-APPLE-RADIUS=500;X-TITLE=50 place Zeus:geo:3.8907493,43.6077041
END:VEVENT
END:VCALENDAR