BEGIN:VCALENDAR
VERSION:2.0
PRODID:-//Quinzaine franco-allemande - ECPv6.15.20//NONSGML v1.0//EN
CALSCALE:GREGORIAN
METHOD:PUBLISH
X-WR-CALNAME:Quinzaine franco-allemande
X-ORIGINAL-URL:https://15francoallemandeoccitanie.fr
X-WR-CALDESC:Évènements pour Quinzaine franco-allemande
REFRESH-INTERVAL;VALUE=DURATION:PT1H
X-Robots-Tag:noindex
X-PUBLISHED-TTL:PT1H
BEGIN:VTIMEZONE
TZID:Europe/Paris
BEGIN:DAYLIGHT
TZOFFSETFROM:+0100
TZOFFSETTO:+0200
TZNAME:CEST
DTSTART:20210328T010000
END:DAYLIGHT
BEGIN:STANDARD
TZOFFSETFROM:+0200
TZOFFSETTO:+0100
TZNAME:CET
DTSTART:20211031T010000
END:STANDARD
BEGIN:DAYLIGHT
TZOFFSETFROM:+0100
TZOFFSETTO:+0200
TZNAME:CEST
DTSTART:20220327T010000
END:DAYLIGHT
BEGIN:STANDARD
TZOFFSETFROM:+0200
TZOFFSETTO:+0100
TZNAME:CET
DTSTART:20221030T010000
END:STANDARD
BEGIN:DAYLIGHT
TZOFFSETFROM:+0100
TZOFFSETTO:+0200
TZNAME:CEST
DTSTART:20230326T010000
END:DAYLIGHT
BEGIN:STANDARD
TZOFFSETFROM:+0200
TZOFFSETTO:+0100
TZNAME:CET
DTSTART:20231029T010000
END:STANDARD
END:VTIMEZONE
BEGIN:VEVENT
DTSTART;TZID=Europe/Paris:20221124T140000
DTEND;TZID=Europe/Paris:20221124T170000
DTSTAMP:20260424T175718
CREATED:20221107T155706Z
LAST-MODIFIED:20230228T145225Z
UID:10000092-1669298400-1669309200@15francoallemandeoccitanie.fr
SUMMARY:une amitié qui a de l’avenir
DESCRIPTION:Le lycée Nevers de Montpellier a créé un nouveau partenariat avec le lycée St Ursula en Allemagne à Düsseldorf afin de réaliser des échanges scolaires après la période du COVID-19. \nC’ est un nouveau partenariat  dont le but est de créer une amitié qui aura de l’avenir pour les élèves\, les établissements respectifs ainsi que les professeurs. \nAinsi nous souhaitons dynamiser ce premier échange scolaire qui aura lieu dans l’année scolaire 2022/23 avec un projet qui se déroulera pendant la quinzaine franco-allemande d’Occitanie. \nDurant cette rencontre virtuelle entre les élèves\, la maison de l’Europe de Nîmes en tant que modérateur assurera un rôle de médiateur afin de sensibiliser sur la relation entre les deux nations européennes. \nAu mois de juin 2023 lors de la présence des élèves allemands en France\, une visite de la maison de l’Europe à Nîmes est planifiée.  Un atelier sera animé par l’équipe de la maison de l’Europe afin de renforcer l’amitié franco-allemande et surtout travailler sur des sujets européens. \n 
URL:https://15francoallemandeoccitanie.fr/evenement/une-amitie-qui-a-de-lavenir/2022-11-24/
CATEGORIES:Distanciel,Éducation,Présentiel
ATTACH;FMTTYPE=image/jpeg:https://15francoallemandeoccitanie.fr/wp-content/uploads/2022/11/lycee-de-nevers.jpg
END:VEVENT
END:VCALENDAR