BEGIN:VCALENDAR
VERSION:2.0
PRODID:-//Quinzaine franco-allemande - ECPv6.15.20//NONSGML v1.0//EN
CALSCALE:GREGORIAN
METHOD:PUBLISH
X-WR-CALNAME:Quinzaine franco-allemande
X-ORIGINAL-URL:https://15francoallemandeoccitanie.fr
X-WR-CALDESC:Évènements pour Quinzaine franco-allemande
REFRESH-INTERVAL;VALUE=DURATION:PT1H
X-Robots-Tag:noindex
X-PUBLISHED-TTL:PT1H
BEGIN:VTIMEZONE
TZID:Europe/Paris
BEGIN:DAYLIGHT
TZOFFSETFROM:+0100
TZOFFSETTO:+0200
TZNAME:CEST
DTSTART:20210328T010000
END:DAYLIGHT
BEGIN:STANDARD
TZOFFSETFROM:+0200
TZOFFSETTO:+0100
TZNAME:CET
DTSTART:20211031T010000
END:STANDARD
BEGIN:DAYLIGHT
TZOFFSETFROM:+0100
TZOFFSETTO:+0200
TZNAME:CEST
DTSTART:20220327T010000
END:DAYLIGHT
BEGIN:STANDARD
TZOFFSETFROM:+0200
TZOFFSETTO:+0100
TZNAME:CET
DTSTART:20221030T010000
END:STANDARD
BEGIN:DAYLIGHT
TZOFFSETFROM:+0100
TZOFFSETTO:+0200
TZNAME:CEST
DTSTART:20230326T010000
END:DAYLIGHT
BEGIN:STANDARD
TZOFFSETFROM:+0200
TZOFFSETTO:+0100
TZNAME:CET
DTSTART:20231029T010000
END:STANDARD
END:VTIMEZONE
BEGIN:VEVENT
DTSTART;VALUE=DATE:20221124
DTEND;VALUE=DATE:20221125
DTSTAMP:20260424T124302
CREATED:20230102T123706Z
LAST-MODIFIED:20230102T124022Z
UID:10000061-1669248000-1669334399@15francoallemandeoccitanie.fr
SUMMARY:Les liens de l’amitié – die Bande der Freundschaft
DESCRIPTION:Le lycée Nevers de Montpellier a créé un nouveau partenariat avec le lycée St Ursula en Allemagne à Düsseldorf\, afin de réaliser à nouveau des échanges scolaires après la période du COVID-19. C’ est un nouveau partenariat afin de créer une amitié qui aura de l’avenir pour les élèves\, les établissements respectifs ainsi que les professeurs. \nCe premier échange scolaire a eu lieu dans l’année scolaire 2022/23 pendant la quinzaine franco-allemande d’Occitanie. \nEn partenariat avec la maison de l’Europe de Nîmes\, une première visite en présentielle avec les élèves français et en hybride/distanciel avec les élèves allemands a été réalisée. \nDurant cette rencontre\, les élèves ont fait connaissance virtuellement et l’animation de la maison de l’Europe de Nîmes a permis de sensibiliser sur l’importance de la relation entre nos deux nations européennes. \nLes élèves ont préparé pour cette rencontre un petit journal\, style  » la gazette » en présentant la ville de Montpellier et sa région qui a été transmise à l’école partenaire. \nAu mois de juin 2023\, lors de la présence des élèves allemands en France\, les étudiants ont visité la maison de l’Europe à Nîmes afin de reprendre le travail sur l’amitié franco-allemande et l’UE. L’atelier a été animé par l’équipe de la maison de l’Europe de Nîmes. \nEn coopération avec le directeur de la maison de l’Europe de Nîmes\, Michael Stange\,un travail équivalent avait déjà été commencé dans le cadre d’un projet Erasmus+ tri-national avec le lycée St Vincent de Paul à Nîmes. \n.
URL:https://15francoallemandeoccitanie.fr/evenement/les-liens-de-lamitie-die-bande-der-freundschaft/
LOCATION:Maison de l’Europe à Nîmes\, Maison de l'Europe\, Nîmes\, Gard\, 30900\, France
CATEGORIES:Citoyenneté,Distanciel,Distanciel,Éducation,Présentiel,Présentiel
ATTACH;FMTTYPE=image/jpeg:https://15francoallemandeoccitanie.fr/wp-content/uploads/2023/01/photo-de-groupe.jpg
ORGANIZER;CN="Lyc&eacute%3Be Nevers Montpellier":MAILTO:tanja.mouton@lycee-nevers.fr
GEO:43.830437332339;4.3561341227049
X-APPLE-STRUCTURED-LOCATION;VALUE=URI;X-ADDRESS=Maison de l’Europe à Nîmes Maison de l'Europe Nîmes Gard 30900 France;X-APPLE-RADIUS=500;X-TITLE=Maison de l'Europe:geo:4.3561341227049,43.830437332339
END:VEVENT
BEGIN:VEVENT
DTSTART;TZID=Europe/Paris:20221124T140000
DTEND;TZID=Europe/Paris:20221124T170000
DTSTAMP:20260424T124302
CREATED:20221107T155706Z
LAST-MODIFIED:20230228T145225Z
UID:10000092-1669298400-1669309200@15francoallemandeoccitanie.fr
SUMMARY:une amitié qui a de l’avenir
DESCRIPTION:Le lycée Nevers de Montpellier a créé un nouveau partenariat avec le lycée St Ursula en Allemagne à Düsseldorf afin de réaliser des échanges scolaires après la période du COVID-19. \nC’ est un nouveau partenariat  dont le but est de créer une amitié qui aura de l’avenir pour les élèves\, les établissements respectifs ainsi que les professeurs. \nAinsi nous souhaitons dynamiser ce premier échange scolaire qui aura lieu dans l’année scolaire 2022/23 avec un projet qui se déroulera pendant la quinzaine franco-allemande d’Occitanie. \nDurant cette rencontre virtuelle entre les élèves\, la maison de l’Europe de Nîmes en tant que modérateur assurera un rôle de médiateur afin de sensibiliser sur la relation entre les deux nations européennes. \nAu mois de juin 2023 lors de la présence des élèves allemands en France\, une visite de la maison de l’Europe à Nîmes est planifiée.  Un atelier sera animé par l’équipe de la maison de l’Europe afin de renforcer l’amitié franco-allemande et surtout travailler sur des sujets européens. \n 
URL:https://15francoallemandeoccitanie.fr/evenement/une-amitie-qui-a-de-lavenir/2022-11-24/
CATEGORIES:Distanciel,Éducation,Présentiel
ATTACH;FMTTYPE=image/jpeg:https://15francoallemandeoccitanie.fr/wp-content/uploads/2022/11/lycee-de-nevers.jpg
END:VEVENT
BEGIN:VEVENT
DTSTART;TZID=Europe/Paris:20221129T190000
DTEND;TZID=Europe/Paris:20221129T210000
DTSTAMP:20260424T124302
CREATED:20221028T180836Z
LAST-MODIFIED:20221107T160246Z
UID:10000087-1669748400-1669755600@15francoallemandeoccitanie.fr
SUMMARY:Das Ende der Diskriminierung?  Die Hamburger Hugenotten unter Napoleon\, 1811–1813/14
DESCRIPTION:Von 1812 bis 1813/14 war Hamburg eine französische Reichsstadt\, eine Bonne ville de l’Empire français. Allen nichtlutherischen Religionsgemeinschaften winkte ein Ende der Diskriminierung. Was wurde im Verlauf dreier Jahre angestoßen? \nWie ging es für die Reformierten nach dem Ende der Napoleonzeit weiter? \nVortrag in deutscher Sprache von Herrn PD Dr. Helmut Stubbe da Luz.\n«Verre de l’amitié» im Anschluss. \nAnmeldung in der Geschäftsstelle unter info@cluny.de\, 040-709233.
URL:https://15francoallemandeoccitanie.fr/evenement/das-ende-der-diskriminierung-die-hamburger-hugenotten-unter-napoleon-1811-1813-14/
LOCATION:Warburg-Haus\, Heilwigstraße 116\, Hamburg\, 20249\, Allemagne
CATEGORIES:Présentiel
ORGANIZER;CN="DFG Cluny e.V. Hamburg":MAILTO:info@cluny.de
GEO:53.587830434879;9.9961202085963
X-APPLE-STRUCTURED-LOCATION;VALUE=URI;X-ADDRESS=Warburg-Haus Heilwigstraße 116 Hamburg 20249 Allemagne;X-APPLE-RADIUS=500;X-TITLE=Heilwigstraße 116:geo:9.9961202085963,53.587830434879
END:VEVENT
END:VCALENDAR