BEGIN:VCALENDAR
VERSION:2.0
PRODID:-//Quinzaine franco-allemande - ECPv6.15.20//NONSGML v1.0//EN
CALSCALE:GREGORIAN
METHOD:PUBLISH
X-WR-CALNAME:Quinzaine franco-allemande
X-ORIGINAL-URL:https://15francoallemandeoccitanie.fr
X-WR-CALDESC:Évènements pour Quinzaine franco-allemande
REFRESH-INTERVAL;VALUE=DURATION:PT1H
X-Robots-Tag:noindex
X-PUBLISHED-TTL:PT1H
BEGIN:VTIMEZONE
TZID:Europe/Paris
BEGIN:DAYLIGHT
TZOFFSETFROM:+0100
TZOFFSETTO:+0200
TZNAME:CEST
DTSTART:20220327T010000
END:DAYLIGHT
BEGIN:STANDARD
TZOFFSETFROM:+0200
TZOFFSETTO:+0100
TZNAME:CET
DTSTART:20221030T010000
END:STANDARD
BEGIN:DAYLIGHT
TZOFFSETFROM:+0100
TZOFFSETTO:+0200
TZNAME:CEST
DTSTART:20230326T010000
END:DAYLIGHT
BEGIN:STANDARD
TZOFFSETFROM:+0200
TZOFFSETTO:+0100
TZNAME:CET
DTSTART:20231029T010000
END:STANDARD
BEGIN:DAYLIGHT
TZOFFSETFROM:+0100
TZOFFSETTO:+0200
TZNAME:CEST
DTSTART:20240331T010000
END:DAYLIGHT
BEGIN:STANDARD
TZOFFSETFROM:+0200
TZOFFSETTO:+0100
TZNAME:CET
DTSTART:20241027T010000
END:STANDARD
END:VTIMEZONE
BEGIN:VEVENT
DTSTART;TZID=Europe/Paris:20230405T170000
DTEND;TZID=Europe/Paris:20230405T210000
DTSTAMP:20260424T225753
CREATED:20230321T075430Z
LAST-MODIFIED:20230321T075430Z
UID:10000147-1680714000-1680728400@15francoallemandeoccitanie.fr
SUMMARY:La souveraineté numérique sera européenne ou ne sera pas !
DESCRIPTION:A l’occasion de la célébration du 60ème anniversaire de la signature du Traité de Versailles\, le Chancelier Olaf Scholz et le président Emmanuel Macron ont insisté sur l’importance de revoir notre politique commune en matière de souveraineté.\n\nEn tant qu’organisation représentante des créateurs et dirigeants d’entreprise\, il nous a paru opportun de profiter de la prochaine Quinzaine franco-allemande d’Occitanie pour proposer un évènement autour de la souveraineté numérique. Qui\, de notre point de vue ne pourra être qu’Européenne (compte tenu des enjeux politiques\, des ressources\, compétences et des besoins d’investissement nécessaires).\n– Pourquoi les allemands s’adressent en premier aux américains (ou israéliens en Cybersécurité) quand ils ne trouvent pas de solutions technologiques satisfaisantes en Allemagne ? Alors qu’ils pourraient trouver en France des partenaires compétents et fiables.\n– Pourquoi les français se précipitent en Chine quand ils ne trouvent pas de partenaires industriels satisfaisants en France ? Alors qu’il existe en Allemagne (et en particulier dans les nouveaux Landers) des partenaires industriels fiables et fournissant des produits d’une qualité sans appel.\n  \nLe 05.04.2023\, 17H00\, une table ronde sera organisée au Midi Libre sous la modération de Oliver Biscaye\, chef rédacteur du Midi Libre.\nEvénement hybride en traduction simultanée en allemand et français\n  \nTable ronde I\nRisques et impacts de la souveraineté numérique\nLes normes internationales et européennes\nL’European Data Act et ses limites\n\nTable ronde II\nDes solutions souveraines européennes affranchies des\nleaders mondiaux ?\nPlace limitée\, inscription ici\n 
URL:https://15francoallemandeoccitanie.fr/evenement/la-souverainete-numerique-sera-europeenne-ou-ne-sera-pas/
LOCATION:Midi Libre\, Rue du Mas de Grille\, saint jean de Védas\, 34 000\, France
CATEGORIES:Distanciel,Économie,Présentiel
ATTACH;FMTTYPE=image/jpeg:https://15francoallemandeoccitanie.fr/wp-content/uploads/2023/03/Invitation-QFAO-FR.jpg
ORGANIZER;CN="Medef":MAILTO:didier.caucheteur@oc-devco.com
GEO:43.5727914;3.8515897
X-APPLE-STRUCTURED-LOCATION;VALUE=URI;X-ADDRESS=Midi Libre Rue du Mas de Grille saint jean de Védas 34 000 France;X-APPLE-RADIUS=500;X-TITLE=Rue du Mas de Grille:geo:3.8515897,43.5727914
END:VEVENT
BEGIN:VEVENT
DTSTART;TZID=Europe/Paris:20230405T173000
DTEND;TZID=Europe/Paris:20230405T190000
DTSTAMP:20260424T225753
CREATED:20230326T110749Z
LAST-MODIFIED:20230326T110749Z
UID:10000153-1680715800-1680721200@15francoallemandeoccitanie.fr
SUMMARY:Retour vers le futur. Regards des jeunes en France et en Allemagne
DESCRIPTION:Présentation de l’Étude franco-allemande sur la jeunesse par Claire Demesmay \n\nLes deux pays – et en premier lieu\, les jeunes – sont confrontés à des défis sociétaux\, climatiques et géopolitiques majeurs. L’Office Franco-Allemand pour la Jeunesse (OFAJ) a chargé Kantar Public de réaliser une étude représentative dans laquelle il a été demandé à un total de 1 527 jeunes d’Allemagne et 1 551 jeunes de France âgés de 16 à 25 ans comment ils envisageaient l’avenir. Environ deux tiers des jeunes en France et en Allemagne sont inquiets en ce qui concerne leur avenir. Ils sont particulièrement insatisfaits quant à leurs possibilités de participation et considèrent que le changement climatique représente le plus grand défi. Même si les jeunes des deux pays portent un regard assez critique sur l’avenir\, ils se montrent optimistes concernant la coopération franco-allemande et la solidarité européenne. \nDr. habil. Claire Demesmay est politiste et spécialiste de la relation franco-allemande et des questions européennes. Elle dirige le bureau formation interculturelle à l’OFAJ et est chercheure associée au Centre Marc Bloch Berlin. \n\nLa conférence aura lieu à la Faculté de Droit et de Science politique Montpellier (entrée principale rue de l’École Mage)\, amphithéâtre Guillaume de Nogaret\, bâtiment 1\, premier étage.
URL:https://15francoallemandeoccitanie.fr/evenement/retour-vers-le-futur-regards-des-jeunes-en-france-et-en-allemagne/
LOCATION:Faculte de Droit et Science politique\, Rue de l’École Mage\, Montpellier\, Occitanie\, 34 000\, France
CATEGORIES:Citoyenneté,Éducation,Présentiel,Présentiel
ATTACH;FMTTYPE=image/jpeg:https://15francoallemandeoccitanie.fr/wp-content/uploads/2023/03/Visuel-Claire-Demesmay_OFAJ.jpg
GEO:43.6137858;3.8763396
X-APPLE-STRUCTURED-LOCATION;VALUE=URI;X-ADDRESS=Faculte de Droit et Science politique Rue de l’École Mage Montpellier Occitanie 34 000 France;X-APPLE-RADIUS=500;X-TITLE=Rue de l’École Mage:geo:3.8763396,43.6137858
END:VEVENT
BEGIN:VEVENT
DTSTART;TZID=Europe/Paris:20230405T183000
DTEND;TZID=Europe/Paris:20230405T200000
DTSTAMP:20260424T225753
CREATED:20230402T093803Z
LAST-MODIFIED:20230402T093803Z
UID:10000191-1680719400-1680724800@15francoallemandeoccitanie.fr
SUMMARY:Soirée-Tandem en ligne
DESCRIPTION:La soirée Tandem permet aux francophones apprenant l’allemand et aux germanophones apprenant le français de se retrouver pour échanger sur le plan linguistique et culturel.  \nNous nous réjouissons de proposer également un format en ligne pour ces rencontres. \n Rien de plus simple que de passer une soirée franco-allemande depuis votre canapé pour discuter\, jouer\, apprendre mais peut-être aussi trouver un.e partenaire tandem sur le long terme. Organisée dans cadre de la quinzaine franco-allemande en Occitanie\, cette soirée sera dédiée à cette belle et intéressante région !  \nL’inscription au préalable à la soirée se fait par mail. Nous vous communiquerons le lien pour vous connecter quelques jours avant la manifestation.  \nMerci de nous communiquer lors de l’inscription votre langue maternelle et votre niveau dans la langue cible.  \nNos soirées sont ouvertes à tous et à toutes\, quel que soit le niveau de langue. Gratuit\, inscription obligatoire par mail tandem-toulouse@goethe.de
URL:https://15francoallemandeoccitanie.fr/evenement/soiree-tandem-en-ligne/
LOCATION:Goethe Institut\, 4 BIS Rue Clémence Isaure\, Toulouse\, Occitanie\, 31000\, France
CATEGORIES:Distanciel,Éducation
ATTACH;FMTTYPE=image/jpeg:https://15francoallemandeoccitanie.fr/wp-content/uploads/2023/04/tandem-en-ligne-ccharlotte-seitz-v1-formatkey-jpg-w511.jpg
ORGANIZER;CN="Goethe Institut Toulouse":MAILTO:info-toulouse@goethe.de
GEO:43.6009639;1.4419022
X-APPLE-STRUCTURED-LOCATION;VALUE=URI;X-ADDRESS=Goethe Institut 4 BIS Rue Clémence Isaure Toulouse Occitanie 31000 France;X-APPLE-RADIUS=500;X-TITLE=4 BIS Rue Clémence Isaure:geo:1.4419022,43.6009639
END:VEVENT
END:VCALENDAR