BEGIN:VCALENDAR
VERSION:2.0
PRODID:-//Quinzaine franco-allemande - ECPv6.15.20//NONSGML v1.0//EN
CALSCALE:GREGORIAN
METHOD:PUBLISH
X-ORIGINAL-URL:https://15francoallemandeoccitanie.fr
X-WR-CALDESC:Évènements pour Quinzaine franco-allemande
REFRESH-INTERVAL;VALUE=DURATION:PT1H
X-Robots-Tag:noindex
X-PUBLISHED-TTL:PT1H
BEGIN:VTIMEZONE
TZID:Europe/Paris
BEGIN:DAYLIGHT
TZOFFSETFROM:+0100
TZOFFSETTO:+0200
TZNAME:CEST
DTSTART:20210328T010000
END:DAYLIGHT
BEGIN:STANDARD
TZOFFSETFROM:+0200
TZOFFSETTO:+0100
TZNAME:CET
DTSTART:20211031T010000
END:STANDARD
BEGIN:DAYLIGHT
TZOFFSETFROM:+0100
TZOFFSETTO:+0200
TZNAME:CEST
DTSTART:20220327T010000
END:DAYLIGHT
BEGIN:STANDARD
TZOFFSETFROM:+0200
TZOFFSETTO:+0100
TZNAME:CET
DTSTART:20221030T010000
END:STANDARD
BEGIN:DAYLIGHT
TZOFFSETFROM:+0100
TZOFFSETTO:+0200
TZNAME:CEST
DTSTART:20230326T010000
END:DAYLIGHT
BEGIN:STANDARD
TZOFFSETFROM:+0200
TZOFFSETTO:+0100
TZNAME:CET
DTSTART:20231029T010000
END:STANDARD
END:VTIMEZONE
BEGIN:VEVENT
DTSTART;TZID=Europe/Paris:20221008T080000
DTEND;TZID=Europe/Paris:20221016T170000
DTSTAMP:20260424T132101
CREATED:20220909T104929Z
LAST-MODIFIED:20220909T104929Z
UID:10000078-1665216000-1665939600@15francoallemandeoccitanie.fr
SUMMARY:Deutschland im Gers
DESCRIPTION:Cette année en partenariat avec la « fête du terroir »\, l’association « le 122 »\, association qui  favorise la création et l’expression artistique\, vous invite à un \n**voyage culturel et gastronomique franco-allemand exceptionnel! ** \nL’allemand est une réalité vivante à Lectoure! Afin de parfaire la connaissance de la culture et la langue allemande dans un milieu rural\, plusieurs événements sont organisés à l’automne. \nVenez éveiller vos papilles gustatives lors d’un repas organisé le samedi 15.10.2022 à 12H au café des sports. Pour continuer les festivités dans un esprit convivial et afin d’impulser et encourager les échanges\, une soirée est prévue à partir de 19H. \nAfin de compléter cette immersion\, l’association vous convie à des conférences culturelles le dimanche 16.10.2022.  \nUne approche plus artistique vous est proposé via l’exposition « Au Grès de la Gastronomie Allemande »  du 08 au 16.10.2022 à la mairie de Lectoure!
URL:https://15francoallemandeoccitanie.fr/evenement/deutschland-im-gers/
LOCATION:café des sports\, 73 Rue nationale\, Lectoure\, Occitanie\, 32700\, France
ATTACH;FMTTYPE=image/jpeg:https://15francoallemandeoccitanie.fr/wp-content/uploads/2022/09/Deutschland-im-Gers-2022-qfa-scaled.jpg
ORGANIZER;CN="deutsch 32":MAILTO:christinechilds32@gmail.com
GEO:43.934755138194;0.62032366855345
X-APPLE-STRUCTURED-LOCATION;VALUE=URI;X-ADDRESS=café des sports 73 Rue nationale Lectoure Occitanie 32700 France;X-APPLE-RADIUS=500;X-TITLE=73 Rue nationale:geo:0.62032366855345,43.934755138194
END:VEVENT
BEGIN:VEVENT
DTSTART;VALUE=DATE:20221017
DTEND;VALUE=DATE:20221022
DTSTAMP:20260424T132101
CREATED:20220708T064453Z
LAST-MODIFIED:20220708T064453Z
UID:10000077-1665964800-1666396799@15francoallemandeoccitanie.fr
SUMMARY:PROGRAMME D’ÉCHANGE START-UP ET ENTREPRISES ENTRE MONTPELLIER ET HEIDELBERG
DESCRIPTION:Dans le cadre de l’internationalisation des entreprises\, la Métropole de Montpellier joue\, depuis bientôt vingt années\, un rôle prépondérant. \nDe ces expériences communes nous en avons tiré des enseignements qui vont nous permettre d’améliorer cet accompagnement et surtout d’augmenter les chances de réussites pour les entreprises. \nL’internationalisation doit découler d’une stratégie en adéquation avec l’entreprise mais doit aussi respecter des étapes obligatoires : de préparation\, de découverte\, de positionnement et de maturation. \nLa Ville de Montpellier\, sa Métropole\, et la Ville de Heidelberg\, dans le cadre du 60ème anniversaire de leur jumelage\, grâce à la volonté politique de leurs Maires et Président\, ont décidé de lancer une opération globale d’accompagnement afin de minimiser la part de risque et de pouvoir accompagner les entreprises des 2 territoires dans leur réussite à l’international. \nCet accompagnement est mis en place pour permettre d’éviter certains écueils : mauvaise stratégie\, chronophagie\, financier\, RH…. Il va s’inscrire dans la durée en suivant la progression des quatre plots de la chaine de l’internationalisation grâce à la Task Force International et à l’appui des acteurs institutionnels et privés incontournables (RAFAL\, Business France\, CCI\, Team France Export\, Had’Oc\, Directions du Développement Economique\, Cabinet d’avocats\, Cabinets d’experts\, clubs d’affaires\, financeurs …) \nLa Métropole de Montpellier et la Ville de Heidelberg proposent un premier niveau d’accompagnement « découverte » pour les entreprises/start-up de la Métropole de Montpellier la semaine du 11 au 17 septembre 2022 au travers d’une mission d’affaires à Heidelberg. \nLa Ville de Heidelberg et la Métropole de Montpellier proposent un premier niveau d’accompagnement « découverte » pour les entreprises/start-up de la Ville de Heidelberg la semaine du 17 au 21 octobre 2022 au travers d’une mission d’affaires à Montpellier.
URL:https://15francoallemandeoccitanie.fr/evenement/programme-dechange-start-up-et-entreprises-entre-montpellier-et-heidelberg/2022-10-17/
LOCATION:Heidelberg\, Hôtel de Ville\, Heidelberg\, Rhein Neckar\, Allemagne
CATEGORIES:Présentiel
ORGANIZER;CN="Direction Economie Heidelberg - Marc Massoth":MAILTO:Marc.Massoth@Heidelberg.de
GEO:49.3987524;8.6724335
X-APPLE-STRUCTURED-LOCATION;VALUE=URI;X-ADDRESS=Heidelberg Hôtel de Ville Heidelberg Rhein Neckar Allemagne;X-APPLE-RADIUS=500;X-TITLE=Hôtel de Ville:geo:8.6724335,49.3987524
END:VEVENT
BEGIN:VEVENT
DTSTART;VALUE=DATE:20221019
DTEND;VALUE=DATE:20221105
DTSTAMP:20260424T132101
CREATED:20221016T195103Z
LAST-MODIFIED:20221028T180725Z
UID:10000081-1666137600-1667606399@15francoallemandeoccitanie.fr
SUMMARY:OKZITANIEN\, EINE FOTOREISE DURCH DIE 31 GROßEN STANDORTE DER REGION
DESCRIPTION:Vernissage am Mittwoch\, dem 19. Oktober um 18 Uhr 30 mit Büffet \nAusstellung 19.10. – 04.11.2022 \n  \nRathausfoyer\, Rathaus\, Marktplatz 1\, 69117 Heidelberg \nMontpellier-Haus\, Kettengasse 19\, 69117 Heidelberg\, Eintritt frei \n  \nDie großen Standorte Okzitaniens/Sud de France konzentrieren eine einzigartige Vielfalt an historischen Gedenkstätten\, kulturellen\, natürlichen und historischen Reichtümer südwestlich der Rhône. Von den Cévennen bis zu den Pyrenäen entlang des Mittelmeers offenbart sich Okzitanien beim Besuch seiner 41 sehenswerten Kulturstätten\, seien sie majestätisch\, authentisch\, wild oder sagenumwoben. Acht Unesco-Welterbe sind in der seit 2016 aus zwei Ländern zusammengeführten und seitdem zweitgrößten Region des Festlandes Frankreich zu entdecken\, vom römischen Pont du Gard bis zur Festung Carcassonne. Aber auch: die Schluchten des Aveyrons\, die Hochebene Larzac mit ihren Ruinen der Templer\, den Canal du Midi\, die Wege nach Santiago de Compostella\, die regionale Hauptstadt Toulouse und Vieles mehr. Eine einzigartige und unvergessliche Erfahrung garantiert. Eine Ausstellung\, um Ihnen Lust zu geben\, all diese Standorte zu besichtigen! \nEine Veranstaltung des Montpellier-Hauses in Zusammenarbeit mit der Region Okzitanien und der Stadt Heidelberg
URL:https://15francoallemandeoccitanie.fr/evenement/okzitanien-eine-fotoreise-durch-die-31-grosen-standorte-der-region/
LOCATION:Maison de Montpellier\, Kettengasse 19\, Heidelberg\, Bade Wurtemberg\, 69117\, France
ATTACH;FMTTYPE=image/jpeg:https://15francoallemandeoccitanie.fr/wp-content/uploads/2022/10/photo-dintroduction.jpg
ORGANIZER;CN="Maison de Montpellier":MAILTO:jauregui@montpellier-haus.de
GEO:49.410928153204;8.7087795672686
X-APPLE-STRUCTURED-LOCATION;VALUE=URI;X-ADDRESS=Maison de Montpellier Kettengasse 19 Heidelberg Bade Wurtemberg 69117 France;X-APPLE-RADIUS=500;X-TITLE=Kettengasse 19:geo:8.7087795672686,49.410928153204
END:VEVENT
BEGIN:VEVENT
DTSTART;TZID=Europe/Paris:20221021T200000
DTEND;TZID=Europe/Paris:20221021T213000
DTSTAMP:20260424T132101
CREATED:20220909T133317Z
LAST-MODIFIED:20220909T133317Z
UID:10000079-1666382400-1666387800@15francoallemandeoccitanie.fr
SUMMARY:Deutschland im Gers 2022
DESCRIPTION:Concert Lyrique « Au fil des musiques allemandes et interculturelles »\nLa voix aigue et un peu vibrato de Corinne Fructus accompagnée au piano du chef d’orchestre terraubois David Levi nous plongera dans l’univers incroyable du lyrique! \nUn concert inoubliable dans un lieu sacré autrefois ancienne chapelle du couvent des Carmes\, l’église du Saint-Esprit. \nPrix des places: 10 euros « adulte » & gratuit pour les « enfants ». \nPour réserver\, il vous suffit de cliquer sur le lien suivant: https://gascogne-lomagne.fr/billetterie/ ou sur place. \n  \n  \n 
URL:https://15francoallemandeoccitanie.fr/evenement/deutschland-im-gers-2022/
LOCATION:Eglise du Saint Esprit\, rue du 14 juillet\, rue La feugère Boutan\,\, Lectoure\, Occitanie\, 32700\, France
ATTACH;FMTTYPE=image/jpeg:https://15francoallemandeoccitanie.fr/wp-content/uploads/2022/09/Pub-CONCERT-Deutsch32-2022-v2-scaled.jpg
ORGANIZER;CN="deutsch 32":MAILTO:christinechilds32@gmail.com
GEO:43.933890029217;0.6196463225568
X-APPLE-STRUCTURED-LOCATION;VALUE=URI;X-ADDRESS=Eglise du Saint Esprit rue du 14 juillet rue La feugère Boutan Lectoure Occitanie 32700 France;X-APPLE-RADIUS=500;X-TITLE=rue du 14 juillet\, rue La feugère Boutan\,:geo:0.6196463225568,43.933890029217
END:VEVENT
BEGIN:VEVENT
DTSTART;VALUE=DATE:20221022
DTEND;VALUE=DATE:20221023
DTSTAMP:20260424T132101
CREATED:20221016T203948Z
LAST-MODIFIED:20221017T070638Z
UID:10000083-1666396800-1666483199@15francoallemandeoccitanie.fr
SUMMARY:Journée d’Occitanie pendant la Semaine Française\, 22 octobre 2022 // Okzitanien-Tag der Französischen Woche\, 22. Oktober 2022
DESCRIPTION:Dans le cadre de la Semaine Française de Heidelberg // Im Rahmen der Französischen Woche Heideberg\n\n« Occitània mon pais » – c’est sous cette devise que la Journée d’Occitanie se présente avec un programme varié pour Jeunes et moins Jeunes. En ouverture à 15h au théâtre de Heidelberg\, la compagnie IETO de Toulouse montrera avec leur pièce poético-acrobatique Pour hêtre comment une cohabitation harmonieuse entre les êtres humains et leur environnement est possible. La journée se poursuivra de manière ludique\, artistique\, littéraire et musicale avec un jeu de piste\, une partie de pétanque\, un atelier de dessin pour les jeunes sauvages\, une courte conférence de Claire Muchir\, directrice du Musée d’art moderne de Collioure sur les fauvistes\, et de Ralf Rieber sur la langue occitane\, avec des chansons occitanes à chanter ensemble ainsi que des textes de Molière mis en scène par des lycéens de Heidelberg et Wiesloch. En clôture de cette Journée\, la Région invitera à un buffet occitan au Marstallcafé\, et avec le Trio Raffut on pourra fêter au groove méditerranéen et tropical.\n\nLes organisateurs sont le Cercle culturel franco-allemand et la Maison de Montpellier \n  \n\n„Occitània mon pais“ – unter diesem Motto steht der Okzitanien-Tag mit einem bun­ten Programm für Jung und Ältere. Zur Eröffnung um 15 Uhr im Theater der Stadt Heidelberg zeigt die Com­pagnie IETO aus Toulouse mit ihrem poetisch-akrobatischen Stück Pour hêtre\, wie ein harmo­nisches Zusammenleben von Mensch und Umwelt möglich ist. Spielerisch\, künstlerisch\, literarisch und musi­kalisch geht es danach weiter mit einer Schnitzeljagd\, mit Boule-Spiel\, einem Malatelier für junge Wilde\, einem Kurzvortrag von Claire Muchir\, Direktorin des Musée d‘art moderne de Collioure\, über die Fauvisten sowie von Ralf Rieber zur okzitanischen Sprache\, mit gemeinsamem Singen okzita­nischer Lieder sowie mit Texten und szenischen Umsetzungen zu Molière durch Gymnasiasten*innen aus Heidelberg und Wiesloch. Zum Abschluss des Tages lädt die Region zu einem okzitanischen Buffet ein und mit dem Trio Raffut wird mit mediterranem und tropischem Groove im Marstallcafé gefeiert.\n\nVeranstalter:  das Montpellier-Haus.& Deutsch-Französische Kulturkreis – dfk \n 
URL:https://15francoallemandeoccitanie.fr/evenement/journee-doccitanie-pendant-la-semaine-francaise-22-octobre-2022-okzitanien-tag-der-franzosischen-woche-22-oktober-2022/
LOCATION:théatre de Heidelberg\, Theaterstrasse 10\, Heidelberg\, Bade Wurtemberg\, 69117\, France
ORGANIZER;CN="Maison de Montpellier":MAILTO:jauregui@montpellier-haus.de
GEO:49.410727925901;8.7037385508501
X-APPLE-STRUCTURED-LOCATION;VALUE=URI;X-ADDRESS=théatre de Heidelberg Theaterstrasse 10 Heidelberg Bade Wurtemberg 69117 France;X-APPLE-RADIUS=500;X-TITLE=Theaterstrasse 10:geo:8.7037385508501,49.410727925901
END:VEVENT
END:VCALENDAR