BEGIN:VCALENDAR
VERSION:2.0
PRODID:-//Quinzaine franco-allemande - ECPv6.15.20//NONSGML v1.0//EN
CALSCALE:GREGORIAN
METHOD:PUBLISH
X-ORIGINAL-URL:https://15francoallemandeoccitanie.fr
X-WR-CALDESC:Évènements pour Quinzaine franco-allemande
REFRESH-INTERVAL;VALUE=DURATION:PT1H
X-Robots-Tag:noindex
X-PUBLISHED-TTL:PT1H
BEGIN:VTIMEZONE
TZID:Europe/Paris
BEGIN:DAYLIGHT
TZOFFSETFROM:+0100
TZOFFSETTO:+0200
TZNAME:CEST
DTSTART:20220327T010000
END:DAYLIGHT
BEGIN:STANDARD
TZOFFSETFROM:+0200
TZOFFSETTO:+0100
TZNAME:CET
DTSTART:20221030T010000
END:STANDARD
BEGIN:DAYLIGHT
TZOFFSETFROM:+0100
TZOFFSETTO:+0200
TZNAME:CEST
DTSTART:20230326T010000
END:DAYLIGHT
BEGIN:STANDARD
TZOFFSETFROM:+0200
TZOFFSETTO:+0100
TZNAME:CET
DTSTART:20231029T010000
END:STANDARD
BEGIN:DAYLIGHT
TZOFFSETFROM:+0100
TZOFFSETTO:+0200
TZNAME:CEST
DTSTART:20240331T010000
END:DAYLIGHT
BEGIN:STANDARD
TZOFFSETFROM:+0200
TZOFFSETTO:+0100
TZNAME:CET
DTSTART:20241027T010000
END:STANDARD
END:VTIMEZONE
BEGIN:VEVENT
DTSTART;TZID=Europe/Paris:20230120T100000
DTEND;TZID=Europe/Paris:20230120T123000
DTSTAMP:20260420T112855
CREATED:20230112T114818Z
LAST-MODIFIED:20230112T114818Z
UID:10000099-1674208800-1674217800@15francoallemandeoccitanie.fr
SUMMARY:60 ième anniversaire du Traité de l'Elysée - Lycée International Jules Guesde
DESCRIPTION:Le Lycée International Jules Guesde organise à l’occasion du 60 ième anniversaire du Traité de l’Elysée un programme autour de l’amitié franco-allemande. \nA cette occasion différents partenaires se sont réunis afin de témoigner du dynamisme occitan-allemand & de leurs engagements pour la jeunesse. \nPour consulter le programme\, cliquez ici: programme 60 ans traité de l’Elysée \n  \n📢 A savoir sur le « Traité de l’Elysee » \n\nLe renforcement de la compréhension mutuelle par le biais de l’enseignement de la langue du partenaire fut l’enjeu principal du troisième et dernier volet du programme de coopération du traité intitulé « Éducation et Jeunesse ».
URL:https://15francoallemandeoccitanie.fr/evenement/60-ieme-anniversaire-du-traite-de-lelysee-lycee-international-jules-guesde/
LOCATION:lycee international Jules Guesde\, 110 avenue de Lodève\, Montpellier\, 34000
CATEGORIES:Citoyenneté,Éducation,Présentiel,Présentiel
ATTACH;FMTTYPE=image/jpeg:https://15francoallemandeoccitanie.fr/wp-content/uploads/2023/01/Affiche-Journee-du-20-Janvier-LJG.jpg
GEO:43.6120445;3.8483046
X-APPLE-STRUCTURED-LOCATION;VALUE=URI;X-ADDRESS=lycee international Jules Guesde 110 avenue de Lodève Montpellier 34000;X-APPLE-RADIUS=500;X-TITLE=110 avenue de Lodève:geo:3.8483046,43.6120445
END:VEVENT
BEGIN:VEVENT
DTSTART;TZID=Europe/Paris:20230120T170000
DTEND;TZID=Europe/Paris:20230120T183000
DTSTAMP:20260420T112855
CREATED:20230102T102048Z
LAST-MODIFIED:20230113T153733Z
UID:10000095-1674234000-1674239400@15francoallemandeoccitanie.fr
SUMMARY:Innovations françaises + Innovations allemandes = Succès !
DESCRIPTION:Dans le cadre de la commémoration des 60 ans du Traité de l’Elysée\, qui entérinait l’amitié franco-allemande quelques années seulement après la seconde guerre mondiale\, les Amis d’Eggelfelden et la Quinzaine franco-allemande d’Occitanie proposent une soirée exceptionnelle le 20 janvier 2023 à l’Odeum de Carcassonne. \nLa soirée se déroulera en deux temps : \n\nUne Master Class d’Olivier Mettery\, 17H00\n\nCette conférence a pour objectif de démontrer combien\, quand elles se combinent et s’enrichissent mutuellement\, les innovations allemandes et françaises dans de nombreux domaines (Santé\, Aéronautique\, Espace\, Automobile\, Moteurs\, etc) apportent de grands succès à l’Europe et au Monde. \n\nConcert de musique des « Amateurs virtuoses » à 19H00\n\nLa soirée se terminera par un moment musical en collaboration avec Les Amateurs virtuoses\, et un programme croisé qui viendra symboliser cette désormais solide et longue relation d’amitié franco-allemande : le pianiste français Ariel Sirat jouera les Scènes d’enfants de Robert Schumann\, tandis que le pianiste allemand Johannes Gaechter jouera Gaspard de la nuit de Maurice Ravel. \nPour plus d’informations sur « les amateurs virtuoses »\, cliquez ici \n** Entrée gratuite \n———————————————————————————————————————————————————————————————————————————————- \nA propos de… \nOlivier Mettery : Ingénieur en électronique\, Olivier a réalisé toute sa carrière dans l’industrie aéronautique. Son cheminement professionnel et sa passion des sciences et techniques l’on conduit à imaginer cette présentation originale qui fait la part belle à l’innovation. Il nous livre ici un regard original et ludique sur les inventions/Innovations Allemandes et Françaises qui\, combinées\, ont changé le monde. \n.
URL:https://15francoallemandeoccitanie.fr/evenement/innovations-francaises-innovations-allemandes-succes/
LOCATION:Odeum Carcassonne\, 64 Rue Antoine Marty\, Occitanie\, 11000\, France
CATEGORIES:Culture,Économie,Présentiel,Présentiel
ATTACH;FMTTYPE=image/jpeg:https://15francoallemandeoccitanie.fr/wp-content/uploads/2022/12/INNOVATIONS.20.01.2023-rotated.jpg
ORGANIZER;CN="Comit%C3%A9 de jumelage Carcassonne-Eggenfelden":MAILTO:grille.jeanluc@neuf.fr
GEO:43.2165936;2.354465
X-APPLE-STRUCTURED-LOCATION;VALUE=URI;X-ADDRESS=Odeum Carcassonne 64 Rue Antoine Marty Occitanie 11000 France;X-APPLE-RADIUS=500;X-TITLE=64 Rue Antoine Marty:geo:2.354465,43.2165936
END:VEVENT
BEGIN:VEVENT
DTSTART;TZID=Europe/Paris:20230125T183000
DTEND;TZID=Europe/Paris:20230125T200000
DTSTAMP:20260420T112855
CREATED:20230103T155130Z
LAST-MODIFIED:20230103T155130Z
UID:10000096-1674671400-1674676800@15francoallemandeoccitanie.fr
SUMMARY:Où en est le couple franco-allemand?
DESCRIPTION:Le 22 janvier 1963\, la France et l’Allemagne signaient le traité de l’Elysée destiné à sceller la réconciliation entre nos deux pays. Cette année est le 60e anniversaire de cet évènement qui reste un axe structurant des relations franco-allemandes. Pour autant\, les relations entre nos deux pays ont connu\, récemment de nombreuses tensions sur un certain nombre d’enjeux. \nPascal Thibaut\, correspondant de RFI à Berlin et spécialiste des relations franco-allemandes viendra débattre de cette histoire du couple franco-allemand et de son actualité. Une rencontre qui sera aussi l’occasion de revenir sur la perception que les Allemands ont de leur relation avec la France. \nModération : Vincent Coste (Midi Libre)
URL:https://15francoallemandeoccitanie.fr/evenement/ou-en-est-le-couple-franco-allemand/
LOCATION:Maison de Heidelberg\, 4 rueTrésoriers de la Bourse\, Montpellier\, 34000\, France
CATEGORIES:Citoyenneté,Culture,Économie,Présentiel,Présentiel,Présentiel
ATTACH;FMTTYPE=image/jpeg:https://15francoallemandeoccitanie.fr/wp-content/uploads/2023/01/Affiche-Mtp-def.jpg
GEO:43.610022;3.8757307
X-APPLE-STRUCTURED-LOCATION;VALUE=URI;X-ADDRESS=Maison de Heidelberg 4 rueTrésoriers de la Bourse Montpellier 34000 France;X-APPLE-RADIUS=500;X-TITLE=4 rueTrésoriers de la Bourse:geo:3.8757307,43.610022
END:VEVENT
END:VCALENDAR