BEGIN:VCALENDAR
VERSION:2.0
PRODID:-//Quinzaine franco-allemande - ECPv6.15.20//NONSGML v1.0//EN
CALSCALE:GREGORIAN
METHOD:PUBLISH
X-ORIGINAL-URL:https://15francoallemandeoccitanie.fr
X-WR-CALDESC:Évènements pour Quinzaine franco-allemande
REFRESH-INTERVAL;VALUE=DURATION:PT1H
X-Robots-Tag:noindex
X-PUBLISHED-TTL:PT1H
BEGIN:VTIMEZONE
TZID:Europe/Paris
BEGIN:DAYLIGHT
TZOFFSETFROM:+0100
TZOFFSETTO:+0200
TZNAME:CEST
DTSTART:20230326T010000
END:DAYLIGHT
BEGIN:STANDARD
TZOFFSETFROM:+0200
TZOFFSETTO:+0100
TZNAME:CET
DTSTART:20231029T010000
END:STANDARD
BEGIN:DAYLIGHT
TZOFFSETFROM:+0100
TZOFFSETTO:+0200
TZNAME:CEST
DTSTART:20240331T010000
END:DAYLIGHT
BEGIN:STANDARD
TZOFFSETFROM:+0200
TZOFFSETTO:+0100
TZNAME:CET
DTSTART:20241027T010000
END:STANDARD
BEGIN:DAYLIGHT
TZOFFSETFROM:+0100
TZOFFSETTO:+0200
TZNAME:CEST
DTSTART:20250330T010000
END:DAYLIGHT
BEGIN:STANDARD
TZOFFSETFROM:+0200
TZOFFSETTO:+0100
TZNAME:CET
DTSTART:20251026T010000
END:STANDARD
END:VTIMEZONE
BEGIN:VEVENT
DTSTART;TZID=Europe/Paris:20240323T090000
DTEND;TZID=Europe/Paris:20240323T183000
DTSTAMP:20260424T133934
CREATED:20240303T191933Z
LAST-MODIFIED:20240303T191933Z
UID:10000325-1711184400-1711218600@15francoallemandeoccitanie.fr
SUMMARY:« Rencontres franco-allemandes autour du patrimoine culturel cistercien et son impact territorial »
DESCRIPTION:L’héritage des abbayes cisterciennes résonne à travers les siècles\, portant en lui l’éclat d’une histoire riche et d’une vision qui transcende le temps. Autrefois des refuges pour les plus démunis\, ces lieux majestueux étaient le cœur vibrant de la société médiévale. Aujourd’hui\, leur pertinence est étonnamment contemporaine\, incarnant l’histoire vivante des territoires. \nCes abbayes\, bien avant leur époque\, ont été des pionnières dans le modèle d’une économie circulaire\, prônant la durabilité et l’harmonie avec leur environnement. Les Cisterciens\, visionnaires de leur temps\, ont annoncé l’Europe avant même qu’elle ne prenne forme. Leurs enseignements et leur influence persistent\, rappelant que le passé est un guide pour l’avenir. \nUn nouvel événement portant sur les effets structurants et l’économie touristique liés au patrimoine historique exceptionnel que constituent les Abbayes Cisterciennes en Occitanie et en Allemagne.\nLe 23 mars 2024\, un regard croisé franco- allemand sera porté par des gestionnaires d’abbayes\, des institutionnels et des acteurs de l’écosystème culturel. \nProgramme de la Journée: \n09H40: Conférence\nThomas POIRAUD\, co-président de Cisterciens en Rouergue\, nous plongera le monde cistercien allant de Citeaux à un réseau économique européen. \n14H15: 1ère Table Ronde\nHuit propriétaires ou gestionnaires\, d’Allemagne et d’Occitanie\, échangeront sur « L’ATTRACTIVITE DES MONUMENTS. » Présentation de l’architecture\, évolutions\, et autres thématiques artistiques seront explorées. \n16H00: 2ème Table Ronde \n18H30: Concert de Musique\nLes Affranchi·e·s\, un collectif musical qui s’exprimera avec des instruments d’époque et offrira une performance inspirée des répertoires franco-allemands des XVIIe et XVIIIe siècles dans un cadre exceptionnel de l’abbatial. \nL’ensemble de la manifestation est gratuite ( à l’exception du déjeuner) et ouverte à tous sous réserve d’inscription\, dans la limite des places disponibles. \n🔗 Réservation et Informations:\nRéservez votre place via le lien: https://lnkd.in/eKh3qV6Y\nRéservation pour le déjeuner: https://www.billetweb.fr/journee-de-rencontre-des-abbayes-cisterciennes
URL:https://15francoallemandeoccitanie.fr/evenement/rencontres-franco-allemandes-autour-du-patrimoine-culturel-cistercien-et-son-impact-territorial/
LOCATION:Abbaye de Beaulieu-en-Rouergue\, Beaulieu Lieu-dit\, Ginals\, Occitanie\, 82330\, France
CATEGORIES:Culture,Présentiel
ATTACH;FMTTYPE=image/jpeg:https://15francoallemandeoccitanie.fr/wp-content/uploads/2024/03/beaulieux-en-rouergue_creditcentre-des-monumentsnationaux.jpg
GEO:44.218335;1.8757422
X-APPLE-STRUCTURED-LOCATION;VALUE=URI;X-ADDRESS=Abbaye de Beaulieu-en-Rouergue Beaulieu Lieu-dit Ginals Occitanie 82330 France;X-APPLE-RADIUS=500;X-TITLE=Beaulieu Lieu-dit:geo:1.8757422,44.218335
END:VEVENT
END:VCALENDAR