BEGIN:VCALENDAR
VERSION:2.0
PRODID:-//Quinzaine franco-allemande - ECPv6.15.20//NONSGML v1.0//EN
CALSCALE:GREGORIAN
METHOD:PUBLISH
X-ORIGINAL-URL:https://15francoallemandeoccitanie.fr
X-WR-CALDESC:Évènements pour Quinzaine franco-allemande
REFRESH-INTERVAL;VALUE=DURATION:PT1H
X-Robots-Tag:noindex
X-PUBLISHED-TTL:PT1H
BEGIN:VTIMEZONE
TZID:Europe/Paris
BEGIN:DAYLIGHT
TZOFFSETFROM:+0100
TZOFFSETTO:+0200
TZNAME:CEST
DTSTART:20230326T010000
END:DAYLIGHT
BEGIN:STANDARD
TZOFFSETFROM:+0200
TZOFFSETTO:+0100
TZNAME:CET
DTSTART:20231029T010000
END:STANDARD
BEGIN:DAYLIGHT
TZOFFSETFROM:+0100
TZOFFSETTO:+0200
TZNAME:CEST
DTSTART:20240331T010000
END:DAYLIGHT
BEGIN:STANDARD
TZOFFSETFROM:+0200
TZOFFSETTO:+0100
TZNAME:CET
DTSTART:20241027T010000
END:STANDARD
BEGIN:DAYLIGHT
TZOFFSETFROM:+0100
TZOFFSETTO:+0200
TZNAME:CEST
DTSTART:20250330T010000
END:DAYLIGHT
BEGIN:STANDARD
TZOFFSETFROM:+0200
TZOFFSETTO:+0100
TZNAME:CET
DTSTART:20251026T010000
END:STANDARD
END:VTIMEZONE
BEGIN:VEVENT
DTSTART;TZID=Europe/Paris:20240320T100000
DTEND;TZID=Europe/Paris:20240321T220000
DTSTAMP:20260421T004120
CREATED:20240206T083039Z
LAST-MODIFIED:20240206T083039Z
UID:10000247-1710928800-1711058400@15francoallemandeoccitanie.fr
SUMMARY:Fenêtre sur le paysage - Derrière le Hublot
DESCRIPTION:Nés d’histoires et récits\, les chemins de Compostelle offrent un terrain formidable pour nourrir nos imaginaires et ceux des artistes.\nTête chercheuse\, jambes voyageuses\, Derrière Le Hublot a imaginé le parcours artistique Fenêtres sur le paysage en 2016. Il se développe depuis sur le GR ® 65 avec de nombreux partenaires et territoires à travers :\n•  Les œuvres d’art refuges (première série de sept œuvres d’art refuges réalisées entre 2018 et 2023)\n•  Les rendez-vous et créations artistiques éphémères qui invitent à parcourir autrement ces paysages. \nDans le cadre de la Quinzaine Franco Allemande d’Occitanie 2024\, l’association « Derrière le Hublot » & l’Agence française des chemins de Compostelle à Toulouse soutenus par le ministère de la culture et l’association Allemagne Occitanie l’Europe au Cœur propose un séminaire européen sur Fenêtres sur le paysage du 20 au 21 mars 2024.  \nL’objectif de ce projet est de valoriser le patrimoine culturel de la Région et de créer un dialogue avec un réseau européen composé d’architectes\, de designers et de constructeurs originaire d’Allemagne et d’Ukraine.  \nLors de l’ouverture le 21.03 à Millau\, un temps d’échange avec les porteurs de projets et une rétrospective du chemin parcouru avec les participants sera proposé.  \n  \nPROGRAMME PROPOSE:  \n\n Présentation des différents axes du projet Fenêtres sur le paysage par Derrière Le Hublot et l’Agence des chemins de Compostelle \nDécouverte de l’œuvre d’art refuge Pecten Maximus de Sara de Gouy à Limogne-en-Quercy\n Présentation et découverte de Super-Cayrou \n Présentation et découverte de l’œuvre La Citerne-Lit \nDécouverte de l’œuvre d’art refuge Vivre Seule d’Elias Guenoun à Livinhac-le-Haut\, Le Thabor\n Présentation et découverte de l’œuvre Vivre Seule\nPrésentation du nichoir à chant de la Fausse compagnie de Firmi\n Présentation et découverte de l’œuvre d’art refuge La Chambre d’or\nd’Abraham Poincheval …\n\n 
URL:https://15francoallemandeoccitanie.fr/evenement/fenetre-sur-le-paysage-derriere-le-hublot/
LOCATION:Agence francaise des Chemins de Compostelle\, 4 Rue Clémence Isaure\, Toulouse\, Occitanie\, 31000\, France
CATEGORIES:Culture,Présentiel
ATTACH;FMTTYPE=image/jpeg:https://15francoallemandeoccitanie.fr/wp-content/uploads/2024/02/derriere-le-hublot.jpg
ORGANIZER;CN="Derri%C3%A8re le Hublot":MAILTO:accueil@derrierelehublot.fr
GEO:43.600707;1.4414492
X-APPLE-STRUCTURED-LOCATION;VALUE=URI;X-ADDRESS=Agence francaise des Chemins de Compostelle 4 Rue Clémence Isaure Toulouse Occitanie 31000 France;X-APPLE-RADIUS=500;X-TITLE=4 Rue Clémence Isaure:geo:1.4414492,43.600707
END:VEVENT
END:VCALENDAR