BEGIN:VCALENDAR
VERSION:2.0
PRODID:-//Quinzaine franco-allemande - ECPv6.15.20//NONSGML v1.0//EN
CALSCALE:GREGORIAN
METHOD:PUBLISH
X-ORIGINAL-URL:https://15francoallemandeoccitanie.fr
X-WR-CALDESC:Évènements pour Quinzaine franco-allemande
REFRESH-INTERVAL;VALUE=DURATION:PT1H
X-Robots-Tag:noindex
X-PUBLISHED-TTL:PT1H
BEGIN:VTIMEZONE
TZID:Europe/Paris
BEGIN:DAYLIGHT
TZOFFSETFROM:+0100
TZOFFSETTO:+0200
TZNAME:CEST
DTSTART:20230326T010000
END:DAYLIGHT
BEGIN:STANDARD
TZOFFSETFROM:+0200
TZOFFSETTO:+0100
TZNAME:CET
DTSTART:20231029T010000
END:STANDARD
BEGIN:DAYLIGHT
TZOFFSETFROM:+0100
TZOFFSETTO:+0200
TZNAME:CEST
DTSTART:20240331T010000
END:DAYLIGHT
BEGIN:STANDARD
TZOFFSETFROM:+0200
TZOFFSETTO:+0100
TZNAME:CET
DTSTART:20241027T010000
END:STANDARD
BEGIN:DAYLIGHT
TZOFFSETFROM:+0100
TZOFFSETTO:+0200
TZNAME:CEST
DTSTART:20250330T010000
END:DAYLIGHT
BEGIN:STANDARD
TZOFFSETFROM:+0200
TZOFFSETTO:+0100
TZNAME:CET
DTSTART:20251026T010000
END:STANDARD
END:VTIMEZONE
BEGIN:VEVENT
DTSTART;VALUE=DATE:20240429
DTEND;VALUE=DATE:20240505
DTSTAMP:20260420T063208
CREATED:20240326T220744Z
LAST-MODIFIED:20240326T220847Z
UID:10000409-1714348800-1714867199@15francoallemandeoccitanie.fr
SUMMARY:Voyage à Berlin
DESCRIPTION:Du 29 avril au 4 mai 2024\, un voyage à Berlin pour 49 élèves du Lycée Jean Monnet Un voyage à but culturel à Berlin est organisé par le Lycée Jean Monnet pour les élèves des classes de Secondes et Premières. Mardi: découverte la ville en challenge par équipe – Mercredi: visite guidée en français du musée Juif puis de la prison de la Stasi pour entrer en immersion dans l’Allemagne de la guerre froide – Jeudi: visite du musée de l’espionnage et du château de Sanssouci. Contact avec les élèves d’un lycée à Berlin. – Vendredi: croisière sur la Spree\, visite du Musée de la RDA et pour terminer dégustation de « Currywurst » un plat typique allemand.
URL:https://15francoallemandeoccitanie.fr/evenement/voyage-a-berlin/
LOCATION:Berlin\, Berlin\, Allemagne
CATEGORIES:Citoyenneté,Culture,Présentiel,Présentiel
ATTACH;FMTTYPE=image/jpeg:https://15francoallemandeoccitanie.fr/wp-content/uploads/2024/03/porte_de_Brandebourg_Berlin.jpg
ORGANIZER;CN="LYCEE JEAN MONNET MONTPELLIER":MAILTO:ce.0341736c@ac-montpellier.fr
GEO:52.5200066;13.404954
END:VEVENT
BEGIN:VEVENT
DTSTART;VALUE=DATE:20240310
DTEND;VALUE=DATE:20240316
DTSTAMP:20260420T063208
CREATED:20240225T215104Z
LAST-MODIFIED:20240225T215104Z
UID:10000299-1710028800-1710547199@15francoallemandeoccitanie.fr
SUMMARY:Les terminales germanistes du lycée Charles Gide font le Mur
DESCRIPTION:Le lycée Charles Gide organise un voyage à Berlin pour 29 élèves et 2 professeurs. \nFort des belles réussites pédagogiques qu’ont été les précédentes éditions des voyages d’étude à Berlin\, le Lycée Charles Gide propose une mobilité particulièrement enrichissante.  \nCette capitale polarise depuis longtemps les enjeux géopolitiques en Europe et dans le monde. Cette destination s’intègre parfaitement dans les thématiques des programmes du baccalauréat et apportera une approche concrète aux notions étudiées depuis trois ans par les élèves qui voient ainsi la concrétisation de leur implication dans l’étude de la langue allemande durant sept ans.
URL:https://15francoallemandeoccitanie.fr/evenement/les-terminales-germanistes-du-lycee-charles-gide-font-le-mur/
LOCATION:Berlin\, Berlin\, Allemagne
CATEGORIES:Éducation,Présentiel
ATTACH;FMTTYPE=image/jpeg:https://15francoallemandeoccitanie.fr/wp-content/uploads/2024/02/lycee_charles_gide.jpg
ORGANIZER;CN="lyc%C3%A9e Charles Gide":MAILTO:ce.0300047n@ac-montpellier.fr
GEO:52.5200066;13.404954
END:VEVENT
END:VCALENDAR