BEGIN:VCALENDAR
VERSION:2.0
PRODID:-//Quinzaine franco-allemande - ECPv6.15.20//NONSGML v1.0//EN
CALSCALE:GREGORIAN
METHOD:PUBLISH
X-WR-CALNAME:Quinzaine franco-allemande
X-ORIGINAL-URL:https://15francoallemandeoccitanie.fr
X-WR-CALDESC:Évènements pour Quinzaine franco-allemande
REFRESH-INTERVAL;VALUE=DURATION:PT1H
X-Robots-Tag:noindex
X-PUBLISHED-TTL:PT1H
BEGIN:VTIMEZONE
TZID:Europe/Paris
BEGIN:DAYLIGHT
TZOFFSETFROM:+0100
TZOFFSETTO:+0200
TZNAME:CEST
DTSTART:20230326T010000
END:DAYLIGHT
BEGIN:STANDARD
TZOFFSETFROM:+0200
TZOFFSETTO:+0100
TZNAME:CET
DTSTART:20231029T010000
END:STANDARD
BEGIN:DAYLIGHT
TZOFFSETFROM:+0100
TZOFFSETTO:+0200
TZNAME:CEST
DTSTART:20240331T010000
END:DAYLIGHT
BEGIN:STANDARD
TZOFFSETFROM:+0200
TZOFFSETTO:+0100
TZNAME:CET
DTSTART:20241027T010000
END:STANDARD
BEGIN:DAYLIGHT
TZOFFSETFROM:+0100
TZOFFSETTO:+0200
TZNAME:CEST
DTSTART:20250330T010000
END:DAYLIGHT
BEGIN:STANDARD
TZOFFSETFROM:+0200
TZOFFSETTO:+0100
TZNAME:CET
DTSTART:20251026T010000
END:STANDARD
END:VTIMEZONE
BEGIN:VEVENT
DTSTART;TZID=Europe/Paris:20240321T090000
DTEND;TZID=Europe/Paris:20240321T103000
DTSTAMP:20260421T004059
CREATED:20240303T091747Z
LAST-MODIFIED:20240303T091747Z
UID:10000314-1711011600-1711017000@15francoallemandeoccitanie.fr
SUMMARY:L’Allemagne entre cliché et surprises\, ne laissez pas passer les opportunités commerciales. A la découverte des marchés les plus porteurs pour les entreprises d’Occitanie
DESCRIPTION:Webinaire\nAnimation : Directeur Business France Allemagne les experts du bureau Business France de Düsseldorf\nFormat : visioconférence de puis Dusseldorf.
URL:https://15francoallemandeoccitanie.fr/evenement/lallemagne-entre-cliche-et-surprises-ne-laissez-pas-passer-les-opportunites-commerciales-a-la-decouverte-des-marches-les-plus-porteurs-pour-les-entreprises-doccitanie/
LOCATION:Business France Allemagne\, En Ligne
CATEGORIES:Distanciel,Économie
ATTACH;FMTTYPE=image/png:https://15francoallemandeoccitanie.fr/wp-content/uploads/2024/03/carte-occitanie.png
END:VEVENT
END:VCALENDAR