BEGIN:VCALENDAR
VERSION:2.0
PRODID:-//Quinzaine franco-allemande - ECPv6.15.20//NONSGML v1.0//EN
CALSCALE:GREGORIAN
METHOD:PUBLISH
X-WR-CALNAME:Quinzaine franco-allemande
X-ORIGINAL-URL:https://15francoallemandeoccitanie.fr
X-WR-CALDESC:Évènements pour Quinzaine franco-allemande
REFRESH-INTERVAL;VALUE=DURATION:PT1H
X-Robots-Tag:noindex
X-PUBLISHED-TTL:PT1H
BEGIN:VTIMEZONE
TZID:Europe/Paris
BEGIN:DAYLIGHT
TZOFFSETFROM:+0100
TZOFFSETTO:+0200
TZNAME:CEST
DTSTART:20230326T010000
END:DAYLIGHT
BEGIN:STANDARD
TZOFFSETFROM:+0200
TZOFFSETTO:+0100
TZNAME:CET
DTSTART:20231029T010000
END:STANDARD
BEGIN:DAYLIGHT
TZOFFSETFROM:+0100
TZOFFSETTO:+0200
TZNAME:CEST
DTSTART:20240331T010000
END:DAYLIGHT
BEGIN:STANDARD
TZOFFSETFROM:+0200
TZOFFSETTO:+0100
TZNAME:CET
DTSTART:20241027T010000
END:STANDARD
BEGIN:DAYLIGHT
TZOFFSETFROM:+0100
TZOFFSETTO:+0200
TZNAME:CEST
DTSTART:20250330T010000
END:DAYLIGHT
BEGIN:STANDARD
TZOFFSETFROM:+0200
TZOFFSETTO:+0100
TZNAME:CET
DTSTART:20251026T010000
END:STANDARD
BEGIN:DAYLIGHT
TZOFFSETFROM:+0100
TZOFFSETTO:+0200
TZNAME:CEST
DTSTART:20260329T010000
END:DAYLIGHT
BEGIN:STANDARD
TZOFFSETFROM:+0200
TZOFFSETTO:+0100
TZNAME:CET
DTSTART:20261025T010000
END:STANDARD
BEGIN:DAYLIGHT
TZOFFSETFROM:+0100
TZOFFSETTO:+0200
TZNAME:CEST
DTSTART:20270328T010000
END:DAYLIGHT
BEGIN:STANDARD
TZOFFSETFROM:+0200
TZOFFSETTO:+0100
TZNAME:CET
DTSTART:20271031T010000
END:STANDARD
END:VTIMEZONE
BEGIN:VEVENT
DTSTART;TZID=Europe/Paris:20260409T000000
DTEND;TZID=Europe/Paris:20260409T000000
DTSTAMP:20260419T174517
CREATED:20260302T184555Z
LAST-MODIFIED:20260402T154112Z
UID:10001107-1775692800-1775692800@15francoallemandeoccitanie.fr
SUMMARY:« Ich bin dein Mensch » \, Maria Schrader (2021) : situer la notion d'humanité
DESCRIPTION:Comprendre le sens global d’une oeuvre cinématographique et audiovisuelle d’un réalisateur de\nlangue allemande en lien avec quelques éléments significatifs de son contexte.\nAprès plusieurs séances de préparation en cours d’allemand\, les élèves visionneront le film « Ich bin\ndein Mensch » de Maria Schrader (2021). Le professeur de philosophie intervient dans le cours des\nélèves germanistes et ceux de l’option cinéma montrant ainsi la complémentarité des enseignements\nautour de cette oeuvre. Productions écrites et audiovisuelles inspirées par ce film.
URL:https://15francoallemandeoccitanie.fr/evenement/ich-bin-dein-mensch-maria-schrader-2021-situer-la-notion-dhumanite-2/
LOCATION:Cinema le Palace\, 6 Cr de la République\, Lézignan-Corbières\, Occitanie\, 11200\, France
CATEGORIES:Citoyenneté,Culture,Éducation,Éducation Jeunesse,Jeunesse,Présentiel,Présentiel,Présentiel
ATTACH;FMTTYPE=image/jpeg:https://15francoallemandeoccitanie.fr/wp-content/uploads/2026/03/2026_04_09_Mensch.jpg
GEO:43.2007809;2.7582636
X-APPLE-STRUCTURED-LOCATION;VALUE=URI;X-ADDRESS=Cinema le Palace 6 Cr de la République Lézignan-Corbières Occitanie 11200 France;X-APPLE-RADIUS=500;X-TITLE=6 Cr de la République:geo:2.7582636,43.2007809
END:VEVENT
BEGIN:VEVENT
DTSTART;TZID=Europe/Paris:20250327T140000
DTEND;TZID=Europe/Paris:20250327T163000
DTSTAMP:20260419T174517
CREATED:20250109T172415Z
LAST-MODIFIED:20250109T172415Z
UID:10000417-1743084000-1743093000@15francoallemandeoccitanie.fr
SUMMARY:Au-delà du bien et du mal : M. Le Maudit
DESCRIPTION:Les élèves germanistes de 2de et de terminale du Lycée Polyvalent Ernest Ferroul étudieront en classe le cinéma expressionniste dans le cadre de l’étude de l’axe 6 « La création et le rapport aux Arts » (2des ) et de l’axe 3 « Art et pouvoir » (terminale) du programme. \nIls seront familiarisés aux codes de ce mouvement (décors\, lumière\, mise en scène…). Ils travailleront aussi en amont sur l’affiche du film (description\, formulation d’hypothèses sur le contenu du film) ainsi que sur des éléments de biographie du réalisateur. \nLes professeurs de philosophie et de l’option cinéma audio-visuel interviendront dans le cours d’allemand montrant ainsi aux élèves la complémentarité des enseignements autour de cette œuvre. Ils réfléchiront\, par exemple\, aux notions du bien et du mal et seront sensibilisés aux techniques relatives à la mise en scène du film\, à la lumière… \nLes élèves visionneront ensuite le film M. Le Maudit au cinéma « Le Palace » à Lézignan-Corbières. A l’issue de la projection au cinéma\, les élèves devront être capables (selon leur niveau\, 2de ou Terminale) de tenir un discours simple sur l’œuvre et d’analyser un plan ou une brève séquence du film. Enfin\, ils seront amenés à donner leur avis argumenté sur le film.
URL:https://15francoallemandeoccitanie.fr/evenement/au-dela-du-bien-et-du-mal-m-le-maudit/
LOCATION:Cinema le Palace\, 6 Cr de la République\, Lézignan-Corbières\, Occitanie\, 11200\, France
CATEGORIES:Éducation,Présentiel
ATTACH;FMTTYPE=image/jpeg:https://15francoallemandeoccitanie.fr/wp-content/uploads/2024/12/lycee-polyvalent-ernest-ferroul.jpg
GEO:43.2007809;2.7582636
X-APPLE-STRUCTURED-LOCATION;VALUE=URI;X-ADDRESS=Cinema le Palace 6 Cr de la République Lézignan-Corbières Occitanie 11200 France;X-APPLE-RADIUS=500;X-TITLE=6 Cr de la République:geo:2.7582636,43.2007809
END:VEVENT
BEGIN:VEVENT
DTSTART;TZID=Europe/Paris:20240404T080000
DTEND;TZID=Europe/Paris:20240404T170000
DTSTAMP:20260419T174517
CREATED:20240313T192706Z
LAST-MODIFIED:20240324T133910Z
UID:10000336-1712217600-1712250000@15francoallemandeoccitanie.fr
SUMMARY:Projection du film Film expressionniste allemand Nosferatu le vampire
DESCRIPTION:Film expressionniste allemand Nosferatu le vampire (Nosferatu\, eine Symphonie des Grauens) de Friedrich Wilhelm Murnau (1921) \nNosferatu le vampire (Nosferatu\, eine Symphonie des Grauens en version originale) est un film muet allemand réalisé par Friedrich Wilhelm Murnau sorti en 1922\, adapté du roman Dracula\, bien qu’il ne fût pas autorisé par les ayants droit. \nProjet mené avec l’option cinéma du lycée Ferroul de Lézignan (professeure: Mme POLGE)\, la projection est précédée d’une présentation du film par les élèves germanistes.
URL:https://15francoallemandeoccitanie.fr/evenement/projection-du-film-film-expressionniste-allemand-nosferatu-le-vampire/
LOCATION:Cinema le Palace\, 6 Cr de la République\, Lézignan-Corbières\, Occitanie\, 11200\, France
CATEGORIES:Culture,Éducation,Présentiel,Présentiel
ATTACH;FMTTYPE=image/webp:https://15francoallemandeoccitanie.fr/wp-content/uploads/2024/03/nosferatu.webp
GEO:43.2007809;2.7582636
X-APPLE-STRUCTURED-LOCATION;VALUE=URI;X-ADDRESS=Cinema le Palace 6 Cr de la République Lézignan-Corbières Occitanie 11200 France;X-APPLE-RADIUS=500;X-TITLE=6 Cr de la République:geo:2.7582636,43.2007809
END:VEVENT
END:VCALENDAR