BEGIN:VCALENDAR
VERSION:2.0
PRODID:-//Quinzaine franco-allemande - ECPv6.15.20//NONSGML v1.0//EN
CALSCALE:GREGORIAN
METHOD:PUBLISH
X-ORIGINAL-URL:https://15francoallemandeoccitanie.fr
X-WR-CALDESC:Évènements pour Quinzaine franco-allemande
REFRESH-INTERVAL;VALUE=DURATION:PT1H
X-Robots-Tag:noindex
X-PUBLISHED-TTL:PT1H
BEGIN:VTIMEZONE
TZID:Europe/Paris
BEGIN:DAYLIGHT
TZOFFSETFROM:+0100
TZOFFSETTO:+0200
TZNAME:CEST
DTSTART:20240331T010000
END:DAYLIGHT
BEGIN:STANDARD
TZOFFSETFROM:+0200
TZOFFSETTO:+0100
TZNAME:CET
DTSTART:20241027T010000
END:STANDARD
BEGIN:DAYLIGHT
TZOFFSETFROM:+0100
TZOFFSETTO:+0200
TZNAME:CEST
DTSTART:20250330T010000
END:DAYLIGHT
BEGIN:STANDARD
TZOFFSETFROM:+0200
TZOFFSETTO:+0100
TZNAME:CET
DTSTART:20251026T010000
END:STANDARD
BEGIN:DAYLIGHT
TZOFFSETFROM:+0100
TZOFFSETTO:+0200
TZNAME:CEST
DTSTART:20260329T010000
END:DAYLIGHT
BEGIN:STANDARD
TZOFFSETFROM:+0200
TZOFFSETTO:+0100
TZNAME:CET
DTSTART:20261025T010000
END:STANDARD
END:VTIMEZONE
BEGIN:VEVENT
DTSTART;TZID=Europe/Paris:20250401T160000
DTEND;TZID=Europe/Paris:20250401T160000
DTSTAMP:20260419T195342
CREATED:20250320T171334Z
LAST-MODIFIED:20250321T104419Z
UID:10000940-1743523200-1743523200@15francoallemandeoccitanie.fr
SUMMARY:Quinzaine Franco-Allemande – Restitution du voyage à Francfort-sur-l’Oder
DESCRIPTION:Durant cette Quinzaine Franco-Allemande\, nos 12 apprentis de CMA FORMATION Albi-Cunac & Sorèze\, site de Cunac\, partagent leur expérience unique à Francfort-sur-l’Oder !\nEntre découvertes culturelles\, échanges avec des professionnels allemands et immersion dans un nouvel environnement\, cette mobilité est une véritable aventure enrichissante.\n📅 Rendez-vous le mardi 1er avril à 16h00 chez CMA FORMATION Albi-Cunac & Sorèze\, site de Cunac pour découvrir leurs récits et les moments forts de ce voyage !\n© compte Instagram de Handwerkskammer Ostbrandenburg
URL:https://15francoallemandeoccitanie.fr/evenement/quinzaine-franco-allemande-restitution-du-voyage-a-francfort-sur-loder/
LOCATION:CMA Formation Albi-Cunac\, 112 rue des Templiers\, Cunac\, 81990\, France
CATEGORIES:Économie,Éducation,Jeunesse,Présentiel,Présentiel
ATTACH;FMTTYPE=image/jpeg:https://15francoallemandeoccitanie.fr/wp-content/uploads/2025/03/2025_04_01_CMA81_Francfort-Oder.jpg
GEO:43.9211199;2.2165734
X-APPLE-STRUCTURED-LOCATION;VALUE=URI;X-ADDRESS=CMA Formation Albi-Cunac 112 rue des Templiers Cunac 81990 France;X-APPLE-RADIUS=500;X-TITLE=112 rue des Templiers:geo:2.2165734,43.9211199
END:VEVENT
END:VCALENDAR