BEGIN:VCALENDAR
VERSION:2.0
PRODID:-//Quinzaine franco-allemande - ECPv6.15.20//NONSGML v1.0//EN
CALSCALE:GREGORIAN
METHOD:PUBLISH
X-ORIGINAL-URL:https://15francoallemandeoccitanie.fr
X-WR-CALDESC:Évènements pour Quinzaine franco-allemande
REFRESH-INTERVAL;VALUE=DURATION:PT1H
X-Robots-Tag:noindex
X-PUBLISHED-TTL:PT1H
BEGIN:VTIMEZONE
TZID:Europe/Paris
BEGIN:DAYLIGHT
TZOFFSETFROM:+0100
TZOFFSETTO:+0200
TZNAME:CEST
DTSTART:20240331T010000
END:DAYLIGHT
BEGIN:STANDARD
TZOFFSETFROM:+0200
TZOFFSETTO:+0100
TZNAME:CET
DTSTART:20241027T010000
END:STANDARD
BEGIN:DAYLIGHT
TZOFFSETFROM:+0100
TZOFFSETTO:+0200
TZNAME:CEST
DTSTART:20250330T010000
END:DAYLIGHT
BEGIN:STANDARD
TZOFFSETFROM:+0200
TZOFFSETTO:+0100
TZNAME:CET
DTSTART:20251026T010000
END:STANDARD
BEGIN:DAYLIGHT
TZOFFSETFROM:+0100
TZOFFSETTO:+0200
TZNAME:CEST
DTSTART:20260329T010000
END:DAYLIGHT
BEGIN:STANDARD
TZOFFSETFROM:+0200
TZOFFSETTO:+0100
TZNAME:CET
DTSTART:20261025T010000
END:STANDARD
END:VTIMEZONE
BEGIN:VEVENT
DTSTART;VALUE=DATE:20250326
DTEND;VALUE=DATE:20250404
DTSTAMP:20260419T195458
CREATED:20250309T014753Z
LAST-MODIFIED:20250317T093152Z
UID:10000935-1742947200-1743724799@15francoallemandeoccitanie.fr
SUMMARY:Projet franco-allemand autour de l'eau
DESCRIPTION:Depuis 20 ans déjà\, les élèves et leurs enseignants du collège Florian d’Anduze font vivre l’amitié franco-allemande dans l’échange biannuel avec la Rudolf-Koch-Schule d’Offenbach sur le Main et remettent cela en mars dans le Gard et l’Hérault et en mai 2025 dans le land de Hesse. Plus spécifiquement\, les rencontres et excursions porteront sur le thème de l’eau : Explorer l’eau dans des contextes naturels et architecturaux variés comme la grotte des Demoiselles\, le chemin de l’eau du Pont du Gard à Nîmes\, les effets de l’érosion sur les dunes de la Camargue lors des ateliers pédagogiques à la plage de l’Espiguette. La production de sel à Aigues Mortes comparée à une saline très ancienne et thermes de style Art Nouveau à Bad Nauheim et bien sûr les villes au bord du Main\, affluent du Rhin laisseront certainement de bons souvenirs aux 57 participants…
URL:https://15francoallemandeoccitanie.fr/evenement/projet-franco-allemand-autour-de-leau/
LOCATION:Collège Florian Place du Foirail\, Anduze\, 30140
CATEGORIES:Citoyenneté,Éducation,Jeunesse,Présentiel,Présentiel
GEO:44.053386;3.98651
END:VEVENT
END:VCALENDAR