BEGIN:VCALENDAR
VERSION:2.0
PRODID:-//Quinzaine franco-allemande - ECPv6.15.20//NONSGML v1.0//EN
CALSCALE:GREGORIAN
METHOD:PUBLISH
X-WR-CALNAME:Quinzaine franco-allemande
X-ORIGINAL-URL:https://15francoallemandeoccitanie.fr
X-WR-CALDESC:Évènements pour Quinzaine franco-allemande
REFRESH-INTERVAL;VALUE=DURATION:PT1H
X-Robots-Tag:noindex
X-PUBLISHED-TTL:PT1H
BEGIN:VTIMEZONE
TZID:Europe/Paris
BEGIN:DAYLIGHT
TZOFFSETFROM:+0100
TZOFFSETTO:+0200
TZNAME:CEST
DTSTART:20240331T010000
END:DAYLIGHT
BEGIN:STANDARD
TZOFFSETFROM:+0200
TZOFFSETTO:+0100
TZNAME:CET
DTSTART:20241027T010000
END:STANDARD
BEGIN:DAYLIGHT
TZOFFSETFROM:+0100
TZOFFSETTO:+0200
TZNAME:CEST
DTSTART:20250330T010000
END:DAYLIGHT
BEGIN:STANDARD
TZOFFSETFROM:+0200
TZOFFSETTO:+0100
TZNAME:CET
DTSTART:20251026T010000
END:STANDARD
BEGIN:DAYLIGHT
TZOFFSETFROM:+0100
TZOFFSETTO:+0200
TZNAME:CEST
DTSTART:20260329T010000
END:DAYLIGHT
BEGIN:STANDARD
TZOFFSETFROM:+0200
TZOFFSETTO:+0100
TZNAME:CET
DTSTART:20261025T010000
END:STANDARD
END:VTIMEZONE
BEGIN:VEVENT
DTSTART;VALUE=DATE:20250326
DTEND;VALUE=DATE:20250403
DTSTAMP:20260419T194537
CREATED:20250309T014440Z
LAST-MODIFIED:20250317T093049Z
UID:10000934-1742947200-1743638399@15francoallemandeoccitanie.fr
SUMMARY:AUSTAUSCH-Projekt: „Loupian auf Deutsch besichtigen“
DESCRIPTION:Projet d’échange: « Visiter Loupian en allemand »\nDans le cadre de l’échange du Collège Olympe de Gouges de Loupian avec le Immanuel-Kant-Gymnasium de Heiligenhaus en Allemagne (NRW)\, les collégiens germanistes de 4e et 3e ainsi que leurs correspondants allemands présents à Loupian fin mars élaborent un guide pour la visite de Loupian en allemand. Les textes seront lus et enregistrés et accessibles à partir de QR-Codes sur des plaques informatives de la ville pour permettre aux touristes du Bassin de Thau d’accéder à une visite guidée en allemand.
URL:https://15francoallemandeoccitanie.fr/evenement/austausch-projekt-loupian-auf-deutsch-besichtigen/
LOCATION:Collège Olympe de Gouges\, 100 allée Raimond Roger Trencavel\, Loupian\, 34140
CATEGORIES:Culture,Éducation,ESR,Jeunesse,Présentiel,Présentiel
ATTACH;FMTTYPE=image/jpeg:https://15francoallemandeoccitanie.fr/wp-content/uploads/2025/03/eglise-sainte-cecile-loupian-13489.jpg
GEO:43.446642;3.6123926
X-APPLE-STRUCTURED-LOCATION;VALUE=URI;X-ADDRESS=Collège Olympe de Gouges 100 allée Raimond Roger Trencavel Loupian 34140;X-APPLE-RADIUS=500;X-TITLE=100 allée Raimond Roger Trencavel:geo:3.6123926,43.446642
END:VEVENT
END:VCALENDAR