BEGIN:VCALENDAR
VERSION:2.0
PRODID:-//Quinzaine franco-allemande - ECPv6.15.20//NONSGML v1.0//EN
CALSCALE:GREGORIAN
METHOD:PUBLISH
X-WR-CALNAME:Quinzaine franco-allemande
X-ORIGINAL-URL:https://15francoallemandeoccitanie.fr
X-WR-CALDESC:Évènements pour Quinzaine franco-allemande
REFRESH-INTERVAL;VALUE=DURATION:PT1H
X-Robots-Tag:noindex
X-PUBLISHED-TTL:PT1H
BEGIN:VTIMEZONE
TZID:Europe/Paris
BEGIN:DAYLIGHT
TZOFFSETFROM:+0100
TZOFFSETTO:+0200
TZNAME:CEST
DTSTART:20230326T010000
END:DAYLIGHT
BEGIN:STANDARD
TZOFFSETFROM:+0200
TZOFFSETTO:+0100
TZNAME:CET
DTSTART:20231029T010000
END:STANDARD
BEGIN:DAYLIGHT
TZOFFSETFROM:+0100
TZOFFSETTO:+0200
TZNAME:CEST
DTSTART:20240331T010000
END:DAYLIGHT
BEGIN:STANDARD
TZOFFSETFROM:+0200
TZOFFSETTO:+0100
TZNAME:CET
DTSTART:20241027T010000
END:STANDARD
BEGIN:DAYLIGHT
TZOFFSETFROM:+0100
TZOFFSETTO:+0200
TZNAME:CEST
DTSTART:20250330T010000
END:DAYLIGHT
BEGIN:STANDARD
TZOFFSETFROM:+0200
TZOFFSETTO:+0100
TZNAME:CET
DTSTART:20251026T010000
END:STANDARD
END:VTIMEZONE
BEGIN:VEVENT
DTSTART;VALUE=DATE:20240321
DTEND;VALUE=DATE:20240322
DTSTAMP:20260421T053208
CREATED:20240225T154320Z
LAST-MODIFIED:20240225T154519Z
UID:10000239-1710979200-1711065599@15francoallemandeoccitanie.fr
SUMMARY:LA MOBIKLASSE au collège Rosa Parks
DESCRIPTION:Découvrir la langue allemande pour les grands et les petits  \nLa mobiklasse.de est en tournée au collège Rosa Parks. Cette initiative a pour but de sensibiliser les élèves de 6ème à la langue et la culture allemandes.  \nL’apprentissage de l’allemand est souvent perçu comme difficile et élitiste. Les 80 élèves de 6èmes vont donc avoir l’occasion de découvrir\, à travers des animations ludiques\, qu’apprendre l’allemand peut être amusant. \nCharlotte von Künßberg et Marvin Kutz\, deux jeunes animateurs.rices du programme mobiklasse.de\, proposeront des animations linguistiques dans différentes établissements scolaires entre le 28 mars et le 4 avril 2024 afin de faire découvrir la langue et la culture allemandes aux enfants.\nPour obtenir des informations complémentaires sur le programme: mobiklasse.de: https://www.mobiklasse.de/
URL:https://15francoallemandeoccitanie.fr/evenement/la-mobiklasse-au-college-rosa-parks/
LOCATION:Collège Rosa Parks 11\, Avenue George Frêche\, LEZIGNAN CORBIERES\, Non\, 11200\, France
CATEGORIES:Présentiel
ATTACH;FMTTYPE=image/jpeg:https://15francoallemandeoccitanie.fr/wp-content/uploads/2024/02/mobiklasse-facebook.jpg
ORGANIZER;CN="Mme POLGE%2C partenaire OFAJ":MAILTO:marie.polge@free.fr
GEO:43.1831113;2.7578681
X-APPLE-STRUCTURED-LOCATION;VALUE=URI;X-ADDRESS=Collège Rosa Parks 11 Avenue George Frêche LEZIGNAN CORBIERES Non 11200 France;X-APPLE-RADIUS=500;X-TITLE=Avenue George Frêche:geo:2.7578681,43.1831113
END:VEVENT
END:VCALENDAR