BEGIN:VCALENDAR
VERSION:2.0
PRODID:-//Quinzaine franco-allemande - ECPv6.15.20//NONSGML v1.0//EN
CALSCALE:GREGORIAN
METHOD:PUBLISH
X-WR-CALNAME:Quinzaine franco-allemande
X-ORIGINAL-URL:https://15francoallemandeoccitanie.fr
X-WR-CALDESC:Évènements pour Quinzaine franco-allemande
REFRESH-INTERVAL;VALUE=DURATION:PT1H
X-Robots-Tag:noindex
X-PUBLISHED-TTL:PT1H
BEGIN:VTIMEZONE
TZID:Europe/Paris
BEGIN:DAYLIGHT
TZOFFSETFROM:+0100
TZOFFSETTO:+0200
TZNAME:CEST
DTSTART:20230326T010000
END:DAYLIGHT
BEGIN:STANDARD
TZOFFSETFROM:+0200
TZOFFSETTO:+0100
TZNAME:CET
DTSTART:20231029T010000
END:STANDARD
BEGIN:DAYLIGHT
TZOFFSETFROM:+0100
TZOFFSETTO:+0200
TZNAME:CEST
DTSTART:20240331T010000
END:DAYLIGHT
BEGIN:STANDARD
TZOFFSETFROM:+0200
TZOFFSETTO:+0100
TZNAME:CET
DTSTART:20241027T010000
END:STANDARD
BEGIN:DAYLIGHT
TZOFFSETFROM:+0100
TZOFFSETTO:+0200
TZNAME:CEST
DTSTART:20250330T010000
END:DAYLIGHT
BEGIN:STANDARD
TZOFFSETFROM:+0200
TZOFFSETTO:+0100
TZNAME:CET
DTSTART:20251026T010000
END:STANDARD
END:VTIMEZONE
BEGIN:VEVENT
DTSTART;TZID=Europe/Paris:20240309T203000
DTEND;TZID=Europe/Paris:20240309T220000
DTSTAMP:20260420T081450
CREATED:20240225T163525Z
LAST-MODIFIED:20240225T214030Z
UID:10000298-1710016200-1710021600@15francoallemandeoccitanie.fr
SUMMARY:Requiem de Fauré et la Messe du couronnement de Mozart
DESCRIPTION:Un concert proposé par le Chœur franco-allemand de Toulouse et l’Ensemble Vocal Mezza Voce de Tarbes avec au programme le Requiem Op. 48 de Gabriel Fauré et la Messe du Couronnement en Ut Majeur KV317 de W.A. Mozart \n \nPrix d’entrée : 12 € – 1adhérents: 10€ – gratuit moins de 12 ans\nRenseignements et réservations: 06 16 29 09 19 – 06 02 29 55 77
URL:https://15francoallemandeoccitanie.fr/evenement/requiem-de-faure-et-la-messe-du-couronnement-de-mozart/2024-03-09/
LOCATION:Collégiale St Laurent d’Ibos\, rue de la Collégiale\, Ibos\, Occitanie\, 65420\, France
CATEGORIES:Culture,Présentiel
ATTACH;FMTTYPE=image/jpeg:https://15francoallemandeoccitanie.fr/wp-content/uploads/2024/02/Kronungsmesse_-Tarbes-VF-PH-FLYER-002_page-0001-e1708878914927.jpg
ORGANIZER;CN="Choeur Franco-Allemand de Toulouse":MAILTO:cfa-toulouse@cfa-toulouse.org
GEO:43.232856;0.002764
X-APPLE-STRUCTURED-LOCATION;VALUE=URI;X-ADDRESS=Collégiale St Laurent d’Ibos rue de la Collégiale Ibos Occitanie 65420 France;X-APPLE-RADIUS=500;X-TITLE=rue de la Collégiale:geo:0.002764,43.232856
END:VEVENT
BEGIN:VEVENT
DTSTART;TZID=Europe/Paris:20240303T170000
DTEND;TZID=Europe/Paris:20240303T183000
DTSTAMP:20260420T081450
CREATED:20240225T163525Z
LAST-MODIFIED:20240225T214030Z
UID:10000290-1709485200-1709490600@15francoallemandeoccitanie.fr
SUMMARY:Requiem de Fauré et la Messe du couronnement de Mozart
DESCRIPTION:Un concert proposé par le Chœur franco-allemand de Toulouse et l’Ensemble Vocal Mezza Voce de Tarbes avec au programme le Requiem Op. 48 de Gabriel Fauré et la Messe du Couronnement en Ut Majeur KV317 de W.A. Mozart \n \nPrix d’entrée : 12 € – 1adhérents: 10€ – gratuit moins de 12 ans\nRenseignements et réservations: 06 16 29 09 19 – 06 02 29 55 77
URL:https://15francoallemandeoccitanie.fr/evenement/requiem-de-faure-et-la-messe-du-couronnement-de-mozart/2024-03-03/
LOCATION:Collégiale St Laurent d’Ibos\, rue de la Collégiale\, Ibos\, Occitanie\, 65420\, France
CATEGORIES:Culture,Présentiel
ATTACH;FMTTYPE=image/jpeg:https://15francoallemandeoccitanie.fr/wp-content/uploads/2024/02/Kronungsmesse_-Tarbes-VF-PH-FLYER-002_page-0001-e1708878914927.jpg
ORGANIZER;CN="Choeur Franco-Allemand de Toulouse":MAILTO:cfa-toulouse@cfa-toulouse.org
GEO:43.232856;0.002764
X-APPLE-STRUCTURED-LOCATION;VALUE=URI;X-ADDRESS=Collégiale St Laurent d’Ibos rue de la Collégiale Ibos Occitanie 65420 France;X-APPLE-RADIUS=500;X-TITLE=rue de la Collégiale:geo:0.002764,43.232856
END:VEVENT
END:VCALENDAR