BEGIN:VCALENDAR
VERSION:2.0
PRODID:-//Quinzaine franco-allemande - ECPv6.15.20//NONSGML v1.0//EN
CALSCALE:GREGORIAN
METHOD:PUBLISH
X-WR-CALNAME:Quinzaine franco-allemande
X-ORIGINAL-URL:https://15francoallemandeoccitanie.fr
X-WR-CALDESC:Évènements pour Quinzaine franco-allemande
REFRESH-INTERVAL;VALUE=DURATION:PT1H
X-Robots-Tag:noindex
X-PUBLISHED-TTL:PT1H
BEGIN:VTIMEZONE
TZID:Europe/Paris
BEGIN:DAYLIGHT
TZOFFSETFROM:+0100
TZOFFSETTO:+0200
TZNAME:CEST
DTSTART:20220327T010000
END:DAYLIGHT
BEGIN:STANDARD
TZOFFSETFROM:+0200
TZOFFSETTO:+0100
TZNAME:CET
DTSTART:20221030T010000
END:STANDARD
BEGIN:DAYLIGHT
TZOFFSETFROM:+0100
TZOFFSETTO:+0200
TZNAME:CEST
DTSTART:20230326T010000
END:DAYLIGHT
BEGIN:STANDARD
TZOFFSETFROM:+0200
TZOFFSETTO:+0100
TZNAME:CET
DTSTART:20231029T010000
END:STANDARD
BEGIN:DAYLIGHT
TZOFFSETFROM:+0100
TZOFFSETTO:+0200
TZNAME:CEST
DTSTART:20240331T010000
END:DAYLIGHT
BEGIN:STANDARD
TZOFFSETFROM:+0200
TZOFFSETTO:+0100
TZNAME:CET
DTSTART:20241027T010000
END:STANDARD
BEGIN:DAYLIGHT
TZOFFSETFROM:+0100
TZOFFSETTO:+0200
TZNAME:CEST
DTSTART:20250330T010000
END:DAYLIGHT
BEGIN:STANDARD
TZOFFSETFROM:+0200
TZOFFSETTO:+0100
TZNAME:CET
DTSTART:20251026T010000
END:STANDARD
BEGIN:DAYLIGHT
TZOFFSETFROM:+0100
TZOFFSETTO:+0200
TZNAME:CEST
DTSTART:20260329T010000
END:DAYLIGHT
BEGIN:STANDARD
TZOFFSETFROM:+0200
TZOFFSETTO:+0100
TZNAME:CET
DTSTART:20261025T010000
END:STANDARD
BEGIN:DAYLIGHT
TZOFFSETFROM:+0100
TZOFFSETTO:+0200
TZNAME:CEST
DTSTART:20270328T010000
END:DAYLIGHT
BEGIN:STANDARD
TZOFFSETFROM:+0200
TZOFFSETTO:+0100
TZNAME:CET
DTSTART:20271031T010000
END:STANDARD
END:VTIMEZONE
BEGIN:VEVENT
DTSTART;TZID=Europe/Paris:20260407T000000
DTEND;TZID=Europe/Paris:20260407T000000
DTSTAMP:20260422T171657
CREATED:20260302T184510Z
LAST-MODIFIED:20260302T184510Z
UID:10001096-1775520000-1775520000@15francoallemandeoccitanie.fr
SUMMARY:Animation culturelle et linguistique par la Maison de l'Europe Toulouse
DESCRIPTION:La Maison de l’Europe – Europe Direct Toulouse Occitanie sera présente au sein de la Deutsche Schule Toulouse avec pour objectif de promouvoir et renforcer les liens franco-allemands. À travers des jeux culturels et linguistiques\, les élèves découvriront de manière participative l’Union européenne et l’amitié franco-allemande.
URL:https://15francoallemandeoccitanie.fr/evenement/animation-culturelle-et-linguistique-par-la-maison-de-leurope-toulouse-4/
LOCATION:Deutsche Schule Toulouse\, 2 All. de l'Herbaudière\, Colomiers\, Occitanie\, 31770\, France
CATEGORIES:Citoyenneté,Éducation Jeunesse
GEO:43.612189;1.336579
X-APPLE-STRUCTURED-LOCATION;VALUE=URI;X-ADDRESS=Deutsche Schule Toulouse 2 All. de l'Herbaudière Colomiers Occitanie 31770 France;X-APPLE-RADIUS=500;X-TITLE=2 All. de l'Herbaudière:geo:1.336579,43.612189
END:VEVENT
BEGIN:VEVENT
DTSTART;TZID=Europe/Paris:20230418T140000
DTEND;TZID=Europe/Paris:20230418T170000
DTSTAMP:20260422T171657
CREATED:20230406T212110Z
LAST-MODIFIED:20230406T212110Z
UID:10000210-1681826400-1681837200@15francoallemandeoccitanie.fr
SUMMARY:L'Europe à la Barre
DESCRIPTION:60 ans après le Traité de l’Elysée\, nous plaçons le couple franco-allemand au cœur du débat en Occitanie pendant la Quinzaine franco-allemande d’Occitanie en avril 2023. La compagnie de théâtre les Têtes de l’art et leur spectacle l’Europe à la Barre – version franco-allemande sera accueilli par Nîmes (17/04)\, Toulouse (18/04)\, Montpellier (19/04)\, Prades (20/04) et Auch (21/04) en collaboration avec l’association franco-allemande l’Europe au cœur\, la Région Occitanie et l’aide du Fonds citoyen franco-allemand. Des ateliers d’improvisation théâtrales sur les notions de l’interculturalité et l’avenir du tandem franco-allemand en Europe seront animés dans des lycées à la marge du spectacle. \n  \nLe couple franco-allemand sera au coeur d’un procès théâtralisé : à la fois en tant qu’accusé – il sera confronté à la question d’abus de sa posi­tion dominante au sein de l’Europe – et en tant que témoin\, car de chaque côté\, un de ses représentants sera invité à témoigner à la barre. Nous nous questionnerons sur l’image que nous avons de ce couple à la fois différent et indissociable et animerons un débat autour du tandem franco-allemand en Europe à l’issu du spectacle. \n  \nProgramme de la Tournée : \n  \n\n17 avril à 18h\nLycée d’Alzon – 11 Rue Sainte-Perpétue\, 30000 Nîmes\n\n  \n\n18 avril à 14h\nDeutsche Schule Toulouse – 2 All. de l’Herbaudière\, 31770 Colomiers\n\n  \n\n19 avril à 19h\nSalle Yves Abric – Place Fonfonne Guillerme\, 34473 Pérols\n\n  \n\n20 avril à 18h\nThéâtre el Mil•lenari – Av. Jules Ferry\, 66350 Toulouges\n\n  \n\n21 avril à 19h\nThéâtre municipal – 1 Pl. de la Libération\, 32000 Auch
URL:https://15francoallemandeoccitanie.fr/evenement/leurope-a-la-barre-2/
LOCATION:Deutsche Schule Toulouse\, 2 All. de l'Herbaudière\, Colomiers\, Occitanie\, 31770\, France
CATEGORIES:Citoyenneté,Éducation,Présentiel,Présentiel
ATTACH;FMTTYPE=image/jpeg:https://15francoallemandeoccitanie.fr/wp-content/uploads/2023/04/Affiche-finale-Leurope-a-la-barre.jpg
GEO:43.612189;1.336579
X-APPLE-STRUCTURED-LOCATION;VALUE=URI;X-ADDRESS=Deutsche Schule Toulouse 2 All. de l'Herbaudière Colomiers Occitanie 31770 France;X-APPLE-RADIUS=500;X-TITLE=2 All. de l'Herbaudière:geo:1.336579,43.612189
END:VEVENT
END:VCALENDAR