BEGIN:VCALENDAR
VERSION:2.0
PRODID:-//Quinzaine franco-allemande - ECPv6.15.20//NONSGML v1.0//EN
CALSCALE:GREGORIAN
METHOD:PUBLISH
X-WR-CALNAME:Quinzaine franco-allemande
X-ORIGINAL-URL:https://15francoallemandeoccitanie.fr
X-WR-CALDESC:Évènements pour Quinzaine franco-allemande
REFRESH-INTERVAL;VALUE=DURATION:PT1H
X-Robots-Tag:noindex
X-PUBLISHED-TTL:PT1H
BEGIN:VTIMEZONE
TZID:Europe/Paris
BEGIN:DAYLIGHT
TZOFFSETFROM:+0100
TZOFFSETTO:+0200
TZNAME:CEST
DTSTART:20240331T010000
END:DAYLIGHT
BEGIN:STANDARD
TZOFFSETFROM:+0200
TZOFFSETTO:+0100
TZNAME:CET
DTSTART:20241027T010000
END:STANDARD
BEGIN:DAYLIGHT
TZOFFSETFROM:+0100
TZOFFSETTO:+0200
TZNAME:CEST
DTSTART:20250330T010000
END:DAYLIGHT
BEGIN:STANDARD
TZOFFSETFROM:+0200
TZOFFSETTO:+0100
TZNAME:CET
DTSTART:20251026T010000
END:STANDARD
BEGIN:DAYLIGHT
TZOFFSETFROM:+0100
TZOFFSETTO:+0200
TZNAME:CEST
DTSTART:20260329T010000
END:DAYLIGHT
BEGIN:STANDARD
TZOFFSETFROM:+0200
TZOFFSETTO:+0100
TZNAME:CET
DTSTART:20261025T010000
END:STANDARD
BEGIN:DAYLIGHT
TZOFFSETFROM:+0100
TZOFFSETTO:+0200
TZNAME:CEST
DTSTART:20270328T010000
END:DAYLIGHT
BEGIN:STANDARD
TZOFFSETFROM:+0200
TZOFFSETTO:+0100
TZNAME:CET
DTSTART:20271031T010000
END:STANDARD
END:VTIMEZONE
BEGIN:VEVENT
DTSTART;TZID=Europe/Paris:20260415T183000
DTEND;TZID=Europe/Paris:20260415T183000
DTSTAMP:20260419T183124
CREATED:20260326T170549Z
LAST-MODIFIED:20260330T200832Z
UID:10007439-1776277800-1776277800@15francoallemandeoccitanie.fr
SUMMARY:Conférence en ligne autour de Paula Modersohn-Becker et Clara Westhoff-Rilke
DESCRIPTION:L’autrice bilingue Sabine Aussenac\, professeure agrégée d’allemand et doctorante\, proposera une conférence en ligne autour de Paula Modersohn-Becker et Clara Westhoff-Rilke\, deux créatrices de la colonie d’artistes de Worpswede en Basse-Saxe. \nDans le cadre de sa thèse en recherche-création à l’UT2J\, Sabine Aussenac croise germanistique\, histoire de l’art et études de genre et s’intéresse plus particulièrement à l’émancipation par l’art et à l’invisibilisation muséale des femmes artistes. Elle a participé récemment à une émission de France Culture autour de Paula Modersohn-Becker\, figure majeure de l’art allemand et pionnière de la modernité\, et présenté le 19 mars des extraits de la pièce qui sera jouée lors de sa soutenance de thèse sur la scène de la Fabrique à Toulouse. \nTrès engagée dans le franco-allemand par de nombreux textes et diverses actions\, l’autrice se propose de faire découvrir deux magnifiques artistes encore trop méconnues en France. Paula Modersohn-Becker a été la première femme peintre à avoir son propre musée et à avoir peint un autoportrait de nu. Clara Westhoff-Rilke\, immense sculptrice\, vit encore aujourd’hui dans l’ombre de son très célèbre époux. \nModalités : inscriptions obligatoires à l’adresse suivante : apfelkraut32@yahoo.fr \n\nhttps://creg.univ-tlse2.fr/accueil/membres-de-lequipe/doctorants-et-docteurs/sabine-aussenac\nhttps://www.radiofrance.fr/franceculture/podcasts/toute-une-vie/paula-modersohn-becker-1876-1907-la-peinture-absolument-9049725\nhttps://www.youtube.com/watch?v=7HHczyZBKF0&t=3s\nhttps://www.youtube.com/watch?v=kteN6NXHils\n\nEt pour toutes celles et ceux qui souhaiteraient en apprendre plus et découvrir des trésors insoupçonnés de cette riche culture allemande \, n’hésitez pas à visiter le site de Sabine Aussenac en commençant par l’article consacré à l’exceptionnel Musée de Duisburg: \nCette beauté du monde: le Lehmbruck Museum de #Duisbourg #musées #Allemagne #francoallemand #art
URL:https://15francoallemandeoccitanie.fr/evenement/conference-en-ligne-autour-de-paula-modersohn-becker-et-clara-westhoff-rilke/
LOCATION:En ligne
CATEGORIES:Culture,Distanciel
ATTACH;FMTTYPE=image/jpeg:https://15francoallemandeoccitanie.fr/wp-content/uploads/2026/03/2026_04_15_conf_arts.jpg
END:VEVENT
BEGIN:VEVENT
DTSTART;TZID=Europe/Paris:20250409T180000
DTEND;TZID=Europe/Paris:20250409T180000
DTSTAMP:20260419T183124
CREATED:20250305T153125Z
LAST-MODIFIED:20250305T195331Z
UID:10000495-1744221600-1744221600@15francoallemandeoccitanie.fr
SUMMARY:Conférence sur la ville de Dresde par Céline Laurière - La Florence de l'Elbe
DESCRIPTION:Dresde – ville d’art\, de musique et d’histoire. Rares sont les villes qui réunissent autant de sites exceptionnels que la capitale de la Saxe. Dresde a su renaître de ses cendres et offre aujourd’hui à ses habitants et touristes une magnifique itinérance le long de l’Elbe mais aussi à travers ses quartiers baroques où une halte dans un de ses grands musées s’impose.
URL:https://15francoallemandeoccitanie.fr/evenement/conference-sur-la-ville-de-dresde-par-celine-lauriere-la-florence-de-lelbe/
LOCATION:En ligne
CATEGORIES:Culture,Distanciel
ATTACH;FMTTYPE=image/jpeg:https://15francoallemandeoccitanie.fr/wp-content/uploads/2025/03/2025_04_09_Dresden©Rene-Venus-scaled.jpg
ORGANIZER;CN="Goethe-Institut Toulouse C%C3%A9line Lauri%C3%A8re":MAILTO:accueil-toulouse@goethe.de
END:VEVENT
BEGIN:VEVENT
DTSTART;TZID=Europe/Paris:20250402T190000
DTEND;TZID=Europe/Paris:20250402T200000
DTSTAMP:20260419T183124
CREATED:20250305T131038Z
LAST-MODIFIED:20250310T164450Z
UID:10000490-1743620400-1743624000@15francoallemandeoccitanie.fr
SUMMARY:Café Langues Spécial France-Allemagne
DESCRIPTION:Ouvert aux étudiants des établissements membres de l’université européenne UNIVERSEH \n📢 Café Langues Spécial France-Allemagne\nDans le cadre de la Quinzaine Franco-Allemande\, l’alliance européenne UNIVERSEH et la Communauté d’Universités et Etablissements de Toulouse organisent une édition spéciale des Cafés Langues\, dédiée aux échanges en français et en allemand. \n📅 Date & lieu : mercredi de 19h à 20h – En ligne\n🔹 Groupes de conversation animés par des bilingues\n🔹 Jeux linguistiques & quiz culturel\n🔹 Échanges sur les différences culturelles\n🔹 Témoignages d’étudiants en mobilité\nLe tout dans une ambiance conviviale ! \n📲 Infos & inscription : https://form.hhu.de/studierendenakademie/universeh-academy-language-cafe/#c598 \n Lien Internet / page dédiée à l’événement :\nhttps://form.hhu.de/studierendenakademie/universeh-academy-language-cafe/#c598
URL:https://15francoallemandeoccitanie.fr/evenement/cafe-langues-special-france-allemagne/
LOCATION:En ligne
CATEGORIES:Citoyenneté,Distanciel,Distanciel,Éducation
ATTACH;FMTTYPE=image/png:https://15francoallemandeoccitanie.fr/wp-content/uploads/2025/03/2025_04_02_Cafe_Langues_Special_France-Allemagne.png
END:VEVENT
BEGIN:VEVENT
DTSTART;TZID=Europe/Paris:20250402T183000
DTEND;TZID=Europe/Paris:20250402T183000
DTSTAMP:20260419T183124
CREATED:20250305T125148Z
LAST-MODIFIED:20250314T120800Z
UID:10000489-1743618600-1743618600@15francoallemandeoccitanie.fr
SUMMARY:Soirée tandem en ligne
DESCRIPTION:Les soirées Tandem permettent aux francophones apprenant l’allemand et aux germanophones apprenant le français de se retrouver pour échanger sur le plan linguistique et culturel. Nous nous réjouissons de vous proposer également un format en ligne pour ces rencontres. Rien de plus simple que de passer une soirée franco-allemande depuis votre canapé pour discuter\, jouer\, apprendre et même peut-être trouver un·e partenaire tandem sur le long terme.\nL’inscription au préalable à la soirée se fait par mail : accueil-toulouse@goethe.de \nNous vous enverrons le lien pour vous connecter quelques jours avant la manifestation. Merci de communiquer lors de l’inscription votre langue maternelle et votre niveau dans la langue cible.\nLes soirées sont ouvertes à tou·te·s\, quel que soit le niveau de langue. Nous nous réjouissons de vous (re)voir !\nCrédit photo: © Charlotte Seitz
URL:https://15francoallemandeoccitanie.fr/evenement/soiree-tandem/
LOCATION:En ligne
CATEGORIES:Culture,Distanciel
ATTACH;FMTTYPE=image/jpeg:https://15francoallemandeoccitanie.fr/wp-content/uploads/2025/03/2025_03_12_Tandem-en-ligne©Charlotte-Seitz-scaled.jpg
END:VEVENT
BEGIN:VEVENT
DTSTART;TZID=Europe/Paris:20250320T183000
DTEND;TZID=Europe/Paris:20250320T183000
DTSTAMP:20260419T183124
CREATED:20250309T002744Z
LAST-MODIFIED:20250314T120226Z
UID:10000922-1742495400-1742495400@15francoallemandeoccitanie.fr
SUMMARY:Conférence du prof. Dirk Oschmann\, auteur du best-seller L'Est\, une invention ouest-allemande (Der Osten: eine westdeutsche Erfindung)
DESCRIPTION:Si le Mur de Berlin est tombé en 1989\, le processus d’unification de l’Allemagne est toujours en cours. Plus de 30 ans après\, les disparités entre l’Allemagne de l’Est et de l’Ouest restent très nombreuses pour ce qui est de l’économie et du pouvoir politique. Ainsi\, les Allemands de l´Est sont nettement sous-représentés dans les postes à responsabilité de tous les domaines sociétaux. Par conséquent\, ils ne peuvent prendre part à la démocratie de manière adéquate. La prospérité matérielle reste sensiblement inférieure à l´Est\, car les héritages sont moindres et les salaires plus bas. Ces décalages ont\, entre autres\, des répercussions sur la géographie électorale de l’Allemagne d’aujourd’hui.\nDans son livre polémique « Der Osten\, eine westdeutsche Erfindung » (Ullstein 2023\, « L’Allemagne de l´Est\, une invention ouest-allemande »)\, Dirk Oschmann pose la question de la responsabilité de la partie ouest de l´Allemagne\, dominante\, dans cette évolution tout comme celle des conséquences pour l’avenir. Pour des raisons géopolitiques\, l’unification s’est faite dans la précipitation. Et pour des raisons politiques et économiques\, la RFA a dominé ce processus avec ses lois\, ses règles\, ses normes et même sa façon d’en parler.\nLors de la table ronde\, Dirk Oschmann\, professeur de littérature allemande moderne à l’université de Leipzig\, Lukas Rass-Masson\, professeur de droit à l’Université Toulouse Capitole et vice-président « ressources et transformation institutionnelle » de l’Université de Toulouse\, et Stefanie Neubert\, directrice du Goethe-Institut de Toulouse\, échangeront leurs points de vue sur ce processus d’unification dans une perspective historique et ses conséquences pour la cohésion démocratique.\nEn allemand et avec traduction synthétique en français (Catherine Mazellier\, Université Toulouse Jean Jaurès).\nUne coopération du Goethe-Institut avec La European School of Law de Toulouse (ESL)\nCrédit photo: Prof. Dr. Dirk Oschmann © Jakob Weber
URL:https://15francoallemandeoccitanie.fr/evenement/conference-du-prof-dirk-oschmann-auteur-du-best-seller-lest-une-invention-ouest-allemande-der-osten-eine-westdeutsche-erfindung/
LOCATION:En ligne
CATEGORIES:Culture,Distanciel,ESR
ATTACH;FMTTYPE=image/jpeg:https://15francoallemandeoccitanie.fr/wp-content/uploads/2025/03/2025_03_20_Oschmann02©Jakob-Weber.jpg
END:VEVENT
BEGIN:VEVENT
DTSTART;TZID=Europe/Paris:20250312T183000
DTEND;TZID=Europe/Paris:20250312T183000
DTSTAMP:20260419T183124
CREATED:20250307T144338Z
LAST-MODIFIED:20250314T115550Z
UID:10000909-1741804200-1741804200@15francoallemandeoccitanie.fr
SUMMARY:Soirée tandem en ligne
DESCRIPTION:Les soirées Tandem permettent aux francophones apprenant l’allemand et aux germanophones apprenant le français de se retrouver pour échanger sur le plan linguistique et culturel. Nous nous réjouissons de vous proposer également un format en ligne pour ces rencontres. Rien de plus simple que de passer une soirée franco-allemande depuis votre canapé pour discuter\, jouer\, apprendre et même peut-être trouver un·e partenaire tandem sur le long terme.\nL’inscription au préalable à la soirée se fait par mail : accueil-toulouse@goethe.de Nous vous enverrons le lien pour vous connecter quelques jours avant la manifestation.\nLes soirées sont ouvertes à tou·te·s\, quel que soit le niveau de langue. Nous nous réjouissons de vous (re)voir !\nInscription préalable par mail en précisant la langue votre langue maternelle et votre niveau dans la langue cible: accueil-toulouse@goethe.de\nCrédit photo: © Charlotte Seitz
URL:https://15francoallemandeoccitanie.fr/evenement/soiree-tandem-3/
LOCATION:En ligne
CATEGORIES:Distanciel,Éducation
ATTACH;FMTTYPE=image/jpeg:https://15francoallemandeoccitanie.fr/wp-content/uploads/2025/03/2025_03_12_Tandem-en-ligne©Charlotte-Seitz-scaled.jpg
END:VEVENT
END:VCALENDAR