BEGIN:VCALENDAR
VERSION:2.0
PRODID:-//Quinzaine franco-allemande - ECPv6.15.20//NONSGML v1.0//EN
CALSCALE:GREGORIAN
METHOD:PUBLISH
X-ORIGINAL-URL:https://15francoallemandeoccitanie.fr
X-WR-CALDESC:Évènements pour Quinzaine franco-allemande
REFRESH-INTERVAL;VALUE=DURATION:PT1H
X-Robots-Tag:noindex
X-PUBLISHED-TTL:PT1H
BEGIN:VTIMEZONE
TZID:Europe/Paris
BEGIN:DAYLIGHT
TZOFFSETFROM:+0100
TZOFFSETTO:+0200
TZNAME:CEST
DTSTART:20230326T010000
END:DAYLIGHT
BEGIN:STANDARD
TZOFFSETFROM:+0200
TZOFFSETTO:+0100
TZNAME:CET
DTSTART:20231029T010000
END:STANDARD
BEGIN:DAYLIGHT
TZOFFSETFROM:+0100
TZOFFSETTO:+0200
TZNAME:CEST
DTSTART:20240331T010000
END:DAYLIGHT
BEGIN:STANDARD
TZOFFSETFROM:+0200
TZOFFSETTO:+0100
TZNAME:CET
DTSTART:20241027T010000
END:STANDARD
BEGIN:DAYLIGHT
TZOFFSETFROM:+0100
TZOFFSETTO:+0200
TZNAME:CEST
DTSTART:20250330T010000
END:DAYLIGHT
BEGIN:STANDARD
TZOFFSETFROM:+0200
TZOFFSETTO:+0100
TZNAME:CET
DTSTART:20251026T010000
END:STANDARD
END:VTIMEZONE
BEGIN:VEVENT
DTSTART;TZID=Europe/Paris:20240320T110000
DTEND;TZID=Europe/Paris:20240320T121500
DTSTAMP:20260421T040728
CREATED:20240316T161056Z
LAST-MODIFIED:20240316T161056Z
UID:10000347-1710932400-1710936900@15francoallemandeoccitanie.fr
SUMMARY:Echange avec les jeunes conseillers départementaux sur l'amitié franco-allemande
DESCRIPTION:Lors d’une session du Conseil départemental des Jeunes\, les jeunes conseillers départementaux auront un temps d’échange avec un professeur d’Histoire portant sur l’amitié franco-allemande et le Mur de Berlin. L’Hôtel du Département héberge un fragment du mur de Berlin.
URL:https://15francoallemandeoccitanie.fr/evenement/echange-avec-les-jeunes-conseillers-departementaux-sur-lamitie-franco-allemande/
LOCATION:Hôtel du département\, Lices Georges Pompidou\, Albi\, Occitanie\, 81000\, France
CATEGORIES:Éducation,Présentiel
ATTACH;FMTTYPE=image/jpeg:https://15francoallemandeoccitanie.fr/wp-content/uploads/2024/03/logo-Tarn11.jpg
GEO:43.9290662;2.1476161
X-APPLE-STRUCTURED-LOCATION;VALUE=URI;X-ADDRESS=Hôtel du département Lices Georges Pompidou Albi Occitanie 81000 France;X-APPLE-RADIUS=500;X-TITLE=Lices Georges Pompidou:geo:2.1476161,43.9290662
END:VEVENT
END:VCALENDAR