BEGIN:VCALENDAR
VERSION:2.0
PRODID:-//Quinzaine franco-allemande - ECPv6.15.20//NONSGML v1.0//EN
CALSCALE:GREGORIAN
METHOD:PUBLISH
X-WR-CALNAME:Quinzaine franco-allemande
X-ORIGINAL-URL:https://15francoallemandeoccitanie.fr
X-WR-CALDESC:Évènements pour Quinzaine franco-allemande
REFRESH-INTERVAL;VALUE=DURATION:PT1H
X-Robots-Tag:noindex
X-PUBLISHED-TTL:PT1H
BEGIN:VTIMEZONE
TZID:Europe/Paris
BEGIN:DAYLIGHT
TZOFFSETFROM:+0100
TZOFFSETTO:+0200
TZNAME:CEST
DTSTART:20240331T010000
END:DAYLIGHT
BEGIN:STANDARD
TZOFFSETFROM:+0200
TZOFFSETTO:+0100
TZNAME:CET
DTSTART:20241027T010000
END:STANDARD
BEGIN:DAYLIGHT
TZOFFSETFROM:+0100
TZOFFSETTO:+0200
TZNAME:CEST
DTSTART:20250330T010000
END:DAYLIGHT
BEGIN:STANDARD
TZOFFSETFROM:+0200
TZOFFSETTO:+0100
TZNAME:CET
DTSTART:20251026T010000
END:STANDARD
BEGIN:DAYLIGHT
TZOFFSETFROM:+0100
TZOFFSETTO:+0200
TZNAME:CEST
DTSTART:20260329T010000
END:DAYLIGHT
BEGIN:STANDARD
TZOFFSETFROM:+0200
TZOFFSETTO:+0100
TZNAME:CET
DTSTART:20261025T010000
END:STANDARD
END:VTIMEZONE
BEGIN:VEVENT
DTSTART;TZID=Europe/Paris:20250408T134500
DTEND;TZID=Europe/Paris:20250408T134500
DTSTAMP:20260419T180349
CREATED:20250305T174852Z
LAST-MODIFIED:20250310T150221Z
UID:10000869-1744119900-1744119900@15francoallemandeoccitanie.fr
SUMMARY:World Hip Hop franco-allemand
DESCRIPTION:Poétique\, politique\, polyphonique : Zweierpasch traversent les frontières – linguistiquement et géographiquement. Avec leur hip hop mondial rebelle\, la formation primée autour des jumeaux Felix et Till façonne la scène à sa manière. Les passeurs de frontières lyriques l’ont prouvé lors de tournées en Afrique\, en Asie et en Europe. Depuis 2018\, ils sont lauréats du prestigieux prix De-Gaulle-Adenauer. Ils sont accompagnés par des musiciens qui transforment les spectacles de Zweierpasch en spectacles virtuoses : Le rap franco-allemand rencontre la soul\, les rythmes reggae rencontrent les cuivres funky… La musique de Zweierpasch est synonyme de cosmopolitisme et de résistance éloquente.\nVous pouvez dès à présent nous faire part de votre demande de réservation à venir avec vos élèves germanistes\, par e-mail.\nMerci de bien vouloir préciser le nombre d’élèves/d’accompagnateurs et leur niveau (jauge limité).\nLe concert s’adresse à un public entre 12 et 25 ans.\nL’organisation et le financement du déplacement des élèves est à la charge des établissements scolaires.\nLe concert n’est pas réservé aux germanistes de l’académie de Montpellier.\nLe JAM Montpellier est facilement accessible par tramway (arrêt Saint Martin/ligne 4 Garcia Lorca)
URL:https://15francoallemandeoccitanie.fr/evenement/world-hip-hop-franco-allemand/
LOCATION:Jam\, 100 rue Ferdinand de Lesseps\, Montpellier\, 34070
CATEGORIES:Culture,Présentiel
ATTACH;FMTTYPE=image/jpeg:https://15francoallemandeoccitanie.fr/wp-content/uploads/2025/03/2025_04_08_Zweierpasch_Jam©S.Ritter-Panoramique_Pix.jpeg
GEO:43.593637;3.8785957
X-APPLE-STRUCTURED-LOCATION;VALUE=URI;X-ADDRESS=Jam 100 rue Ferdinand de Lesseps Montpellier 34070;X-APPLE-RADIUS=500;X-TITLE=100 rue Ferdinand de Lesseps:geo:3.8785957,43.593637
END:VEVENT
END:VCALENDAR