BEGIN:VCALENDAR
VERSION:2.0
PRODID:-//Quinzaine franco-allemande - ECPv6.15.20//NONSGML v1.0//EN
CALSCALE:GREGORIAN
METHOD:PUBLISH
X-ORIGINAL-URL:https://15francoallemandeoccitanie.fr
X-WR-CALDESC:Évènements pour Quinzaine franco-allemande
REFRESH-INTERVAL;VALUE=DURATION:PT1H
X-Robots-Tag:noindex
X-PUBLISHED-TTL:PT1H
BEGIN:VTIMEZONE
TZID:Europe/Paris
BEGIN:DAYLIGHT
TZOFFSETFROM:+0100
TZOFFSETTO:+0200
TZNAME:CEST
DTSTART:20220327T010000
END:DAYLIGHT
BEGIN:STANDARD
TZOFFSETFROM:+0200
TZOFFSETTO:+0100
TZNAME:CET
DTSTART:20221030T010000
END:STANDARD
BEGIN:DAYLIGHT
TZOFFSETFROM:+0100
TZOFFSETTO:+0200
TZNAME:CEST
DTSTART:20230326T010000
END:DAYLIGHT
BEGIN:STANDARD
TZOFFSETFROM:+0200
TZOFFSETTO:+0100
TZNAME:CET
DTSTART:20231029T010000
END:STANDARD
BEGIN:DAYLIGHT
TZOFFSETFROM:+0100
TZOFFSETTO:+0200
TZNAME:CEST
DTSTART:20240331T010000
END:DAYLIGHT
BEGIN:STANDARD
TZOFFSETFROM:+0200
TZOFFSETTO:+0100
TZNAME:CET
DTSTART:20241027T010000
END:STANDARD
END:VTIMEZONE
BEGIN:VEVENT
DTSTART;TZID=Europe/Paris:20230420T093000
DTEND;TZID=Europe/Paris:20230420T120000
DTSTAMP:20260424T190116
CREATED:20230413T212944Z
LAST-MODIFIED:20230413T212944Z
UID:10000218-1681983000-1681992000@15francoallemandeoccitanie.fr
SUMMARY:Sur les traces de Anselm Kiefer
DESCRIPTION:A l’occasion de la Quinzaine Franco Allemande d’Occitanie\, la Eschaton–Fondation Anselm Kiefer accueillera le 20.04.2023 18 élèves du lycée Joseph Vallot de Lodève . \n En 2022\, Eschaton–Fondation Anselm Kiefer1 (officiellement Eschaton Kunststiftung) a ouvert au public La Ribaute\, l’ancien atelier-résidence d’Anselm Kiefer à Barjac\, un village situé à 70 kilomètres au nord-ouest d’Avignon\, en France.  \nUne opportunité pour les étudiants de se plonger dans l’univers de l’artiste.  \n En 1992\, Anselm Kiefer quitte l’Allemagne et acquiert « La Ribaute »\, une ancienne filature de soie à Barjac\, qui devient l’épicentre de son travail créatif jusqu’en 2007\, date à laquelle il installe son atelier principal en région parisienne. La Ribaute a été transformée en un environnement artistique immersif qui s’étend actuellement sur 40 hectares et se compose d’environ 80 espaces artistiques. \n Les œuvres visibles à La Ribaute sont emblématiques de l’œuvre de Kiefer et illustrent différents aspects de sa pratique artistique au fil des décennies \n  \n 
URL:https://15francoallemandeoccitanie.fr/evenement/sur-les-traces-de-anselm-kiefer/
LOCATION:La Ribaute\, Anselm Kiefer studio museum\, Occitanie\, France
CATEGORIES:Culture,Éducation,Présentiel,Présentiel
ATTACH;FMTTYPE=image/webp:https://15francoallemandeoccitanie.fr/wp-content/uploads/2023/04/Artistes-occitanie-Anselm-Kiefer-Barjac.webp
GEO:43.4636856;2.1450245
END:VEVENT
END:VCALENDAR