BEGIN:VCALENDAR
VERSION:2.0
PRODID:-//Quinzaine franco-allemande - ECPv6.15.20//NONSGML v1.0//EN
CALSCALE:GREGORIAN
METHOD:PUBLISH
X-WR-CALNAME:Quinzaine franco-allemande
X-ORIGINAL-URL:https://15francoallemandeoccitanie.fr
X-WR-CALDESC:Évènements pour Quinzaine franco-allemande
REFRESH-INTERVAL;VALUE=DURATION:PT1H
X-Robots-Tag:noindex
X-PUBLISHED-TTL:PT1H
BEGIN:VTIMEZONE
TZID:Europe/Paris
BEGIN:DAYLIGHT
TZOFFSETFROM:+0100
TZOFFSETTO:+0200
TZNAME:CEST
DTSTART:20220327T010000
END:DAYLIGHT
BEGIN:STANDARD
TZOFFSETFROM:+0200
TZOFFSETTO:+0100
TZNAME:CET
DTSTART:20221030T010000
END:STANDARD
BEGIN:DAYLIGHT
TZOFFSETFROM:+0100
TZOFFSETTO:+0200
TZNAME:CEST
DTSTART:20230326T010000
END:DAYLIGHT
BEGIN:STANDARD
TZOFFSETFROM:+0200
TZOFFSETTO:+0100
TZNAME:CET
DTSTART:20231029T010000
END:STANDARD
BEGIN:DAYLIGHT
TZOFFSETFROM:+0100
TZOFFSETTO:+0200
TZNAME:CEST
DTSTART:20240331T010000
END:DAYLIGHT
BEGIN:STANDARD
TZOFFSETFROM:+0200
TZOFFSETTO:+0100
TZNAME:CET
DTSTART:20241027T010000
END:STANDARD
END:VTIMEZONE
BEGIN:VEVENT
DTSTART;TZID=Europe/Paris:20230427T080000
DTEND;TZID=Europe/Paris:20230511T170000
DTSTAMP:20260422T181216
CREATED:20230301T102249Z
LAST-MODIFIED:20230301T102937Z
UID:10000110-1682582400-1683824400@15francoallemandeoccitanie.fr
SUMMARY:Exposition d'artistes franco-allemands au Phare de Palavas-les-Flots du 27 avril au 10 mai 2023.
DESCRIPTION:Thème de l’exposition : L’Autre est autre – une rencontre interculturelle  \nKarin HOERLER  –  www.karin-hoerler.net \nChrist MATTIA – www.christ-mattia.art \nArne SCHRÖTER – www.www.instagram.com/arnecevennes/ \nChristina WEISING – www.medusartium.art \n  \nVernissage : le jeudi 27 avril 2023 de 18h00 à 21h00 \n  \n 
URL:https://15francoallemandeoccitanie.fr/evenement/exposition-dartistes-franco-allemands-au-phare-de-palavas-les-flots-du-27-avril-au-10-mai-2023/
LOCATION:Le Phare de la Méditérranée\, Place de la Méditerranée -\, Palavas-les-flots\, Occitanie\, 34250
CATEGORIES:Distanciel,Présentiel
ATTACH;FMTTYPE=image/jpeg:https://15francoallemandeoccitanie.fr/wp-content/uploads/2023/03/Visuel-pour-QZNE.jpg
GEO:43.5670333;3.8357154
X-APPLE-STRUCTURED-LOCATION;VALUE=URI;X-ADDRESS=Le Phare de la Méditérranée Place de la Méditerranée - Palavas-les-flots Occitanie 34250;X-APPLE-RADIUS=500;X-TITLE=Place de la Méditerranée -:geo:3.8357154,43.5670333
END:VEVENT
END:VCALENDAR