BEGIN:VCALENDAR
VERSION:2.0
PRODID:-//Quinzaine franco-allemande - ECPv6.15.20//NONSGML v1.0//EN
CALSCALE:GREGORIAN
METHOD:PUBLISH
X-WR-CALNAME:Quinzaine franco-allemande
X-ORIGINAL-URL:https://15francoallemandeoccitanie.fr
X-WR-CALDESC:Évènements pour Quinzaine franco-allemande
REFRESH-INTERVAL;VALUE=DURATION:PT1H
X-Robots-Tag:noindex
X-PUBLISHED-TTL:PT1H
BEGIN:VTIMEZONE
TZID:Europe/Paris
BEGIN:DAYLIGHT
TZOFFSETFROM:+0100
TZOFFSETTO:+0200
TZNAME:CEST
DTSTART:20230326T010000
END:DAYLIGHT
BEGIN:STANDARD
TZOFFSETFROM:+0200
TZOFFSETTO:+0100
TZNAME:CET
DTSTART:20231029T010000
END:STANDARD
BEGIN:DAYLIGHT
TZOFFSETFROM:+0100
TZOFFSETTO:+0200
TZNAME:CEST
DTSTART:20240331T010000
END:DAYLIGHT
BEGIN:STANDARD
TZOFFSETFROM:+0200
TZOFFSETTO:+0100
TZNAME:CET
DTSTART:20241027T010000
END:STANDARD
BEGIN:DAYLIGHT
TZOFFSETFROM:+0100
TZOFFSETTO:+0200
TZNAME:CEST
DTSTART:20250330T010000
END:DAYLIGHT
BEGIN:STANDARD
TZOFFSETFROM:+0200
TZOFFSETTO:+0100
TZNAME:CET
DTSTART:20251026T010000
END:STANDARD
END:VTIMEZONE
BEGIN:VEVENT
DTSTART;TZID=Europe/Paris:20240403T090000
DTEND;TZID=Europe/Paris:20240403T170000
DTSTAMP:20260424T160325
CREATED:20240323T212248Z
LAST-MODIFIED:20240329T153450Z
UID:10000366-1712134800-1712163600@15francoallemandeoccitanie.fr
SUMMARY:Journée académique de l'allemand
DESCRIPTION:Destinée aux enseignants d’allemand\, cette journée les réunit chaque année autour de Madame la Rectrice et des partenaires de la sphère franco-allemande. \nAu programme: intervention sur la politique académique des langues\, interventions des différents partenaires\, conférence universitaire et ateliers pédagogiques. \nC’est aussi l’occasion pour les professeurs de se rencontrer\, échanger sur leurs pratiques pédagogiques\, les projets en cours ou envisagés dans les établissements de l’académie\, les outils mis à disposition pour faciliter leur mise en œuvre. \n 
URL:https://15francoallemandeoccitanie.fr/evenement/journee-academique-de-lallemand/
LOCATION:Lycée Georges Frêche\, 401 Rue Le Titien\, Montpellier\, 34000\, France
CATEGORIES:Éducation,Présentiel
ATTACH;FMTTYPE=image/jpeg:https://15francoallemandeoccitanie.fr/wp-content/uploads/2024/03/Journee-prof-allemand.jpg
GEO:43.6045211;3.9119271
X-APPLE-STRUCTURED-LOCATION;VALUE=URI;X-ADDRESS=Lycée Georges Frêche 401 Rue Le Titien Montpellier 34000 France;X-APPLE-RADIUS=500;X-TITLE=401 Rue Le Titien:geo:3.9119271,43.6045211
END:VEVENT
END:VCALENDAR