BEGIN:VCALENDAR
VERSION:2.0
PRODID:-//Quinzaine franco-allemande - ECPv6.15.20//NONSGML v1.0//EN
CALSCALE:GREGORIAN
METHOD:PUBLISH
X-WR-CALNAME:Quinzaine franco-allemande
X-ORIGINAL-URL:https://15francoallemandeoccitanie.fr
X-WR-CALDESC:Évènements pour Quinzaine franco-allemande
REFRESH-INTERVAL;VALUE=DURATION:PT1H
X-Robots-Tag:noindex
X-PUBLISHED-TTL:PT1H
BEGIN:VTIMEZONE
TZID:Europe/Paris
BEGIN:DAYLIGHT
TZOFFSETFROM:+0100
TZOFFSETTO:+0200
TZNAME:CEST
DTSTART:20230326T010000
END:DAYLIGHT
BEGIN:STANDARD
TZOFFSETFROM:+0200
TZOFFSETTO:+0100
TZNAME:CET
DTSTART:20231029T010000
END:STANDARD
BEGIN:DAYLIGHT
TZOFFSETFROM:+0100
TZOFFSETTO:+0200
TZNAME:CEST
DTSTART:20240331T010000
END:DAYLIGHT
BEGIN:STANDARD
TZOFFSETFROM:+0200
TZOFFSETTO:+0100
TZNAME:CET
DTSTART:20241027T010000
END:STANDARD
BEGIN:DAYLIGHT
TZOFFSETFROM:+0100
TZOFFSETTO:+0200
TZNAME:CEST
DTSTART:20250330T010000
END:DAYLIGHT
BEGIN:STANDARD
TZOFFSETFROM:+0200
TZOFFSETTO:+0100
TZNAME:CET
DTSTART:20251026T010000
END:STANDARD
BEGIN:DAYLIGHT
TZOFFSETFROM:+0100
TZOFFSETTO:+0200
TZNAME:CEST
DTSTART:20260329T010000
END:DAYLIGHT
BEGIN:STANDARD
TZOFFSETFROM:+0200
TZOFFSETTO:+0100
TZNAME:CET
DTSTART:20261025T010000
END:STANDARD
BEGIN:DAYLIGHT
TZOFFSETFROM:+0100
TZOFFSETTO:+0200
TZNAME:CEST
DTSTART:20270328T010000
END:DAYLIGHT
BEGIN:STANDARD
TZOFFSETFROM:+0200
TZOFFSETTO:+0100
TZNAME:CET
DTSTART:20271031T010000
END:STANDARD
END:VTIMEZONE
BEGIN:VEVENT
DTSTART;TZID=Europe/Paris:20260413T000000
DTEND;TZID=Europe/Paris:20260413T000000
DTSTAMP:20260419T193759
CREATED:20260302T184625Z
LAST-MODIFIED:20260402T184851Z
UID:10001120-1776038400-1776038400@15francoallemandeoccitanie.fr
SUMMARY:Journée allemande au lycée Hemingway
DESCRIPTION:Lors de la journée allemande qui se tient chaque année en avril au Lycée Hemingway de Nîmes\, les élèves germanistes de Seconde présentent leurs affiches consacrées à la culture des pays germanophones. Ces affiches ainsi que des badges sont réalisés par les élèves germanistes de Seconde. Des élèves du lycée répondent ensuite à différents quiz et gagnent le matin des viennoiseries et des badges lorsqu’ils répondent juste.\nLe cuisinier du lycée nous confectionne un repas germanique à midi à la cantine. Les élèves réalisent l’affiche du menu qui est composé de charcuterie\, d’une choucroute garnie et d’une Forêt-Noire ou d’un Apfelstrudel au choix.\nL’après-midi est consacré à la projection d’un film de langue allemande. Nous pourrons voir cette année le film « La Révolution silencieuse » (das schweigende Klassenzimmer) du réalisateur Lars Kraume et sorti en Allemagne en 2018.\nCe film se passe en RDA en 1956 et retrace la véritable histoire d’une classe de Terminale qui décide de faire une minute de silence en hommage aux révolutionnaires hongrois durement réprimés par l’armée soviétique. Cette minute de silence devient une affaire d’État et va faire basculer la vie de ces lycéens.\nCette journée permet de faire connaître les spécialités allemandes et autrichiennes\, le sport pratiqué en Allemagne\, les traditions festives\, les différentes villes importantes et bien sûr la capitale berlinoise.
URL:https://15francoallemandeoccitanie.fr/evenement/journee-allemande-au-lycee-hemingway-3/
LOCATION:Lycée Hemingway\, 98 avenue Jean Jaurès\, Nîmes\, 30900\, France
CATEGORIES:Citoyenneté,Convivialité,Éducation,Éducation Jeunesse,Jeunesse,Présentiel,Présentiel
ATTACH;FMTTYPE=image/png:https://15francoallemandeoccitanie.fr/wp-content/uploads/2026/03/Jour_all.png
GEO:43.8250237;4.3529403
X-APPLE-STRUCTURED-LOCATION;VALUE=URI;X-ADDRESS=Lycée Hemingway 98 avenue Jean Jaurès Nîmes 30900 France;X-APPLE-RADIUS=500;X-TITLE=98 avenue Jean Jaurès:geo:4.3529403,43.8250237
END:VEVENT
BEGIN:VEVENT
DTSTART;TZID=Europe/Paris:20240426T080000
DTEND;TZID=Europe/Paris:20240426T080000
DTSTAMP:20260419T193759
CREATED:20240326T213911Z
LAST-MODIFIED:20240326T214348Z
UID:10000407-1714118400-1714118400@15francoallemandeoccitanie.fr
SUMMARY:Journée allemande dans le cadre de la semaine des langues
DESCRIPTION:Lors de la journée allemande qui se tient chaque année en avril au Lycée Hemingway de Nîmes\, les élèves germanistes de Seconde présentent leurs affiches consacrées à la culture des pays germanophones. Ces affiches ainsi que des badges sont réalisés par les élèves germanistes de Seconde et de Première. Des élèves du lycée répondent ensuite à différents quiz et gagnent le matin des viennoiseries et des badges lorsqu’ils répondent juste. Le cuisinier du lycée nous confectionne un repas germanique à midi à la cantine. L’après-midi est consacré à la projection d’un film de langue allemande en VO sous-titrée.
URL:https://15francoallemandeoccitanie.fr/evenement/journee-allemande-dans-le-cadre-de-la-semaine-des-langues/
LOCATION:Lycée Hemingway\, 98 avenue Jean Jaurès\, Nîmes\, 30900\, France
CATEGORIES:Éducation,Présentiel
ATTACH;FMTTYPE=image/gif:https://15francoallemandeoccitanie.fr/wp-content/uploads/2024/03/Lycee-Hemingway-scaled.gif
GEO:43.8250237;4.3529403
X-APPLE-STRUCTURED-LOCATION;VALUE=URI;X-ADDRESS=Lycée Hemingway 98 avenue Jean Jaurès Nîmes 30900 France;X-APPLE-RADIUS=500;X-TITLE=98 avenue Jean Jaurès:geo:4.3529403,43.8250237
END:VEVENT
END:VCALENDAR