BEGIN:VCALENDAR
VERSION:2.0
PRODID:-//Quinzaine franco-allemande - ECPv6.15.20//NONSGML v1.0//EN
CALSCALE:GREGORIAN
METHOD:PUBLISH
X-ORIGINAL-URL:https://15francoallemandeoccitanie.fr
X-WR-CALDESC:Évènements pour Quinzaine franco-allemande
REFRESH-INTERVAL;VALUE=DURATION:PT1H
X-Robots-Tag:noindex
X-PUBLISHED-TTL:PT1H
BEGIN:VTIMEZONE
TZID:Europe/Paris
BEGIN:DAYLIGHT
TZOFFSETFROM:+0100
TZOFFSETTO:+0200
TZNAME:CEST
DTSTART:20220327T010000
END:DAYLIGHT
BEGIN:STANDARD
TZOFFSETFROM:+0200
TZOFFSETTO:+0100
TZNAME:CET
DTSTART:20221030T010000
END:STANDARD
BEGIN:DAYLIGHT
TZOFFSETFROM:+0100
TZOFFSETTO:+0200
TZNAME:CEST
DTSTART:20230326T010000
END:DAYLIGHT
BEGIN:STANDARD
TZOFFSETFROM:+0200
TZOFFSETTO:+0100
TZNAME:CET
DTSTART:20231029T010000
END:STANDARD
BEGIN:DAYLIGHT
TZOFFSETFROM:+0100
TZOFFSETTO:+0200
TZNAME:CEST
DTSTART:20240331T010000
END:DAYLIGHT
BEGIN:STANDARD
TZOFFSETFROM:+0200
TZOFFSETTO:+0100
TZNAME:CET
DTSTART:20241027T010000
END:STANDARD
BEGIN:DAYLIGHT
TZOFFSETFROM:+0100
TZOFFSETTO:+0200
TZNAME:CEST
DTSTART:20250330T010000
END:DAYLIGHT
BEGIN:STANDARD
TZOFFSETFROM:+0200
TZOFFSETTO:+0100
TZNAME:CET
DTSTART:20251026T010000
END:STANDARD
END:VTIMEZONE
BEGIN:VEVENT
DTSTART;VALUE=DATE:20240321
DTEND;VALUE=DATE:20240405
DTSTAMP:20260422T205447
CREATED:20240303T093947Z
LAST-MODIFIED:20240303T093947Z
UID:10000316-1710979200-1712275199@15francoallemandeoccitanie.fr
SUMMARY:Concours sur l'amitié franco-allemande du lycée Jean Monnet
DESCRIPTION:Du 21 mars au 4 avril\, tous les élèves du lycée Jean Monnet sont invités à participer à un concours sur l’amitié franco-allemande avec une exposition de leurs œuvres d’art au CDI du Lycée.
URL:https://15francoallemandeoccitanie.fr/evenement/concours-sur-lamitie-franco-allemande-du-lycee-jean-monnet/
LOCATION:Lycee Jean Monnet\, Rue de Malbosc\,\, Montpellier\, 34080\, France
CATEGORIES:Éducation,Présentiel
ATTACH;FMTTYPE=image/jpeg:https://15francoallemandeoccitanie.fr/wp-content/uploads/2024/03/LyceeJeanMonnetMontpellier_panoramique.jpg
ORGANIZER;CN="LYCEE JEAN MONNET MONTPELLIER":MAILTO:ce.0341736c@ac-montpellier.fr
GEO:43.6318601;3.8311588
X-APPLE-STRUCTURED-LOCATION;VALUE=URI;X-ADDRESS=Lycee Jean Monnet Rue de Malbosc Montpellier 34080 France;X-APPLE-RADIUS=500;X-TITLE=Rue de Malbosc\,:geo:3.8311588,43.6318601
END:VEVENT
BEGIN:VEVENT
DTSTART;VALUE=DATE:20240311
DTEND;VALUE=DATE:20240323
DTSTAMP:20260422T205447
CREATED:20240225T215807Z
LAST-MODIFIED:20240323T215427Z
UID:10000300-1710115200-1711151999@15francoallemandeoccitanie.fr
SUMMARY:Exposition "Les traités d'amitié franco-allemande au cœur de la construction de l'Union européenne [1963-2023]"
DESCRIPTION:Cette exposition a été conçue par la Fédération des acteurs franco-allemands pour l’Europe\, avec l’aide du Fond citoyen franco-allemand.  \nElle comporte 15 panneaux qui présentent les moments clés de la construction européenne au regard de la signature des traités sur la coopération et l’intégration franco-allemandes\, depuis celui de l’Élysée en 1963 jusqu’au 60ème anniversaire du traité de l’Élysée. \nVernissage le 12/03 avec une présentation aux élèves germanistes du Lycée par les bénévoles du mouvement européen Hérault.
URL:https://15francoallemandeoccitanie.fr/evenement/exposition-les-traites-damitie-franco-allemande-au-coeur-de-la-construction-de-lunion-europeenne-1963-2023/
LOCATION:Lycee Jean Monnet\, Rue de Malbosc\,\, Montpellier\, 34080\, France
CATEGORIES:Citoyenneté,Éducation,Présentiel,Présentiel
ATTACH;FMTTYPE=image/jpeg:https://15francoallemandeoccitanie.fr/wp-content/uploads/2024/02/Expo-Europe-et-amitie-f-a-exemple-de-4-panneaux-1.jpg
ORGANIZER;CN="LYCEE JEAN MONNET MONTPELLIER":MAILTO:ce.0341736c@ac-montpellier.fr
GEO:43.6318601;3.8311588
X-APPLE-STRUCTURED-LOCATION;VALUE=URI;X-ADDRESS=Lycee Jean Monnet Rue de Malbosc Montpellier 34080 France;X-APPLE-RADIUS=500;X-TITLE=Rue de Malbosc\,:geo:3.8311588,43.6318601
END:VEVENT
BEGIN:VEVENT
DTSTART;TZID=Europe/Paris:20230403T080000
DTEND;TZID=Europe/Paris:20230421T170000
DTSTAMP:20260422T205447
CREATED:20230316T105720Z
LAST-MODIFIED:20230316T105720Z
UID:10000138-1680508800-1682096400@15francoallemandeoccitanie.fr
SUMMARY:Amitié franco-allemand (concours de production artistique)
DESCRIPTION:La section de l’Allemand au Lycée Jean-Monnet est composée d’une petite équipe de deux professeurs et parfois d’un(e) assistant(e) de langue. Les cours sont dispensés dans le cadre du tronc commun des enseignements obligatoires de la Seconde à la Terminale\, avec les horaires réglementaires. \nLe choix de l’Allemand comme langue vivante scolaire est d’ailleurs une excellente préparation à la vie après le Baccalauréat. Dans les différents cursus universitaires et professionnels\, il existe de plus en plus de diplômes franco-allemands dans lesquels la maitrise de l’Allemand est indispensable.  Être germaniste est aussi un atout majeur sur le marché de travail en général\, non seulement dans le tourisme. L’Allemagne est le premier partenaire économique et politique de la France et de grandes firmes allemandes implantées en France ont des difficultés à trouver du  personnel capable de s’exprimer en allemand. \nBeaucoup d’élèves du Lycée Jean Monnet sont intéressés par les matières artistiques. A l’occasion de la Quinzaine franco allemande d’Occitanie\, un concours sur l’amitié franco-allemande sera organisé par les professeurs d’allemand du 03 au 21.04.2023. \nLes œuvres des élèves seront exposées au CDI et récompensées par un présent pour leur investissement.
URL:https://15francoallemandeoccitanie.fr/evenement/amitie-franco-allemand-concours-de-production-artistique/
LOCATION:Lycee Jean Monnet\, Rue de Malbosc\,\, Montpellier\, 34080\, France
CATEGORIES:Présentiel
ATTACH;FMTTYPE=image/jpeg:https://15francoallemandeoccitanie.fr/wp-content/uploads/2023/03/LyceeJeanMonnetMontpellier_panoramique.jpg
ORGANIZER;CN="LYCEE JEAN MONNET MONTPELLIER":MAILTO:ce.0341736c@ac-montpellier.fr
GEO:43.6318601;3.8311588
X-APPLE-STRUCTURED-LOCATION;VALUE=URI;X-ADDRESS=Lycee Jean Monnet Rue de Malbosc Montpellier 34080 France;X-APPLE-RADIUS=500;X-TITLE=Rue de Malbosc\,:geo:3.8311588,43.6318601
END:VEVENT
BEGIN:VEVENT
DTSTART;VALUE=DATE:20230324
DTEND;VALUE=DATE:20230402
DTSTAMP:20260422T205447
CREATED:20230321T102156Z
LAST-MODIFIED:20230321T102548Z
UID:10000136-1679616000-1680393599@15francoallemandeoccitanie.fr
SUMMARY:Accueil des correspondants de Heidelberg au Lycée Jean Monnet
DESCRIPTION:Accueil des correspondants allemands du 24 mars au 1 avril 2023\nDans le cadre du programme d’échange du lycée Jean Monnet avec le lycée à Heidelberg Gymnasium Hölderlin\, nous accueillons nos amis allemands du 24.3.2023 au 1.4.2023 autour d’un projet sur les proverbes et expressions franco-allemandes. Les élèves français sont venus à Heidelberg du 29.11.2022 au 8.12.2022 et nous souhaitons maintenant recevoir nos amis aussi chaleureusement que nous avons été accueillis à Heidelberg.\nProfesseur d’allemand du lycée Jean Monnet: Madame Carbonnel\nProgramme prévisionnel\nVendredi 24.3\n18h08 Arrivée des allemands à la gare Montpellier Sud de France\nAccueil et installation dans les familles\nSamedi 25.3 et Dimanche 26.3\nLes élèves allemands participent aux activités weekend des familles d’accueil françaises\nLundi 27.3\n9h Accueil des élèves allemands au lycée + Mot du chef d’établissement et visite de l’établissement\n10h -12h les élèves allemands assistent aux cours de leurs correspondants\nCantine 12h15 – 13h\n13h15 départ des élèves et professeurs allemands pour aller en TAM à Odysseum :\n14h-15h30 visite de l’Aquarium\n16h – 17h accueil à la Maison de Heidelberg\n18h retour au lycée\nMardi 28.3\n8h RdV au lycée pour l’Excursion franco-allemand à Nîmes\nDépart en train\nVisite des Arènes\, la Maison Carrée et la Tour Magne\n17h30 retour lycée\nMercredi 29.3\n8h-9h Réunion des élèves allemands avec leurs professeurs\n9h – 11h Projet franco allemand sur les proverbes\n12h Excursion Palavas pour les élèves allemands et leurs professeurs\nJeudi 30.3\n8h-10h Projet franco-allemand sur les proverbes ensuite les élèves allemands assistent aux cours de leurs correspondants\n12-13h30 Initiation et mini tournoi de pétanque organisé par le Comité de Quartier Cévennes et Environs au Parc Mas de Neuville Adresse : 410-496 Av. du Château d’O\, 34090 Montpellier\n13h30 Après-midi visite de Montpellier\nLes élèves font une rallye franco-allemande\, visitent le musée Fabre\, la Maison de l’Europe et la Maison des Relations Internationales.\n17h30 Retour au lycée\n18h- 21h30 soirée d’adieu au lycée avec les parents :\nPrésentation des travaux d’élèves sur le projet Proverbes franco-allemands\nBuffet\nVendredi 31.3\n8h Rendez-vous au lycée (les allemands participent au premier cours de leurs correspondant)\nExcursion à Sète pour les allemands\n17h30 retour au lycée\nSamedi 1.4\n6h (précise) à la Gare Montpellier Saint Roch (centre ville de Montpellier) : Départ pour Heidelberg
URL:https://15francoallemandeoccitanie.fr/evenement/accueil-des-correspondants-de-heidelberg-au-lycee-jean-monnet/
LOCATION:Lycee Jean Monnet\, Rue de Malbosc\,\, Montpellier\, 34080\, France
CATEGORIES:Présentiel
ATTACH;FMTTYPE=image/jpeg:https://15francoallemandeoccitanie.fr/wp-content/uploads/2023/03/b8ebfa4b-33a9-4793-9102-08feb2711c39-head-5-scaled.jpg
ORGANIZER;CN="LYCEE JEAN MONNET MONTPELLIER":MAILTO:ce.0341736c@ac-montpellier.fr
GEO:43.6318601;3.8311588
X-APPLE-STRUCTURED-LOCATION;VALUE=URI;X-ADDRESS=Lycee Jean Monnet Rue de Malbosc Montpellier 34080 France;X-APPLE-RADIUS=500;X-TITLE=Rue de Malbosc\,:geo:3.8311588,43.6318601
END:VEVENT
END:VCALENDAR