BEGIN:VCALENDAR
VERSION:2.0
PRODID:-//Quinzaine franco-allemande - ECPv6.15.20//NONSGML v1.0//EN
CALSCALE:GREGORIAN
METHOD:PUBLISH
X-ORIGINAL-URL:https://15francoallemandeoccitanie.fr
X-WR-CALDESC:Évènements pour Quinzaine franco-allemande
REFRESH-INTERVAL;VALUE=DURATION:PT1H
X-Robots-Tag:noindex
X-PUBLISHED-TTL:PT1H
BEGIN:VTIMEZONE
TZID:Europe/Paris
BEGIN:DAYLIGHT
TZOFFSETFROM:+0100
TZOFFSETTO:+0200
TZNAME:CEST
DTSTART:20230326T010000
END:DAYLIGHT
BEGIN:STANDARD
TZOFFSETFROM:+0200
TZOFFSETTO:+0100
TZNAME:CET
DTSTART:20231029T010000
END:STANDARD
BEGIN:DAYLIGHT
TZOFFSETFROM:+0100
TZOFFSETTO:+0200
TZNAME:CEST
DTSTART:20240331T010000
END:DAYLIGHT
BEGIN:STANDARD
TZOFFSETFROM:+0200
TZOFFSETTO:+0100
TZNAME:CET
DTSTART:20241027T010000
END:STANDARD
BEGIN:DAYLIGHT
TZOFFSETFROM:+0100
TZOFFSETTO:+0200
TZNAME:CEST
DTSTART:20250330T010000
END:DAYLIGHT
BEGIN:STANDARD
TZOFFSETFROM:+0200
TZOFFSETTO:+0100
TZNAME:CET
DTSTART:20251026T010000
END:STANDARD
END:VTIMEZONE
BEGIN:VEVENT
DTSTART;TZID=Europe/Paris:20240319T183000
DTEND;TZID=Europe/Paris:20240319T203000
DTSTAMP:20260424T145946
CREATED:20240316T160018Z
LAST-MODIFIED:20240316T160018Z
UID:10000346-1710873000-1710880200@15francoallemandeoccitanie.fr
SUMMARY:10e anniversaire de partenariat entre la Chambre des Métiers d'Albi et de Francfort  S
DESCRIPTION:Réception à la mairie d’Albi de la délégation de la Chambre des Métiers de Francfort\, composée du Président\, du Directeur Général\, du comité directeur et d’un groupe de jeunes.\nCes jeunes effectueront un stage dans des entreprises partenaires à Albi et dans les environs. \nUn partenariat entre les deux chambres consulaires qui fait vivre à sa manière depuis 10 ans déjà\, l’amitié franco-allemande au travers de la dynamique professionnelle.
URL:https://15francoallemandeoccitanie.fr/evenement/10e-anniversaire-de-partenariat-entre-la-chambre-des-metiers-dalbi-et-de-francfort-s/
LOCATION:Mairie d’Albi\, 16 rue de l'hôtel de ville\, Albi\, Occitanie\, 81000\, France
CATEGORIES:Économie,Présentiel
ATTACH;FMTTYPE=image/png:https://15francoallemandeoccitanie.fr/wp-content/uploads/2024/03/Chambre-des-metiers-Albi.png
GEO:48.8565921;2.3522133
X-APPLE-STRUCTURED-LOCATION;VALUE=URI;X-ADDRESS=Mairie d’Albi 16 rue de l'hôtel de ville Albi Occitanie 81000 France;X-APPLE-RADIUS=500;X-TITLE=16 rue de l'hôtel de ville:geo:2.3522133,48.8565921
END:VEVENT
END:VCALENDAR