BEGIN:VCALENDAR
VERSION:2.0
PRODID:-//Quinzaine franco-allemande - ECPv6.15.20//NONSGML v1.0//EN
CALSCALE:GREGORIAN
METHOD:PUBLISH
X-ORIGINAL-URL:https://15francoallemandeoccitanie.fr
X-WR-CALDESC:Évènements pour Quinzaine franco-allemande
REFRESH-INTERVAL;VALUE=DURATION:PT1H
X-Robots-Tag:noindex
X-PUBLISHED-TTL:PT1H
BEGIN:VTIMEZONE
TZID:Europe/Paris
BEGIN:DAYLIGHT
TZOFFSETFROM:+0100
TZOFFSETTO:+0200
TZNAME:CEST
DTSTART:20230326T010000
END:DAYLIGHT
BEGIN:STANDARD
TZOFFSETFROM:+0200
TZOFFSETTO:+0100
TZNAME:CET
DTSTART:20231029T010000
END:STANDARD
BEGIN:DAYLIGHT
TZOFFSETFROM:+0100
TZOFFSETTO:+0200
TZNAME:CEST
DTSTART:20240331T010000
END:DAYLIGHT
BEGIN:STANDARD
TZOFFSETFROM:+0200
TZOFFSETTO:+0100
TZNAME:CET
DTSTART:20241027T010000
END:STANDARD
BEGIN:DAYLIGHT
TZOFFSETFROM:+0100
TZOFFSETTO:+0200
TZNAME:CEST
DTSTART:20250330T010000
END:DAYLIGHT
BEGIN:STANDARD
TZOFFSETFROM:+0200
TZOFFSETTO:+0100
TZNAME:CET
DTSTART:20251026T010000
END:STANDARD
END:VTIMEZONE
BEGIN:VEVENT
DTSTART;TZID=Europe/Paris:20240308T173000
DTEND;TZID=Europe/Paris:20240308T193000
DTSTAMP:20260422T205602
CREATED:20240225T212230Z
LAST-MODIFIED:20240225T212230Z
UID:10000297-1709919000-1709926200@15francoallemandeoccitanie.fr
SUMMARY:Exposition « Filles et Femmes d’industrie : récits d’Occitans à Hambourg »
DESCRIPTION:Une exposition proposée à la Maison de Ma Région de Figeac à l’occasion de la journée internationale des droits des femmes. \nPrésentation des portraits des différentes marraines (françaises et allemandes) soutenant le projet porté par le Campus des Métiers et des Qualifications (CMQE) Industrie du futur\, retour sur  les visites de la semaine découverte à Hambourg. \nVernissage à 17.30
URL:https://15francoallemandeoccitanie.fr/evenement/exposition-filles-et-femmes-dindustrie-recits-doccitans-a-hambourg/
LOCATION:Maison de Ma Région Figeac\, Place de la Gare\, Figeac\, Occitanie\, 46100\, France
CATEGORIES:Culture,Présentiel
ATTACH;FMTTYPE=image/jpeg:https://15francoallemandeoccitanie.fr/wp-content/uploads/2024/02/2024_03_08_CMQE-Hambourg.jpg
GEO:44.6038773;2.0373024
X-APPLE-STRUCTURED-LOCATION;VALUE=URI;X-ADDRESS=Maison de Ma Région Figeac Place de la Gare Figeac Occitanie 46100 France;X-APPLE-RADIUS=500;X-TITLE=Place de la Gare:geo:2.0373024,44.6038773
END:VEVENT
END:VCALENDAR