BEGIN:VCALENDAR
VERSION:2.0
PRODID:-//Quinzaine franco-allemande - ECPv6.15.20//NONSGML v1.0//EN
CALSCALE:GREGORIAN
METHOD:PUBLISH
X-ORIGINAL-URL:https://15francoallemandeoccitanie.fr
X-WR-CALDESC:Évènements pour Quinzaine franco-allemande
REFRESH-INTERVAL;VALUE=DURATION:PT1H
X-Robots-Tag:noindex
X-PUBLISHED-TTL:PT1H
BEGIN:VTIMEZONE
TZID:Europe/Paris
BEGIN:DAYLIGHT
TZOFFSETFROM:+0100
TZOFFSETTO:+0200
TZNAME:CEST
DTSTART:20230326T010000
END:DAYLIGHT
BEGIN:STANDARD
TZOFFSETFROM:+0200
TZOFFSETTO:+0100
TZNAME:CET
DTSTART:20231029T010000
END:STANDARD
BEGIN:DAYLIGHT
TZOFFSETFROM:+0100
TZOFFSETTO:+0200
TZNAME:CEST
DTSTART:20240331T010000
END:DAYLIGHT
BEGIN:STANDARD
TZOFFSETFROM:+0200
TZOFFSETTO:+0100
TZNAME:CET
DTSTART:20241027T010000
END:STANDARD
BEGIN:DAYLIGHT
TZOFFSETFROM:+0100
TZOFFSETTO:+0200
TZNAME:CEST
DTSTART:20250330T010000
END:DAYLIGHT
BEGIN:STANDARD
TZOFFSETFROM:+0200
TZOFFSETTO:+0100
TZNAME:CET
DTSTART:20251026T010000
END:STANDARD
END:VTIMEZONE
BEGIN:VEVENT
DTSTART;TZID=Europe/Paris:20240330T140000
DTEND;TZID=Europe/Paris:20240330T143000
DTSTAMP:20260420T112550
CREATED:20240317T100302Z
LAST-MODIFIED:20240317T100302Z
UID:10000357-1711807200-1711809000@15francoallemandeoccitanie.fr
SUMMARY:Saint Gilles porte de l'Europe au Moyen Âge
DESCRIPTION:Dans le cadre de la composante « Culture » de la quinzaine Franco-Allemande d’Occitanie\, qui se déroulera du 21 mars au 4 avril 2024\, une journée de rencontres est\nproposée à Saint Gilles\, dans le Gard\, le samedi 30 mars 2024\, par l’Association d’Histoire et d’Archéologie de Saint Gilles et son président\, Michel Durand Roger. \nCes rencontres permettront de présenter l’ouverture à l’époque médiévale de cette Cité vers les pays d’Europe\, au travers de l’action de l’Ordre des Hospitaliers de Saint Jean\nde Jérusalem\, dont descendent l’Ordre Souverain de Malte (Malteser\, catholique) et l’Ordre de Saint Jean (Johanniterorden\, protestant)\, tous deux toujours actifs au service « des pauvres et des malades ». \nL’Ordre des Hospitaliers a été créé à Jérusalem vers 1070. Son fondateur\, le bienheureux frère Gérard\, va mettre en place à Saint Gilles au début du XIIème siècle un hôpital\, qui\naccueillait les pèlerins et les voyageurs. Cette « tête de pont » va être durant près d’un siècle le point principal d’entrée et de sortie des Hospitaliers entre les Etats latins d’Orient et l’Europe\, en particulier vers leurs\nlieux d’implantation en France\, en Espagne\, au Portugal\, en Angleterre et en Allemagne. \nSaint Gilles possédait alors un port sur le Rhône\, permettant l’accès à la mer\, avant que son ensablement ne lui fasse passer le relai au port d’Aigues Mortes. C’était aussi à cette\népoque un lieu d’un pèlerinage très important\, où les pèlerins venaient de l’Europe entière se recueillir dans l’abbatiale sur le tombeau de saint Gilles ou encore partaient ou revenaient de Rome\, de Saint Jacques de Compostelle ou de Jérusalem.\n\nProjet réalisé par l’association d’histoire et d’archéologie de Saint Gilles avec le soutien du Fonds Citoyen Franco-Allemand\nPour plus d’informations:  https://l.facebook.com/l.php?u=https%3A%2F%2Fblogahas.wixsite.com%2Fahas%3Ffbclid%3DIwAR3pZm-T2V0HLEb76z68QWECc3omMTyioQCrfufyirGtgK5jSjObDrMvIbA&h=AT0sEskfYALmdJKgOHgnKIHmn1SNzboHPFp5V3U5rj0Q2ZL8CRhoUdRaZ1EvrI4OYVxzXz04b71rZCQCA3K6EVYLxDc6VjrZAlWQNBa9D2Qn1pQet-2uebYkNwEOsv3TWyGi8Q
URL:https://15francoallemandeoccitanie.fr/evenement/saint-gilles-porte-de-leurope-au-moyen-age/
LOCATION:Pavillon de la Culture et du Patrimoine\, Pl. Emile Zola\, Saint-Gilles\, Occitanie\, 30800\, France
CATEGORIES:Culture,Présentiel
ATTACH;FMTTYPE=image/jpeg:https://15francoallemandeoccitanie.fr/wp-content/uploads/2024/03/Quinzaine-Franco-Allemande_Saint-Gilles30032024.jpg
ORGANIZER;CN="Association d'Histoire et d'Arch%C3%A9ologie de Saint Gilles":MAILTO:histoire.archeologie.saintgilles@gmail.com
GEO:43.6763427;4.4324187
X-APPLE-STRUCTURED-LOCATION;VALUE=URI;X-ADDRESS=Pavillon de la Culture et du Patrimoine Pl. Emile Zola Saint-Gilles Occitanie 30800 France;X-APPLE-RADIUS=500;X-TITLE=Pl. Emile Zola:geo:4.4324187,43.6763427
END:VEVENT
END:VCALENDAR