BEGIN:VCALENDAR
VERSION:2.0
PRODID:-//Quinzaine franco-allemande - ECPv6.15.20//NONSGML v1.0//EN
CALSCALE:GREGORIAN
METHOD:PUBLISH
X-ORIGINAL-URL:https://15francoallemandeoccitanie.fr
X-WR-CALDESC:Évènements pour Quinzaine franco-allemande
REFRESH-INTERVAL;VALUE=DURATION:PT1H
X-Robots-Tag:noindex
X-PUBLISHED-TTL:PT1H
BEGIN:VTIMEZONE
TZID:Europe/Paris
BEGIN:DAYLIGHT
TZOFFSETFROM:+0100
TZOFFSETTO:+0200
TZNAME:CEST
DTSTART:20220327T010000
END:DAYLIGHT
BEGIN:STANDARD
TZOFFSETFROM:+0200
TZOFFSETTO:+0100
TZNAME:CET
DTSTART:20221030T010000
END:STANDARD
BEGIN:DAYLIGHT
TZOFFSETFROM:+0100
TZOFFSETTO:+0200
TZNAME:CEST
DTSTART:20230326T010000
END:DAYLIGHT
BEGIN:STANDARD
TZOFFSETFROM:+0200
TZOFFSETTO:+0100
TZNAME:CET
DTSTART:20231029T010000
END:STANDARD
BEGIN:DAYLIGHT
TZOFFSETFROM:+0100
TZOFFSETTO:+0200
TZNAME:CEST
DTSTART:20240331T010000
END:DAYLIGHT
BEGIN:STANDARD
TZOFFSETFROM:+0200
TZOFFSETTO:+0100
TZNAME:CET
DTSTART:20241027T010000
END:STANDARD
END:VTIMEZONE
BEGIN:VEVENT
DTSTART;TZID=Europe/Paris:20230809T170000
DTEND;TZID=Europe/Paris:20230812T230000
DTSTAMP:20260424T145952
CREATED:20230402T201330Z
LAST-MODIFIED:20230402T202001Z
UID:10000199-1691600400-1691881200@15francoallemandeoccitanie.fr
SUMMARY:Semaine bavaroise à Narbonne -Thématique : gastronomie et folklore
DESCRIPTION: Dans le cadre de son jumelage avec Weilheim in Oberbayern (Bavière)\, la Ville de Narbonne accueille tous les 2 ans une délégation de sa ville partenaire.  \nCette année\, 52 personnes sont attendues parmi lesquelles une délégation de 10 élus dont le Maire de Weilheim (Markus LOTH).  \nDurant quatre jours\, le public Narbonnais et visiteurs\, sont invités à déguster des produits typiquement bavarois : bretzels\, des saucisses blanches\, Leberkäse\, pâtisseries (Beignets « Ausgezogene » typiquement bavarois) et autres spécialités\, cuites sur place\, pains spéciaux.  \nLa bière pression artisanale et sans conservateurs est produite à Weilheim par la brasserie locale Dachsbraü.  \nL’orchestre de la Stadtkapelle et le groupe folklorique Trachtenverein se produisent sur scène en alternant avec des groupes proposant de la chanson française. Un programme d’activités et de découverte économique-touristique est proposée aux délégations officielle\, de danseurs et de musiciens. \nVIDEO ici \n 
URL:https://15francoallemandeoccitanie.fr/evenement/semaine-bavaroise-a-narbonne-thematique-gastronomie-et-folklore/
LOCATION:PRomenade des barques\, Place des barques\, Narbonne\, Occitanie\, 11100\, France
CATEGORIES:Culture,Présentiel
ATTACH;FMTTYPE=image/jpeg:https://15francoallemandeoccitanie.fr/wp-content/uploads/2023/04/semaine-bavaroise.jpg
ORGANIZER;CN="Ville de Narbonne":MAILTO:M.ETERO@mairie-narbonne.fr
GEO:43.184277;3.003078
X-APPLE-STRUCTURED-LOCATION;VALUE=URI;X-ADDRESS=PRomenade des barques Place des barques Narbonne Occitanie 11100 France;X-APPLE-RADIUS=500;X-TITLE=Place des barques:geo:3.003078,43.184277
END:VEVENT
END:VCALENDAR