BEGIN:VCALENDAR
VERSION:2.0
PRODID:-//Quinzaine franco-allemande - ECPv6.15.20//NONSGML v1.0//EN
CALSCALE:GREGORIAN
METHOD:PUBLISH
X-WR-CALNAME:Quinzaine franco-allemande
X-ORIGINAL-URL:https://15francoallemandeoccitanie.fr
X-WR-CALDESC:Évènements pour Quinzaine franco-allemande
REFRESH-INTERVAL;VALUE=DURATION:PT1H
X-Robots-Tag:noindex
X-PUBLISHED-TTL:PT1H
BEGIN:VTIMEZONE
TZID:Europe/Paris
BEGIN:DAYLIGHT
TZOFFSETFROM:+0100
TZOFFSETTO:+0200
TZNAME:CEST
DTSTART:20210328T010000
END:DAYLIGHT
BEGIN:STANDARD
TZOFFSETFROM:+0200
TZOFFSETTO:+0100
TZNAME:CET
DTSTART:20211031T010000
END:STANDARD
BEGIN:DAYLIGHT
TZOFFSETFROM:+0100
TZOFFSETTO:+0200
TZNAME:CEST
DTSTART:20220327T010000
END:DAYLIGHT
BEGIN:STANDARD
TZOFFSETFROM:+0200
TZOFFSETTO:+0100
TZNAME:CET
DTSTART:20221030T010000
END:STANDARD
BEGIN:DAYLIGHT
TZOFFSETFROM:+0100
TZOFFSETTO:+0200
TZNAME:CEST
DTSTART:20230326T010000
END:DAYLIGHT
BEGIN:STANDARD
TZOFFSETFROM:+0200
TZOFFSETTO:+0100
TZNAME:CET
DTSTART:20231029T010000
END:STANDARD
END:VTIMEZONE
BEGIN:VEVENT
DTSTART;VALUE=DATE:20221022
DTEND;VALUE=DATE:20221023
DTSTAMP:20260422T181705
CREATED:20221016T203948Z
LAST-MODIFIED:20221017T070638Z
UID:10000083-1666396800-1666483199@15francoallemandeoccitanie.fr
SUMMARY:Journée d’Occitanie pendant la Semaine Française\, 22 octobre 2022 // Okzitanien-Tag der Französischen Woche\, 22. Oktober 2022
DESCRIPTION:Dans le cadre de la Semaine Française de Heidelberg // Im Rahmen der Französischen Woche Heideberg\n\n« Occitània mon pais » – c’est sous cette devise que la Journée d’Occitanie se présente avec un programme varié pour Jeunes et moins Jeunes. En ouverture à 15h au théâtre de Heidelberg\, la compagnie IETO de Toulouse montrera avec leur pièce poético-acrobatique Pour hêtre comment une cohabitation harmonieuse entre les êtres humains et leur environnement est possible. La journée se poursuivra de manière ludique\, artistique\, littéraire et musicale avec un jeu de piste\, une partie de pétanque\, un atelier de dessin pour les jeunes sauvages\, une courte conférence de Claire Muchir\, directrice du Musée d’art moderne de Collioure sur les fauvistes\, et de Ralf Rieber sur la langue occitane\, avec des chansons occitanes à chanter ensemble ainsi que des textes de Molière mis en scène par des lycéens de Heidelberg et Wiesloch. En clôture de cette Journée\, la Région invitera à un buffet occitan au Marstallcafé\, et avec le Trio Raffut on pourra fêter au groove méditerranéen et tropical.\n\nLes organisateurs sont le Cercle culturel franco-allemand et la Maison de Montpellier \n  \n\n„Occitània mon pais“ – unter diesem Motto steht der Okzitanien-Tag mit einem bun­ten Programm für Jung und Ältere. Zur Eröffnung um 15 Uhr im Theater der Stadt Heidelberg zeigt die Com­pagnie IETO aus Toulouse mit ihrem poetisch-akrobatischen Stück Pour hêtre\, wie ein harmo­nisches Zusammenleben von Mensch und Umwelt möglich ist. Spielerisch\, künstlerisch\, literarisch und musi­kalisch geht es danach weiter mit einer Schnitzeljagd\, mit Boule-Spiel\, einem Malatelier für junge Wilde\, einem Kurzvortrag von Claire Muchir\, Direktorin des Musée d‘art moderne de Collioure\, über die Fauvisten sowie von Ralf Rieber zur okzitanischen Sprache\, mit gemeinsamem Singen okzita­nischer Lieder sowie mit Texten und szenischen Umsetzungen zu Molière durch Gymnasiasten*innen aus Heidelberg und Wiesloch. Zum Abschluss des Tages lädt die Region zu einem okzitanischen Buffet ein und mit dem Trio Raffut wird mit mediterranem und tropischem Groove im Marstallcafé gefeiert.\n\nVeranstalter:  das Montpellier-Haus.& Deutsch-Französische Kulturkreis – dfk \n 
URL:https://15francoallemandeoccitanie.fr/evenement/journee-doccitanie-pendant-la-semaine-francaise-22-octobre-2022-okzitanien-tag-der-franzosischen-woche-22-oktober-2022/
LOCATION:théatre de Heidelberg\, Theaterstrasse 10\, Heidelberg\, Bade Wurtemberg\, 69117\, France
ORGANIZER;CN="Maison de Montpellier":MAILTO:jauregui@montpellier-haus.de
GEO:49.410727925901;8.7037385508501
X-APPLE-STRUCTURED-LOCATION;VALUE=URI;X-ADDRESS=théatre de Heidelberg Theaterstrasse 10 Heidelberg Bade Wurtemberg 69117 France;X-APPLE-RADIUS=500;X-TITLE=Theaterstrasse 10:geo:8.7037385508501,49.410727925901
END:VEVENT
END:VCALENDAR