BEGIN:VCALENDAR
VERSION:2.0
PRODID:-//Quinzaine franco-allemande - ECPv6.15.20//NONSGML v1.0//EN
CALSCALE:GREGORIAN
METHOD:PUBLISH
X-ORIGINAL-URL:https://15francoallemandeoccitanie.fr
X-WR-CALDESC:Évènements pour Quinzaine franco-allemande
REFRESH-INTERVAL;VALUE=DURATION:PT1H
X-Robots-Tag:noindex
X-PUBLISHED-TTL:PT1H
BEGIN:VTIMEZONE
TZID:Europe/Paris
BEGIN:DAYLIGHT
TZOFFSETFROM:+0100
TZOFFSETTO:+0200
TZNAME:CEST
DTSTART:20250330T010000
END:DAYLIGHT
BEGIN:STANDARD
TZOFFSETFROM:+0200
TZOFFSETTO:+0100
TZNAME:CET
DTSTART:20251026T010000
END:STANDARD
BEGIN:DAYLIGHT
TZOFFSETFROM:+0100
TZOFFSETTO:+0200
TZNAME:CEST
DTSTART:20260329T010000
END:DAYLIGHT
BEGIN:STANDARD
TZOFFSETFROM:+0200
TZOFFSETTO:+0100
TZNAME:CET
DTSTART:20261025T010000
END:STANDARD
BEGIN:DAYLIGHT
TZOFFSETFROM:+0100
TZOFFSETTO:+0200
TZNAME:CEST
DTSTART:20270328T010000
END:DAYLIGHT
BEGIN:STANDARD
TZOFFSETFROM:+0200
TZOFFSETTO:+0100
TZNAME:CET
DTSTART:20271031T010000
END:STANDARD
END:VTIMEZONE
BEGIN:VEVENT
DTSTART;TZID=Europe/Paris:20260416T180000
DTEND;TZID=Europe/Paris:20260416T180000
DTSTAMP:20260424T220533
CREATED:20260302T184725Z
LAST-MODIFIED:20260413T111030Z
UID:10001138-1776362400-1776362400@15francoallemandeoccitanie.fr
SUMMARY:Clôture de la 8e Quinzaine franco-allemande d'Occitanie - Conférence croisée du Pr. Jean Tirole et Pr. Ernst-Ludwig von Thadden
DESCRIPTION:C \nPlaces limitées \nINSCRIPTION OBLIGATOIRE avant le 14 avril\nhttps://my.weezevent.com/qfao-conference-tse-16-04-26
URL:https://15francoallemandeoccitanie.fr/evenement/cloture-qfao-2/
LOCATION:Toulouse School of Economics\, 1 Esplanade de l’Université\, Toulouse\, 31000\, France
CATEGORIES:Citoyenneté,Convivialité,Économie,Éducation,ESR,Présentiel,Présentiel,Présentiel
END:VEVENT
BEGIN:VEVENT
DTSTART;TZID=Europe/Paris:20260414T083000
DTEND;TZID=Europe/Paris:20260414T183000
DTSTAMP:20260424T220533
CREATED:20260302T184654Z
LAST-MODIFIED:20260402T190553Z
UID:10001126-1776155400-1776191400@15francoallemandeoccitanie.fr
SUMMARY:Jour de la Saxe en Occitanie
DESCRIPTION:
URL:https://15francoallemandeoccitanie.fr/evenement/jour-de-saxe-3/
LOCATION:Toulouse School of Economics\, 1 Esplanade de l’Université\, Toulouse\, 31000\, France
CATEGORIES:Économie,Présentiel
ORGANIZER;CN="RAFAL r%C3%A9seau d'affaires franco-allemand":MAILTO:gestion.rafal@gmail.com
END:VEVENT
END:VCALENDAR