BEGIN:VCALENDAR
VERSION:2.0
PRODID:-//Quinzaine franco-allemande - ECPv6.15.20//NONSGML v1.0//EN
CALSCALE:GREGORIAN
METHOD:PUBLISH
X-ORIGINAL-URL:https://15francoallemandeoccitanie.fr
X-WR-CALDESC:Évènements pour Quinzaine franco-allemande
REFRESH-INTERVAL;VALUE=DURATION:PT1H
X-Robots-Tag:noindex
X-PUBLISHED-TTL:PT1H
BEGIN:VTIMEZONE
TZID:Europe/Paris
BEGIN:DAYLIGHT
TZOFFSETFROM:+0100
TZOFFSETTO:+0200
TZNAME:CEST
DTSTART:20210328T010000
END:DAYLIGHT
BEGIN:STANDARD
TZOFFSETFROM:+0200
TZOFFSETTO:+0100
TZNAME:CET
DTSTART:20211031T010000
END:STANDARD
BEGIN:DAYLIGHT
TZOFFSETFROM:+0100
TZOFFSETTO:+0200
TZNAME:CEST
DTSTART:20220327T010000
END:DAYLIGHT
BEGIN:STANDARD
TZOFFSETFROM:+0200
TZOFFSETTO:+0100
TZNAME:CET
DTSTART:20221030T010000
END:STANDARD
BEGIN:DAYLIGHT
TZOFFSETFROM:+0100
TZOFFSETTO:+0200
TZNAME:CEST
DTSTART:20230326T010000
END:DAYLIGHT
BEGIN:STANDARD
TZOFFSETFROM:+0200
TZOFFSETTO:+0100
TZNAME:CET
DTSTART:20231029T010000
END:STANDARD
BEGIN:DAYLIGHT
TZOFFSETFROM:+0100
TZOFFSETTO:+0200
TZNAME:CEST
DTSTART:20240331T010000
END:DAYLIGHT
BEGIN:STANDARD
TZOFFSETFROM:+0200
TZOFFSETTO:+0100
TZNAME:CET
DTSTART:20241027T010000
END:STANDARD
BEGIN:DAYLIGHT
TZOFFSETFROM:+0100
TZOFFSETTO:+0200
TZNAME:CEST
DTSTART:20250330T010000
END:DAYLIGHT
BEGIN:STANDARD
TZOFFSETFROM:+0200
TZOFFSETTO:+0100
TZNAME:CET
DTSTART:20251026T010000
END:STANDARD
BEGIN:DAYLIGHT
TZOFFSETFROM:+0100
TZOFFSETTO:+0200
TZNAME:CEST
DTSTART:20260329T010000
END:DAYLIGHT
BEGIN:STANDARD
TZOFFSETFROM:+0200
TZOFFSETTO:+0100
TZNAME:CET
DTSTART:20261025T010000
END:STANDARD
END:VTIMEZONE
BEGIN:VEVENT
DTSTART;TZID=Europe/Paris:20250415T180000
DTEND;TZID=Europe/Paris:20250415T180000
DTSTAMP:20260419T193728
CREATED:20250410T130641Z
LAST-MODIFIED:20250410T140935Z
UID:10000951-1744740000-1744740000@15francoallemandeoccitanie.fr
SUMMARY:Caspar David Friedrich (1774-1840)\, une conférence de Céline Laurière
DESCRIPTION:Tombé dans l’oubli après sa mort\, il est aujourd’hui un des peintres allemands les plus célèbres et a été mis à l’honneur en 2024 dans de nombreux musées à l’occasion de son 250e anniversaire.   \nGrand représentant du romantisme en Allemagne\, il a révolutionné le genre du paysage en mettant en avant dans ses peintures silencieuses une nouvelle relation entre l’homme et la nature : « Le peintre doit peindre non seulement ce qu’il a devant lui\, mais aussi ce qu’il voit à l’intérieur de lui-même. » (Caspar D. Friedrich) \nLors de cette conférence Céline Laurière\, guide-conférencière présentera l’évolution artistique\, la démarche et les concepts picturaux de l’artiste qui ont influencé des générations d’artistes après lui. \nInscription obligatoire à accueil-toulouse@goethe.de \nIllustration: Caspar David Friedrich – Le Voyageur contemplant une mer de nuages
URL:https://15francoallemandeoccitanie.fr/evenement/caspar-david-friedrich-1774-1840-une-conference-de-celine-lauriere/
LOCATION:Visioconférence
CATEGORIES:Culture,Distanciel
ATTACH;FMTTYPE=image/jpeg:https://15francoallemandeoccitanie.fr/wp-content/uploads/2025/04/Caspar-David-Friedrich-Le-Voyageur-contemplant-une-mer-de-nuages-scaled.jpg
ORGANIZER;CN="Goethe-Institut Toulouse C%C3%A9line Lauri%C3%A8re":MAILTO:accueil-toulouse@goethe.de
END:VEVENT
BEGIN:VEVENT
DTSTART;TZID=Europe/Paris:20220426T180000
DTEND;TZID=Europe/Paris:20220426T203000
DTSTAMP:20260419T193728
CREATED:20220323T131648Z
LAST-MODIFIED:20220405T133016Z
UID:10000075-1650996000-1651005000@15francoallemandeoccitanie.fr
SUMMARY:L’éducation et le bilinguisme :  Comment développer le bilinguisme\, lever les freins et les croyances
DESCRIPTION:Intervention de Madame Marianne Laclautre\, Orthophoniste et Formatrice auprès des professionnels de l’enfance et de l’éducation chez Ateliers Filliozat Lyon – Famille EquiLibre pour soutenir le bilinguisme \nComment soutenir l’acquisition des différentes langues chez son enfant?\nEnsemble nous ferons le point sur les méthodes d’accompagnement de l’enfant et les points forts du multiculturalisme.\nNous enseignerons les attitudes parentales à adopter en famille et les informations à transmettre à l’entourage familial et scolaire\, ainsi que les pièges à éviter pour que chaque enfant puisse être soutenu dans son processus d’apprentissage individuel. \n  \nIntervenants :  \n\nHilkka Rouland\, coach certifiée & co-fondatrice de Famille EquiLibre\nSilvia Loy Morel\, coach certifiée SLM\nMadame Marianne Laclautre\, Orthophoniste et Formatrice auprès des professionnels de l’enfance et de l’éducation chez Ateliers Filliozat
URL:https://15francoallemandeoccitanie.fr/evenement/leducation-et-le-bilinguisme-comment-developper-le-bilinguisme-lever-les-freins-et-les-croyances/
LOCATION:Visioconférence
ATTACH;FMTTYPE=image/jpeg:https://15francoallemandeoccitanie.fr/wp-content/uploads/2022/03/Enfant-bilingue-franco-allemand.jpg
END:VEVENT
BEGIN:VEVENT
DTSTART;TZID=Europe/Paris:20220405T180000
DTEND;TZID=Europe/Paris:20220405T203000
DTSTAMP:20260419T193728
CREATED:20220323T114804Z
LAST-MODIFIED:20220323T114804Z
UID:10000073-1649181600-1649190600@15francoallemandeoccitanie.fr
SUMMARY:Ma vie de famille entre deux cultures : Clarifier les choix éducatifs interculturels
DESCRIPTION:« Savoir respecter des règles est très important pour un enfant français\, car cela lui permet de s’intégrer dans la collectivité. »\n« Avoir une pensée propre\, un libre arbitre est très important pour un enfant en Allemagne\, car on lui demande sa propre réflexion à l’école. » \nLes deux cultures franco-allemandes dont les méthodes éducatives sont différentes ont pour objectif de permettre à l’enfant de s’épanouir. Il s’agit de devenir un adulte autonome\, être bien dans sa peau\, savoir créer et développer des capacités afin de surmonter toutes situations difficiles de la vie.  \nComprendre les propres besoins de son enfant en termes de développement personnel permettra à chaque parent de faire le meilleur choix éducatif\, exploiter les richesses de l’autre culture et porter un regard plus tolérant sur la méthode pédagogique de son voisin. \nEn conciliant les systèmes éducatifs de chaque culture\, les enfants franco-allemands deviendront des adultes avec des ressources diversifiées ! \nIntervenants : \nHilkka Rouland\, coach certifiée & co-fondatrice de Famille EquiLibre\nSilvia Loy Morel\, coach certifiée SLM
URL:https://15francoallemandeoccitanie.fr/evenement/ma-vie-de-famille-entre-deux-cultures-clarifier-les-choix-educatifs-interculturels/
LOCATION:Visioconférence
ATTACH;FMTTYPE=image/jpeg:https://15francoallemandeoccitanie.fr/wp-content/uploads/2022/03/Clarifier-les-choix-éducatifs-interculturels-.jpg
END:VEVENT
END:VCALENDAR