BEGIN:VCALENDAR
VERSION:2.0
PRODID:-//Quinzaine franco-allemande - ECPv6.15.20//NONSGML v1.0//EN
CALSCALE:GREGORIAN
METHOD:PUBLISH
X-ORIGINAL-URL:https://15francoallemandeoccitanie.fr
X-WR-CALDESC:Évènements pour Quinzaine franco-allemande
REFRESH-INTERVAL;VALUE=DURATION:PT1H
X-Robots-Tag:noindex
X-PUBLISHED-TTL:PT1H
BEGIN:VTIMEZONE
TZID:Europe/Paris
BEGIN:DAYLIGHT
TZOFFSETFROM:+0100
TZOFFSETTO:+0200
TZNAME:CEST
DTSTART:20230326T010000
END:DAYLIGHT
BEGIN:STANDARD
TZOFFSETFROM:+0200
TZOFFSETTO:+0100
TZNAME:CET
DTSTART:20231029T010000
END:STANDARD
BEGIN:DAYLIGHT
TZOFFSETFROM:+0100
TZOFFSETTO:+0200
TZNAME:CEST
DTSTART:20240331T010000
END:DAYLIGHT
BEGIN:STANDARD
TZOFFSETFROM:+0200
TZOFFSETTO:+0100
TZNAME:CET
DTSTART:20241027T010000
END:STANDARD
BEGIN:DAYLIGHT
TZOFFSETFROM:+0100
TZOFFSETTO:+0200
TZNAME:CEST
DTSTART:20250330T010000
END:DAYLIGHT
BEGIN:STANDARD
TZOFFSETFROM:+0200
TZOFFSETTO:+0100
TZNAME:CET
DTSTART:20251026T010000
END:STANDARD
END:VTIMEZONE
BEGIN:VEVENT
DTSTART;TZID=Europe/Paris:20240321T160000
DTEND;TZID=Europe/Paris:20240321T220000
DTSTAMP:20260421T014858
CREATED:20240205T164336Z
LAST-MODIFIED:20240205T164336Z
UID:10000245-1711036800-1711058400@15francoallemandeoccitanie.fr
SUMMARY:Cérémonie d'ouverture de la Quinzaine Franco-Allemande d'Occitanie 2024
DESCRIPTION:Cette année\, nous célébrerons l’ouverture officielle de la Quinzaine Franco-Allemande d’Occitanie 2024 à Millau.  \nEn amont de la cérémonie en présence des membres fondateurs\, nous proposons aux porteurs de projet de participer à une visite du viaduc de Millau suivi d’une courte visite du Musée de Millau et des Grands Causses MUMIG.  \nLa participation se fait sur invitation et le programme officiel sera communiqué par email.  \nSi vous avez des questions\, n’hésitez pas à nous contacter par email à l’adresse suivante: contact@allemagne-occitanie.eu \n  \n 
URL:https://15francoallemandeoccitanie.fr/evenement/ceremonie-douverture-de-la-quinzaine-franco-allemande-doccitanie-2024/
LOCATION:mairie de millau\, 17 Av. de la République\, Millau\, Occitanie\, 12100\, France
CATEGORIES:Citoyenneté,Culture,Économie,Éducation,Présentiel,Présentiel,Présentiel,Présentiel
ATTACH;FMTTYPE=image/png:https://15francoallemandeoccitanie.fr/wp-content/uploads/2024/02/POST-AOEC-11.png
ORGANIZER;CN="Allemagne Occitanie l'Europe au Coeur":MAILTO:contact@allemagne-occitanie.eu
GEO:44.1006184;3.0776176
X-APPLE-STRUCTURED-LOCATION;VALUE=URI;X-ADDRESS=mairie de millau 17 Av. de la République Millau Occitanie 12100 France;X-APPLE-RADIUS=500;X-TITLE=17 Av. de la République:geo:3.0776176,44.1006184
END:VEVENT
END:VCALENDAR