BEGIN:VCALENDAR
VERSION:2.0
PRODID:-//Quinzaine franco-allemande - ECPv6.15.20//NONSGML v1.0//EN
CALSCALE:GREGORIAN
METHOD:PUBLISH
X-WR-CALNAME:Quinzaine franco-allemande
X-ORIGINAL-URL:https://15francoallemandeoccitanie.fr
X-WR-CALDESC:Évènements pour Quinzaine franco-allemande
REFRESH-INTERVAL;VALUE=DURATION:PT1H
X-Robots-Tag:noindex
X-PUBLISHED-TTL:PT1H
BEGIN:VTIMEZONE
TZID:Europe/Paris
BEGIN:DAYLIGHT
TZOFFSETFROM:+0100
TZOFFSETTO:+0200
TZNAME:CEST
DTSTART:20230326T010000
END:DAYLIGHT
BEGIN:STANDARD
TZOFFSETFROM:+0200
TZOFFSETTO:+0100
TZNAME:CET
DTSTART:20231029T010000
END:STANDARD
BEGIN:DAYLIGHT
TZOFFSETFROM:+0100
TZOFFSETTO:+0200
TZNAME:CEST
DTSTART:20240331T010000
END:DAYLIGHT
BEGIN:STANDARD
TZOFFSETFROM:+0200
TZOFFSETTO:+0100
TZNAME:CET
DTSTART:20241027T010000
END:STANDARD
BEGIN:DAYLIGHT
TZOFFSETFROM:+0100
TZOFFSETTO:+0200
TZNAME:CEST
DTSTART:20250330T010000
END:DAYLIGHT
BEGIN:STANDARD
TZOFFSETFROM:+0200
TZOFFSETTO:+0100
TZNAME:CET
DTSTART:20251026T010000
END:STANDARD
BEGIN:DAYLIGHT
TZOFFSETFROM:+0100
TZOFFSETTO:+0200
TZNAME:CEST
DTSTART:20260329T010000
END:DAYLIGHT
BEGIN:STANDARD
TZOFFSETFROM:+0200
TZOFFSETTO:+0100
TZNAME:CET
DTSTART:20261025T010000
END:STANDARD
BEGIN:DAYLIGHT
TZOFFSETFROM:+0100
TZOFFSETTO:+0200
TZNAME:CEST
DTSTART:20270328T010000
END:DAYLIGHT
BEGIN:STANDARD
TZOFFSETFROM:+0200
TZOFFSETTO:+0100
TZNAME:CET
DTSTART:20271031T010000
END:STANDARD
END:VTIMEZONE
BEGIN:VEVENT
DTSTART;TZID=Europe/Paris:20260413T091500
DTEND;TZID=Europe/Paris:20260413T091500
DTSTAMP:20260419T232116
CREATED:20260302T184639Z
LAST-MODIFIED:20260303T174754Z
UID:10001122-1776071700-1776071700@15francoallemandeoccitanie.fr
SUMMARY:Biopsie liquide & femmes scientifiques : innovations franco-allemandes en oncologie et leadership en santé
DESCRIPTION:Déroulé de la journée – Lundi 13 avril 2026\n08h30 – 09h00 : Accueil\, pause-café & presse\nAccueil des participants\, remise de badges\, installation en salle\, distribution des programmes. Premiers échanges informels entre intervenants\, partenaires et journalistes. \nOuverture institutionnelle : mot de bienvenue (QFAO\, CHU de Montpellier\, Ville)\nPrésentation du contexte et du programme de la matinée. \n\nTable ronde n°1 — 09h15 – 10h40 (durée 1h25)\nThème : Une simple prise de sang pour révolutionner la prise en charge du cancer ?\nModération : Journaliste scientifique\nObjectif : vulgariser les avancées autour de la biopsie liquide et de la médecine personnalisée en oncologie. \nIntervenants (listés dans le programme) \n\nPr Catherine Alix-Panabières — Montpellier (CHU de Montpellier)\nPr Klaus Pantel — Hambourg (Allemagne) (CHU de Hambourg)\nPr Sonja Loges — Heidelberg (Directrice du DKFZ-Hector Krebsinstitut ; cheffe de la division d’oncologie médicale personnalisée)\nPr Laura Keller — Toulouse (Oncopole Toulouse)\nMme Lise Grewis — Montpellier (PDG d’ID-SOLUTIONS\, MedTech sur la biopsie liquide)\n\n\n10h40 – 10h55 : Pause café\nTemps de respiration entre les deux séquences. Échanges informels autour d’un rafraîchissement. \n\nTable ronde n°2 — 10h55 – 12h10 (durée 1h15)\nThème : Femmes et leadership en recherche médicale : quelle place aujourd’hui\, quel avenir ?\nModération : Journaliste scientifique\nObjectif : témoigner de parcours féminins\, sensibiliser aux enjeux systémiques\, identifier les freins à l’accès aux postes à responsabilité et ouvrir des perspectives franco-allemandes. \nIntervenants pressentis (liste “à confirmer” incluse) \n\nReprésentant(s) du CHU de Montpellier\nReprésentant(s) de la Faculté de Médecine Nîmes – Montpellier\nReprésentants de la QFAO\nIntervenants scientifiques\nPr Sonja Loges — Heidelberg\nPr Catherine Alix-Panabières — Montpellier (CHU)\nPr Laura Keller — Toulouse (Oncopole Toulouse)\nPr Klaus Pantel — Hambourg (Allemagne) (CHU de Hambourg)\nMme Lise Grewis — Montpellier (ID-SOLUTIONS\, MedTech)\n\nNote du programme\nLa Pr Sonja Loges et la Pr Catherine Alix-Panabières interviendront dans les deux tables rondes (pour valoriser à la fois excellence scientifique et parcours\, et apporter un éclairage croisé). \n\n12h10 – 13h40 : Cocktail déjeunatoire & networking\nBuffet servi en terrasse. Espace de libre circulation pour prolonger les discussions et favoriser un networking de qualité (intervenants\, participants\, professionnels de santé\, partenaires\, acteurs institutionnels\, journalistes). \n13h45 – 14h30 : Conférence de presse\nSéquence dédiée aux médias avec interventions croisées des organisateurs et des intervenants clés. Présence souhaitée des médias régionaux\, spécialisés santé-science et institutionnels. \n \n  \n\n\n  \n    ACCÉDER À L’INSCRIPTION
URL:https://15francoallemandeoccitanie.fr/evenement/biopsie-liquide-valorisation-des-femmes-scientifiques-2/
LOCATION:Domaine de Verchant\, 1 Bd Philippe Lamour\, Castelnau-le-Lez\, 34170\, France
CATEGORIES:Pr. Catherine Alix-Panabières
GEO:43.6228993;3.9229788
X-APPLE-STRUCTURED-LOCATION;VALUE=URI;X-ADDRESS=Domaine de Verchant 1 Bd Philippe Lamour Castelnau-le-Lez 34170 France;X-APPLE-RADIUS=500;X-TITLE=1 Bd Philippe Lamour:geo:3.9229788,43.6228993
END:VEVENT
BEGIN:VEVENT
DTSTART;TZID=Europe/Paris:20260411T140000
DTEND;TZID=Europe/Paris:20260411T193000
DTSTAMP:20260419T232116
CREATED:20260302T184611Z
LAST-MODIFIED:20260306T083004Z
UID:10001115-1775916000-1775935800@15francoallemandeoccitanie.fr
SUMMARY:RENCONTRE PATRIMOINE CULTUREL IMMATÉRIEL
DESCRIPTION:Dans le cadre de la Quinzaine Franco-Allemande d’Occitanie\, cette rencontre franco-allemande met à l’honneur le patrimoine culturel immatériel à travers les traditions vivantes\, les savoir-faire\, les pratiques artistiques et leur transmission. \nLa journée s’articule autour de deux tables rondes réunissant des intervenants français et allemands\, puis se prolonge par une séquence patrimoniale sur les remparts d’Aigues-Mortes et un temps convivial autour de produits locaux. \nProgramme \n13h45 — Ouverture des portesAccueil des participants. \n14h00 — Accueil institutionnelAllocutions d’ouverture\, présentation du cadre de la rencontre\, des partenaires et introduction du modérateur. \n14h10 — Discours officiels d’ouvertureIntervention conjointe de S.E. Mme Kerstin Pürschel\, Ambassadrice et Déléguée permanente de la République fédérale d’Allemagne auprès de l’UNESCO\, et d’un représentant du ministère de la Culture \n14h40 — Table ronde 1 : Rituels festifs et transmissionEntretien croisé autour de la Fête de la Saint-Louis à Aigues-Mortes et de la Fasnet de Rottweil.Axes abordés : communautés porteuses\, codes rituels\, transmission\, mémoire et médiation. \n15h40 — PauseTemps d’échanges informels. \n15h55 — Table ronde 2 : Connaissances\, pratiques et milieuxCamargue & Forêt-Noire.Cette table ronde abordera les savoir-faire liés aux milieux\, la relation entre l’homme et la nature\, la transmission des gestes\, ainsi que les transformations contemporaines des territoires. \n16h55 — ConclusionClôture institutionnelle et remerciements. \n17h35 — TransitionDépart vers les remparts et installation pour la séquence patrimoniale. \n18h00 — Visite des remparts : parcours patrimonial (30 min)Réservée aux participants ayant assisté aux tables rondes. \n18h30 — Accueil historique\, médiation et dégustation de produits locauxAccueil par l’Association Saint-Louis\, avec le Roi\, la Reine et la Cour en costumes.Médiation vivante par Vincent Moulin\, en costume médiéval\, autour de la cité et du départ de Louis IX en 1248.Cette séquence\, organisée sur la terrasse des remparts\, sera également ponctuée d’une dégustation de produits locaux et d’échanges avec les participants. \n19h30 — ClôtureFin de la rencontre. \nExposition photographiqueUne exposition photographique sera visible en continu dans la salle tout au long de la rencontre. \nModérationAntoine Pecqueur\, journaliste et musicien.
URL:https://15francoallemandeoccitanie.fr/evenement/une-approche-franco-allemande-autour-de-la-preservation-et-de-la-valorisation-du-patrimoine-culturel-et-immateriel-en-lien-avec-le-programme-memoire-du-monde-de-lunesco/
LOCATION:Aigues -Mortes\, 34 Bd Diderot\, Aigues-Mortes\, 30220\, France
CATEGORIES:Citoyenneté,Culture,Éducation Jeunesse
END:VEVENT
BEGIN:VEVENT
DTSTART;TZID=Europe/Paris:20250408T090000
DTEND;TZID=Europe/Paris:20250408T123000
DTSTAMP:20260419T232116
CREATED:20250301T202734Z
LAST-MODIFIED:20250407T123037Z
UID:10000453-1744102800-1744115400@15francoallemandeoccitanie.fr
SUMMARY:Les indispensables r-évolutions de la viticulture Vision croisée franco-allemande
DESCRIPTION:Cette matinée sera dédiée à l’évolution et aux nouvelles perspectives de la filière viticole\, avec un regard croisé entre la France et l’Allemagne. Deux tables rondes réuniront des experts\, chercheurs et entreprises des deux pays afin de discuter des défis actuels et des solutions d’avenir. \nTable Ronde 1 – Consommation et évolution de la filière – focus sur les variétés résistantes\nTable Ronde 2 – Nouvelles pistes d’évolution et de recherche pour la filière – focus sur la gestion de l’eau \nLien d’inscription et programme dans le détail de l’événement en bas de page « site »\nhttps://my.weezevent.com/lesindispensablesr-évolutionsdelaviticulturevisioncroiséefranco-allemand
URL:https://15francoallemandeoccitanie.fr/evenement/transformations-indispensables-de-la-viticulture-en-occitanie/
LOCATION:L’Institut Agro Montpellier\, 2 Place Pierre Viala Campus La Gaillarde\, Montpellier\, 04 99 61 22 00\, 34000\, France
CATEGORIES:Économie,Présentiel
ORGANIZER;CN="RAFAL r%C3%A9seau d'affaires franco-allemand":MAILTO:gestion.rafal@gmail.com
GEO:43.6181806;3.8539412
X-APPLE-STRUCTURED-LOCATION;VALUE=URI;X-ADDRESS=L’Institut Agro Montpellier 2 Place Pierre Viala Campus La Gaillarde Montpellier 04 99 61 22 00 34000 France;X-APPLE-RADIUS=500;X-TITLE=2 Place Pierre Viala Campus La Gaillarde:geo:3.8539412,43.6181806
END:VEVENT
BEGIN:VEVENT
DTSTART;TZID=Europe/Paris:20250403T083000
DTEND;TZID=Europe/Paris:20250403T153000
DTSTAMP:20260419T232116
CREATED:20250301T210921Z
LAST-MODIFIED:20250308T084729Z
UID:10000455-1743669000-1743694200@15francoallemandeoccitanie.fr
SUMMARY:Rencontre Économique Franco-Allemande
DESCRIPTION:Les Rencontres Économiques du 3 avril 2025 réunissent des experts\, économistes et acteurs clés du secteur industriel franco-allemand pour une journée d’échanges et de réflexion. \n7ème Quinzaine Franco-Allemande d’Occitanie 2025\nDomaine de Verchant\, 34170\, Castelnau-le-Lez \nDécrochage économique\nDiagnostic\, enjeux et leviers d’action pour une industrie française\, allemande et européenne compétitive\nEn présence de François Villeroy de Galhau\, gouverneur de la Banque de France \nPROGRAMME – JOURNÉE ÉCONOMIE \nAccueil des participants\n08:30 – 09:00 \nAllocution d’ouverture\n09:00 – 09:10 \nPrésentation de la journée : Vision\, enjeux et objectifs des Rencontres économiques\n09:10 – 09:20 \nAnalyse économique : État des lieux et enjeux en France\, en Allemagne\, et en Europe\n09:20 – 09:40 \nConférence introductive\n09:40 – 10:45 \nTable ronde : Comprendre les causes du décrochage industriel en France et en Allemagne\n10:45 – 12:15 \nCocktail déjeunatoire : Un moment privilégié pour approfondir les idées et prolonger la réflexion\n12:15 – 13:45 \nTable ronde : Construire des solutions pour une industrie compétitive en Europe\, en France et en Allemagne\n13:45 – 15:15 \nSynthèse et conclusion des échanges\n15:15 – 15:45 \nProgramme complet & Inscriptions \nChaque participant doit réserver en ligne via Weezevent \n\n    \n        S’INSCRIRE VIA WEEZEVENT
URL:https://15francoallemandeoccitanie.fr/evenement/rencontre-economique-franco-allemande/
LOCATION:Domaine de Verchant\, 1 Bd Philippe Lamour\, Castelnau-le-Lez\, 34170\, France
CATEGORIES:Économie,Présentiel
GEO:43.6228993;3.9229788
X-APPLE-STRUCTURED-LOCATION;VALUE=URI;X-ADDRESS=Domaine de Verchant 1 Bd Philippe Lamour Castelnau-le-Lez 34170 France;X-APPLE-RADIUS=500;X-TITLE=1 Bd Philippe Lamour:geo:3.9229788,43.6228993
END:VEVENT
BEGIN:VEVENT
DTSTART;TZID=Europe/Paris:20250329T093000
DTEND;TZID=Europe/Paris:20250329T170000
DTSTAMP:20260419T232116
CREATED:20250301T142510Z
LAST-MODIFIED:20250303T130758Z
UID:10000448-1743240600-1743267600@15francoallemandeoccitanie.fr
SUMMARY:Vision Franco-Allemande des effets structurant des sites de l'UNESCO
DESCRIPTION:Une journée d’échanges et de réflexion sur les enjeux européens liés à la reconnaissance et à la valorisation du patrimoine culturel\, en présence de Son Excellence Kerstin Pürschel\, Ambassadrice Déléguée Permanente de l’Allemagne auprès de l’UNESCO\, ainsi que d’éminents experts français et allemands. \nUn événement organisé par l’Association Allemagne Occitanie – L’Europe au Cœur\, en collaboration avec la DRAC. \nUne traduction simultanée français-allemand / allemand-français sera assurée tout au long de l’événement. \nLa région Occitanie dispose d’un patrimoine culturel et naturel unique qui fait d’elle la 1ère région française en nombre de sites inscrits au patrimoine mondial de l’Unesco. Qu’implique cette démarche ? Quelles conséquences pour les territoires ? Quelles stratégies collectives pour la reconnaissance de biens en série au niveau européen ? \nPour répondre à ces questions\, experts\, architectes\, gestionnaires de biens\, collectivités mais aussi Son Exellence l’Ambassadrice d’Allemagne auprès de l’Unesco dialogueront sur les enjeux et reviendront sur deux candidatures actuelles au titre des biens en série : le viaduc du Viaur en tant que pont à arche métallique type Eiffel (candidature commune portée par Solingen) et les fortifications de l’ancienne sénéchaussée de Carcassonne. L’Agence des Chemins de Compostelle témoignera de son expérience. \nEn cliquant sur le lien de la billetterie Weezevent\, vous trouverez toutes les informations et options d’inscription pour : \n▸ Conférence UNESCO (9h30 – 17h00) – Gratuit (inscription obligatoire) \n▸ Cocktail Déjeunatoire (12h00 – 13h30) – 25 € (boissons compris\, réservation obligatoire) \n▸ Concert baroque à la Basilique Saint-Nazaire (19h00 – 20h15) – Gratuit (places limitées\, réservation obligatoire) \nChaque participant doit réserver en ligne via Weezevent pour l’un ou plusieurs de ces événements. \n\n    \n        S’INSCRIRE VIA WEEZEVENT
URL:https://15francoallemandeoccitanie.fr/evenement/vision-franco-allemande-des-effets-structurants-des-sites-unesco/
LOCATION:Hôtel de la Cité Carcassonne\, Pl. Auguste Pierre Pont\, Carcassonne\, 11000\, France
CATEGORIES:Culture,Économie,Présentiel
ATTACH;FMTTYPE=image/jpeg:https://15francoallemandeoccitanie.fr/wp-content/uploads/2025/03/2025_03_29_UNESCO-Carcassonne02_Sm-e1740948938917.jpg
GEO:43.205483;2.362997
X-APPLE-STRUCTURED-LOCATION;VALUE=URI;X-ADDRESS=Hôtel de la Cité Carcassonne Pl. Auguste Pierre Pont Carcassonne 11000 France;X-APPLE-RADIUS=500;X-TITLE=Pl. Auguste Pierre Pont:geo:2.362997,43.205483
END:VEVENT
BEGIN:VEVENT
DTSTART;TZID=Europe/Paris:20240404T180000
DTEND;TZID=Europe/Paris:20240404T180000
DTSTAMP:20260419T232116
CREATED:20240324T141643Z
LAST-MODIFIED:20240324T141959Z
UID:10000380-1712253600-1712253600@15francoallemandeoccitanie.fr
SUMMARY:CLÔTURE DE LA QUINZAINE FRANCO ALLEMANDE D'OCCITANIE
DESCRIPTION:La clôture de la Quinzaine franco-allemande d’Occitanie aura lieu le jeudi 4 avril à l’Espace Durrell de Sommières (30) en présence du duo de jazz franco-allemand Saxicola Rubi. \nL’occasion de remercier toutes celles et ceux qui auront contribué au programme de cette 6e édition riche en manifestations.
URL:https://15francoallemandeoccitanie.fr/evenement/cloture-de-la-quinzaine-franco-allemande-doccitanie/
LOCATION:Espace Lawrence Durrell\, 245 bd Ernest François\, Sommières\, 30250\, France
CATEGORIES:Convivialité
ATTACH;FMTTYPE=image/png:https://15francoallemandeoccitanie.fr/wp-content/uploads/2023/03/2024_04_04_cloture-QFAO.png
GEO:43.7823605;4.0930655
X-APPLE-STRUCTURED-LOCATION;VALUE=URI;X-ADDRESS=Espace Lawrence Durrell 245 bd Ernest François Sommières 30250 France;X-APPLE-RADIUS=500;X-TITLE=245 bd Ernest François:geo:4.0930655,43.7823605
END:VEVENT
BEGIN:VEVENT
DTSTART;TZID=Europe/Paris:20240328T140000
DTEND;TZID=Europe/Paris:20240328T180000
DTSTAMP:20260419T232116
CREATED:20240317T114605Z
LAST-MODIFIED:20240317T115023Z
UID:10000359-1711634400-1711648800@15francoallemandeoccitanie.fr
SUMMARY:Enjeux et visions croisées sur la E-Santé en Allemagne et en France
DESCRIPTION:L’Allemagne\, un peu plus encore que la France\, est confrontée à un vieillissement important de sa population. S’en suit un besoin accru d’offres de santé. Mais comme le nombre de cotisants diminue il faut trouver le moyen de faire plus et mieux en maintenant\, voir diminuant le cout des systèmes de santé. En particulier dans le système de santé allemand\, il est urgent de mieux relier les secteurs des soins ambulatoires et hospitaliers. Pour ce faire\, la numérisation peut être un moteur essentiel. L’innovation peut permettre à l’Allemagne et à la France de relever ce défi ! \n15H00– 16H00 : Table ronde 1 : Comment faire émerger un champion de la E-santé en Occitanie et en Allemagne\nOn parle des capacités à créer ensemble des innovations technologiques autour de la digitalisation santé. Certes nous avons le savoir mais quelles sont les facteurs qui entravent cette évolution. Nous avons les ressources mais comment améliorer le système pour soutenir & pousser l’innovation technologique. \n16H15 – 17H15 : Table ronde 2 : L’utilisation de l’IA en santé\nPerspective d’avenir de l’IA ? Lesquelles sont-elles dans un avenir proche ?\nQue ce soit pour aider la télémédecine qui permettra de répondre au défi des déserts médicaux\, d’aider à l’analyse des examens comme des radios ou des scanners pour optimiser le travail des radiologues ou pour faciliter les décisions des soignants mettant en place des protocoles de soins\, l’Intelligence Artificielle a de nombreux débouchés dans le domaine de la santé. L’Intelligence Artificielle n’est qu’un outil. Et comme tout outil\, les apports et les risques dépendent de nos usages\, de nos valeurs\, et des règles que nous nous imposeront. Maitriser les données fournies à ces IA et leurs localisations… ainsi que le droit qui les encadrera sera primordial pour protéger les données personnelles des patients et les innovations en santé qui seront produites. \nAvec la participation :\n✅ Du réseau d’affaires Franco-Allemand (RAFAL)\,\n✅ Du Pôle Attractivité\, Développement Économique\, Emploi de Montpellier Méditerranée Métropole\,\n✅ De Leader Montpellier\,\n✅ Et du Mouvement des Entreprises de France à Montpellier\,\n✅ En partenariat avec un incubateur IT de l’université de la Sarre. \nPorteurs de projets\, profitez aussi de cet événement pour pitcher devant des professionnels et/ou clients de la santé en amont des tables rondes et présenter vos innovations \n🆓 L’entrée est gratuite\, inscrivez-vous vite: https://docs.google.com/forms/d/e/1FAIpQLSfQ3l0Wl2Ic7ybQV_Oachz2vRu_DGMKusLK4SliTypKxUvKIw/viewform
URL:https://15francoallemandeoccitanie.fr/evenement/enjeux-et-visions-croisees-sur-la-e-sante-en-allemagne-et-en-france/
LOCATION:Cité de l’Economie et des métiers de demain\, 132 Bd Pénélope\,\, Montpellier\, Occitanie\, 34000\, France
CATEGORIES:Économie,Présentiel
ATTACH;FMTTYPE=image/png:https://15francoallemandeoccitanie.fr/wp-content/uploads/2024/03/FREvenementPost.png
GEO:43.6025669;3.913004
X-APPLE-STRUCTURED-LOCATION;VALUE=URI;X-ADDRESS=Cité de l’Economie et des métiers de demain 132 Bd Pénélope Montpellier Occitanie 34000 France;X-APPLE-RADIUS=500;X-TITLE=132 Bd Pénélope\,:geo:3.913004,43.6025669
END:VEVENT
BEGIN:VEVENT
DTSTART;TZID=Europe/Paris:20240327T090000
DTEND;TZID=Europe/Paris:20240327T140000
DTSTAMP:20260419T232116
CREATED:20240316T175111Z
LAST-MODIFIED:20240316T175229Z
UID:10000356-1711530000-1711548000@15francoallemandeoccitanie.fr
SUMMARY:Et si votre business en Allemagne commençait en Saxe?
DESCRIPTION:La Saxe c’est l’autre Allemagne ! Comment profiter de son formidable développement économique ? \nAccueil par la CCI 34 d’une délégation de la CCI de Saxe Leipzig/Chemnitz constituée d’entreprises et d’institutionnels \nLa Saxe accueille selon la GTAI (German Trade & Invest) 100 entreprises françaises de toutes tailles (soit 2% des sociétés françaises implantées en Allemagne) qui emploient 8 500 salariés (soit 2\,1% des emplois générés par des entreprises françaises en Allemagne).\nLa Saxe a réussi à redevenir après la réunification allemande et d’importants efforts de modernisation par privatisation de secteurs clés (mines\, chimie\, matières plastiques\, sidérurgie\, pharmaceutique et génie mécanique) l’une des régions les plus attractives de l’ex Allemagne de l’Est.\nSon essor dans les technologies (TIC\, biotechnologies\, énergies renouvelables\, techniques environnementales\, nanotechnologies) après 1990 a abouti 30 ans plus tard à la constitution d’un pôle de compétitivité de rang mondial la « Silicon Saxony »\, leader des semi-conducteurs. \nCette journée vous donnera l’occasion de mieux connaitre l’écosystème de la Saxe et de nouer les premiers liens avec les membres de la délégation. \n🌍 Au Programme:\n**9H30 – 10H30: Table Ronde 1 – La Transition Énergétique dans le Bâtiment**\n– Marchés des capitaux et mesures de financement des projets\n– Numérisation dans le secteur de la construction\n– Nouvelle directive européenne sur les bâtiments \n**11H00 – 12H00: Table Ronde 2 – Les leviers d’attractivité pour recruter et fidéliser des profils Franco-Allemand\n– Accueil des participants\n– Comment recruter des profils Franco-Allemands ?\n– Attractivité des territoires\n– Onboarding : intégration et accompagnement des nouveaux collaborateurs\n– Développer sa marque employeur : conseils pratiques\, prestataires et acteurs en France et en Allemagne\n– Découvrez l’offre de Montpellier Business School : accompagnement\, formations et filières  \nINTERVENANTS\n–  Florent LAÏK\, Consultant relations entreprises\, APEC\n– Anne-Sophie ROBERT\, Montpellier Business School\n– Animation : Véronique VILLETTE\, membre élue CCI Hérault\, Présidente du Groupe de travail RH\nInscription: https://f.info.herault.cci.fr/f/l/?q=zAlCv7GC8c94Tnc_y2pXR8t3sgpdj0zZBuSLO_jgwKbfUvEh_JD9IJJpRI2PuFHT_0M3SDB-hBZBe4pmrUnGFZ0TG5oihNpG9zDhJfi63xEE7milV-IfqSnV1DB0aHX6Wm7NpWRhZk2h07DwDt_liQaIa3_naLcqZk_jPevgTJBpUWncxFJMLVY6IiiwThC_t5Wml0eUrULuQi6c1WMP7a9zwG47Yu4R0-WBG7vBoVdckCMSMZ7fuscMfjaWvaOFxEI374QADxJs9H7xOYR7Kg&FormID=81  \nProjet porté par l’association Allemagne Occitanie l’Europe au Coeur en partenariat avec la CCI Hérault.
URL:https://15francoallemandeoccitanie.fr/evenement/et-si-votre-business-commencait-en-saxe/
LOCATION:CCI Hérault\, 32 Grand Rue Jean Moulin\, Montpellier\, Occitanie\, 34 000\, France
CATEGORIES:Économie,Présentiel
ATTACH;FMTTYPE=image/png:https://15francoallemandeoccitanie.fr/wp-content/uploads/2024/03/save-the-date-1.png
GEO:43.6079342;3.8772996
X-APPLE-STRUCTURED-LOCATION;VALUE=URI;X-ADDRESS=CCI Hérault 32 Grand Rue Jean Moulin Montpellier Occitanie 34 000 France;X-APPLE-RADIUS=500;X-TITLE=32 Grand Rue Jean Moulin:geo:3.8772996,43.6079342
END:VEVENT
BEGIN:VEVENT
DTSTART;TZID=Europe/Paris:20240322T203000
DTEND;TZID=Europe/Paris:20240322T220000
DTSTAMP:20260419T232116
CREATED:20240303T180502Z
LAST-MODIFIED:20240317T160427Z
UID:10000323-1711139400-1711144800@15francoallemandeoccitanie.fr
SUMMARY:Concert du duo Valérie Sajdik et Cédric Chauveau au domaine de Rieussec
DESCRIPTION:Le duo Valérie Sajdik et Cédric Chauveau\, réunit en un univers musical singulier deux parcours riches de musique et de métissage culturel. Ils se caractérisent par leur sens de la mélodie et leur goût pour la poésie.\nValérie et Cédric ont fondé leur duo en 2017 et se sont produits dans de nombreux théâtres et autres lieux magiques. \nLeur répertoire comprend des compositions originales ainsi que des chansons de cabaret et de jazz françaises\, allemandes et anglaises des années 1920 aux années 1940\, par exemple de Kurt Weill\, Friedrich Hollander\, Marlene Dietrich\, mais aussi de Piaf\, Trenet et Brassens.  \nIls ont intégré aussi quelques standards de jazz soigneusement choisis. Un voyage à travers l’Europe des années dorées et folles\, avec des tubes oubliés\, des chansonsécrites en exil\, des histoires de voisinage\, d’insomnie et de folie. Avec ironie et sensibilité\, Cédric et Valérie se surprennent et nous surprennent.\n\nPartenaire officiel de ce projet: Gignac Energie  \nConcert gratuit\nINSCRIPTION: https://forms.gle/ixCqRGQqJosCssF47
URL:https://15francoallemandeoccitanie.fr/evenement/concert-du-duo-valerie-sajdik-et-cedric-chauveau-au-domaine-de-rieussec/
LOCATION:Domaine de Rieussec\, Rte d'Aniane\, Gignac\, Occitanie\, 34150\, France
CATEGORIES:Culture,Présentiel
ATTACH;FMTTYPE=image/png:https://15francoallemandeoccitanie.fr/wp-content/uploads/2024/03/Affiche-de-la-QFAO2024-4.png
GEO:43.6596802;3.5601164
X-APPLE-STRUCTURED-LOCATION;VALUE=URI;X-ADDRESS=Domaine de Rieussec Rte d'Aniane Gignac Occitanie 34150 France;X-APPLE-RADIUS=500;X-TITLE=Rte d'Aniane:geo:3.5601164,43.6596802
END:VEVENT
END:VCALENDAR