BEGIN:VCALENDAR
VERSION:2.0
PRODID:-//Quinzaine franco-allemande - ECPv6.15.20//NONSGML v1.0//EN
CALSCALE:GREGORIAN
METHOD:PUBLISH
X-ORIGINAL-URL:https://15francoallemandeoccitanie.fr
X-WR-CALDESC:Évènements pour Quinzaine franco-allemande
REFRESH-INTERVAL;VALUE=DURATION:PT1H
X-Robots-Tag:noindex
X-PUBLISHED-TTL:PT1H
BEGIN:VTIMEZONE
TZID:Europe/Paris
BEGIN:DAYLIGHT
TZOFFSETFROM:+0100
TZOFFSETTO:+0200
TZNAME:CEST
DTSTART:20220327T010000
END:DAYLIGHT
BEGIN:STANDARD
TZOFFSETFROM:+0200
TZOFFSETTO:+0100
TZNAME:CET
DTSTART:20221030T010000
END:STANDARD
BEGIN:DAYLIGHT
TZOFFSETFROM:+0100
TZOFFSETTO:+0200
TZNAME:CEST
DTSTART:20230326T010000
END:DAYLIGHT
BEGIN:STANDARD
TZOFFSETFROM:+0200
TZOFFSETTO:+0100
TZNAME:CET
DTSTART:20231029T010000
END:STANDARD
BEGIN:DAYLIGHT
TZOFFSETFROM:+0100
TZOFFSETTO:+0200
TZNAME:CEST
DTSTART:20240331T010000
END:DAYLIGHT
BEGIN:STANDARD
TZOFFSETFROM:+0200
TZOFFSETTO:+0100
TZNAME:CET
DTSTART:20241027T010000
END:STANDARD
END:VTIMEZONE
BEGIN:VEVENT
DTSTART;TZID=Europe/Paris:20230420T183000
DTEND;TZID=Europe/Paris:20230420T220000
DTSTAMP:20260420T155107
CREATED:20230316T111645Z
LAST-MODIFIED:20230316T111718Z
UID:10000144-1682015400-1682028000@15francoallemandeoccitanie.fr
SUMMARY:CLÔTURE DE LA QUINZAINE FRANCO ALLEMANDE D'OCCITANIE 2023
DESCRIPTION:La cinquième édition de la Quinzaine franco allemande d’Occitanie se tiendra cette année du 03 au 21.04.2023. \nCet appel à projet porté par la société civile est un exemple unique de coopération décentralisée entre une région et un état européen offrant l’occasion de mettre en avant nos territoires outre-Rhin. Dorénavant la Quinzaine aura lieu chaque année en Occitanie et organisera quelques événements en Allemagne ( via nos partenaires). \nAfin de favoriser le maillage territorial\, la clôture se tiendra le 20.04.2023 à Narbonne. \nDès 18H30\, les invités seront accueillis au musée Narbo Via. A cette occasion des jeunes palefreniers de Saxe accueillis au lycée agricole de Castelnaudary et témoigneront de leur expérience et de l’échange interculturel. Ce projet est soutenu par l’OFAJ et organisé par la Fédération Léo Lagrange Méditerranée et l’organisme Arbeit und Leben e.V… \nEn raison du nombre de places limitées\, les inscriptions sont obligatoires.
URL:https://15francoallemandeoccitanie.fr/evenement/cloture-de-la-quinzaine-franco-allemande-doccitanie-2023/
LOCATION:musée Narbo Via\, 2 Av. André Mècle\, Narbonne\, 11000\, France
CATEGORIES:Citoyenneté,Culture,Économie,Éducation,Présentiel,Présentiel,Présentiel,Présentiel
ATTACH;FMTTYPE=image/webp:https://15francoallemandeoccitanie.fr/wp-content/uploads/2023/03/visuel-page-narbovia-900x476-projet1.jpg.webp
ORGANIZER;CN="Allemagne Occitanie l'Europe au coeur":MAILTO:fanny.czajkowski@allemagne-occitanie.eu
GEO:43.1770339;3.0237875
X-APPLE-STRUCTURED-LOCATION;VALUE=URI;X-ADDRESS=musée Narbo Via 2 Av. André Mècle Narbonne 11000 France;X-APPLE-RADIUS=500;X-TITLE=2 Av. André Mècle:geo:3.0237875,43.1770339
END:VEVENT
BEGIN:VEVENT
DTSTART;TZID=Europe/Paris:20230403T183000
DTEND;TZID=Europe/Paris:20230403T220000
DTSTAMP:20260420T155107
CREATED:20230316T082033Z
LAST-MODIFIED:20230316T082053Z
UID:10000143-1680546600-1680559200@15francoallemandeoccitanie.fr
SUMMARY:CEREMONIE D'OUVERTURE DE LA QUINZAINE FRANCO ALLEMANDE D'OCCITANIE 2023
DESCRIPTION:La cinquième édition de la Quinzaine franco allemande d’Occitanie se tiendra cette année du 03 au 21.04.2023. \nCet appel à projet porté par la société civile est un exemple unique de coopération décentralisée entre une région et un état européen offrant l’occasion de mettre en avant nos territoires outre-Rhin. Dorénavant la Quinzaine aura lieu chaque année en Occitanie et organisera quelques événements en Allemagne ( via nos partenaires). \nAfin de favoriser le maillage territorial\, la cérémonie d’ouverture se tiendra à Albi. \nDès 18H30\, les invités seront accueillis dans la Salle des États Albigeois à l’Hôtel de Ville d’Albi. A cette occasion un intermède musical sera organisé par le Conservatoire de Musique et de Danse du Tarn. \nEn raison du nombre de places limitées\, les inscriptions sont obligatoires.
URL:https://15francoallemandeoccitanie.fr/evenement/ceremonie-douverture-de-la-quinzaine-franco-allemande-doccitanie-2023/
LOCATION:Mairie d’Albi\, 16 rue de l'hôtel de ville\, Albi\, 81000\, France
CATEGORIES:Citoyenneté,Culture,Économie,Éducation,Présentiel,Présentiel,Présentiel,Présentiel
ATTACH;FMTTYPE=image/jpeg:https://15francoallemandeoccitanie.fr/wp-content/uploads/2023/03/Musee-Toulouse-Lautrec.jpg
ORGANIZER;CN="Allemagne Occitanie l'Europe au coeur":MAILTO:fanny.czajkowski@allemagne-occitanie.eu
GEO:43.9269614;2.1460799
X-APPLE-STRUCTURED-LOCATION;VALUE=URI;X-ADDRESS=Mairie d’Albi 16 rue de l'hôtel de ville Albi 81000 France;X-APPLE-RADIUS=500;X-TITLE=16 rue de l'hôtel de ville:geo:2.1460799,43.9269614
END:VEVENT
END:VCALENDAR