BEGIN:VCALENDAR
VERSION:2.0
PRODID:-//Quinzaine franco-allemande - ECPv6.15.20//NONSGML v1.0//EN
CALSCALE:GREGORIAN
METHOD:PUBLISH
X-ORIGINAL-URL:https://15francoallemandeoccitanie.fr
X-WR-CALDESC:Évènements pour Quinzaine franco-allemande
REFRESH-INTERVAL;VALUE=DURATION:PT1H
X-Robots-Tag:noindex
X-PUBLISHED-TTL:PT1H
BEGIN:VTIMEZONE
TZID:Europe/Paris
BEGIN:DAYLIGHT
TZOFFSETFROM:+0100
TZOFFSETTO:+0200
TZNAME:CEST
DTSTART:20220327T010000
END:DAYLIGHT
BEGIN:STANDARD
TZOFFSETFROM:+0200
TZOFFSETTO:+0100
TZNAME:CET
DTSTART:20221030T010000
END:STANDARD
BEGIN:DAYLIGHT
TZOFFSETFROM:+0100
TZOFFSETTO:+0200
TZNAME:CEST
DTSTART:20230326T010000
END:DAYLIGHT
BEGIN:STANDARD
TZOFFSETFROM:+0200
TZOFFSETTO:+0100
TZNAME:CET
DTSTART:20231029T010000
END:STANDARD
BEGIN:DAYLIGHT
TZOFFSETFROM:+0100
TZOFFSETTO:+0200
TZNAME:CEST
DTSTART:20240331T010000
END:DAYLIGHT
BEGIN:STANDARD
TZOFFSETFROM:+0200
TZOFFSETTO:+0100
TZNAME:CET
DTSTART:20241027T010000
END:STANDARD
END:VTIMEZONE
BEGIN:VEVENT
DTSTART;TZID=Europe/Paris:20230415T200000
DTEND;TZID=Europe/Paris:20230415T200000
DTSTAMP:20260422T181354
CREATED:20230413T183536Z
LAST-MODIFIED:20230415T091958Z
UID:10000216-1681588800-1681588800@15francoallemandeoccitanie.fr
SUMMARY:CONCERT : COMME PATRIE\, J'AI CHOISI L'AMOUR. ZUR HEIMAT ERKOR ICH MIR DIE LIEBE.
DESCRIPTION: Un concert-lecture en hommage à la poétesse Mascha Kaléko est organisé le 15.04.2023 à la salle Molière à Montpellier.  \n  \nLa guerre\, la fuite\, l’exil\, la perte de la patrie sont malheureusement des thèmes très actuels en Europe qui\, par le passé\, ont toujours été importants dans le contexte franco-allemand. \n\nAinsi\, dans les années 1930\, 40 000 personnes  antifascistes d’Allemagne et d’Autriche ont trouvé réfuge en France dont une grande partie d’intellectuels et d’artistes. \n\n\nDans le cadre de la Quinzaine franco-allemande d’Occitanie\, notre soirée sera consacrée à ces artistes germanophones qui ont fui les nazis et ont dû quitter leur pays dans les années 1930\, se réfugiant pour la plupart d’abord dans les pays limitrophes\, puis se sauvant dans un second exil outre-mer au cours de la guerre. Outre les soucis matériels et l’angoisse permanente pour ceux qui sont restés\, ces personnes se sont souvent senties étrangères en exil et  ont souffert de la perte de leur patrie et de celle de leur propre langue.\n\n\nArtistes:\n Valerie Sajdik (voix) et Cédric Chauveau (piano) joueront un répertoire musical  \nAnimation par les étudiant.es du master LEA\, négociation de projets internationaux Université Paul Valéry – Montpellier 3 (Andrea Chartier-Bunzel) \n  \nSamedi 15 avril 2023. 20h\nSalle Molière. Opéra Comédie Montpellier \nEntrée libre.\nLa salle n’est pas accessible aux personnes à mobilité réduite. \n 
URL:https://15francoallemandeoccitanie.fr/evenement/concert-comme-patrie-jai-choisi-lamour-zur-heimat-erkor-ich-mir-die-liebe/
LOCATION:Salle Molière\, Pl. Molièrer\, Montpellier\, Occitanie\, 34 000\, France
CATEGORIES:Culture,Présentiel
ATTACH;FMTTYPE=image/png:https://15francoallemandeoccitanie.fr/wp-content/uploads/2023/04/Affiche-concert.png
GEO:43.6074247;3.8782969
X-APPLE-STRUCTURED-LOCATION;VALUE=URI;X-ADDRESS=Salle Molière Pl. Molièrer Montpellier Occitanie 34 000 France;X-APPLE-RADIUS=500;X-TITLE=Pl. Molièrer:geo:3.8782969,43.6074247
END:VEVENT
END:VCALENDAR