BEGIN:VCALENDAR
VERSION:2.0
PRODID:-//Quinzaine franco-allemande - ECPv6.15.20//NONSGML v1.0//EN
CALSCALE:GREGORIAN
METHOD:PUBLISH
X-ORIGINAL-URL:https://15francoallemandeoccitanie.fr
X-WR-CALDESC:Évènements pour Quinzaine franco-allemande
REFRESH-INTERVAL;VALUE=DURATION:PT1H
X-Robots-Tag:noindex
X-PUBLISHED-TTL:PT1H
BEGIN:VTIMEZONE
TZID:Europe/Paris
BEGIN:DAYLIGHT
TZOFFSETFROM:+0100
TZOFFSETTO:+0200
TZNAME:CEST
DTSTART:20220327T010000
END:DAYLIGHT
BEGIN:STANDARD
TZOFFSETFROM:+0200
TZOFFSETTO:+0100
TZNAME:CET
DTSTART:20221030T010000
END:STANDARD
BEGIN:DAYLIGHT
TZOFFSETFROM:+0100
TZOFFSETTO:+0200
TZNAME:CEST
DTSTART:20230326T010000
END:DAYLIGHT
BEGIN:STANDARD
TZOFFSETFROM:+0200
TZOFFSETTO:+0100
TZNAME:CET
DTSTART:20231029T010000
END:STANDARD
BEGIN:DAYLIGHT
TZOFFSETFROM:+0100
TZOFFSETTO:+0200
TZNAME:CEST
DTSTART:20240331T010000
END:DAYLIGHT
BEGIN:STANDARD
TZOFFSETFROM:+0200
TZOFFSETTO:+0100
TZNAME:CET
DTSTART:20241027T010000
END:STANDARD
BEGIN:DAYLIGHT
TZOFFSETFROM:+0100
TZOFFSETTO:+0200
TZNAME:CEST
DTSTART:20250330T010000
END:DAYLIGHT
BEGIN:STANDARD
TZOFFSETFROM:+0200
TZOFFSETTO:+0100
TZNAME:CET
DTSTART:20251026T010000
END:STANDARD
END:VTIMEZONE
BEGIN:VEVENT
DTSTART;TZID=Europe/Paris:20240318T080000
DTEND;TZID=Europe/Paris:20240324T170000
DTSTAMP:20260420T171611
CREATED:20240302T210853Z
LAST-MODIFIED:20240302T211357Z
UID:10000286-1710748800-1711299600@15francoallemandeoccitanie.fr
SUMMARY:Briser les murs et se tendre la main!
DESCRIPTION:A l’occasion de la quinzaine frano-allemande d’Occitanie 2024\, Lectoure et son association Chocolatine Allemande propose un happening : « Briser les murs et se tendre la main » \nCet évènement aura lieu le vendredi 22 mars 2024 à 11h00 sur le parvis de la cathédrale\, dans le centre ville de Lectoure (32700 – Gers\, France).  \nPour l’occasion \, un mur est construit en amont. Il est possible de le voir durant la semaine qui précède dans la salle des Pas Perdus de la mairie. Il s’agit d’un mur recyclable construit de cartons et décoré par des graffitis divers associé à la thématique de la forêt.  \nL’objectif du happening est de mettre en lumière la nécessité de se connaître. Briser les murs\, c’est un peu « briser la glace » et se tendre la main pour communiquer\, explorer\, développer\, travailler\, rêver ENSEMBLE et dans une Europe unie.  \nUn repas allemand ouvert à tous – petits et grands –  aura lieu le samedi soir\, le 23 mars 2023 à partir de 19h30 à Lectoure (le lieu précis\, le tarif et les modalités de réservation seront communiqués ultérieurement.) A l’occasion de se repas\, il sera possible de créer des liens interculturels lors de conversations informelles et de voyager en VR à travers la forêt\, les montagnes.. la nature allemande.
URL:https://15francoallemandeoccitanie.fr/evenement/briser-les-murs-et-se-tendre-la-main/
LOCATION:lectoure\, Ville\, Lectoure\, Gers\, 32700\, France
CATEGORIES:Présentiel,Présentiel,Présentiel
ATTACH;FMTTYPE=image/jpeg:https://15francoallemandeoccitanie.fr/wp-content/uploads/2024/02/salvation-2292499_12802.jpg
ORGANIZER;CN="Ass. Chocolatine allemande":MAILTO:chocolatineallemande@gmail.com
GEO:43.933604;0.623621
X-APPLE-STRUCTURED-LOCATION;VALUE=URI;X-ADDRESS=lectoure Ville Lectoure Gers 32700 France;X-APPLE-RADIUS=500;X-TITLE=Ville:geo:0.623621,43.933604
END:VEVENT
BEGIN:VEVENT
DTSTART;TZID=Europe/Paris:20230422T180000
DTEND;TZID=Europe/Paris:20230422T233000
DTSTAMP:20260420T171611
CREATED:20230326T100156Z
LAST-MODIFIED:20230327T122141Z
UID:10000151-1682186400-1682206200@15francoallemandeoccitanie.fr
SUMMARY:Repas\, Conférence & Voyage virtuel en Allemagne!
DESCRIPTION:Depuis 2018\, Lectoure a participé à toutes les éditions de la quinzaine franco-allemande en Occitanie.\nLe samedi 22 avril 2023 a lieu une « Soirée évènement franco-allemande » au restaurant Le Bastion de Lectoure.\nCette soirée est organisée par l’association Chocolatine allemande\, dont la Présidente est C. Childs et Le Restaurant lectourois Le Bastion.\nElle est soutenue par le fond citoyen franco-allemand\, la mairie de Lectoure \, l’école Saint Joseph de Lectoure et de nombreux partenaires locaux.\nProgramme:\nApéritif\n**\nConférence :\n> présentation des activités franco-allemandes lectouroises passées et futures\n> présentation de la toute jeune association « Chocolatine allemande »\n> Jeu concours avec lots à gagner\n**\nRepas : 16\,50€ / personne.\n> Kartoffelsalat ( salade de pommes de terre)\n> Bratwurst (saucisse grillée ) & Légumes\n> Rote Grütze ( crème de fruits rouges et sauce à la vanille )\n**\nVoyage virtuel en Allemagne via utilisation d’un casque de réalité virtuelle.\nRéservation directement auprès du restaurant le Bastion 05 62 28 32 25
URL:https://15francoallemandeoccitanie.fr/evenement/soiree-evenement-franco-allemande-repas-conference-voyage-virtuel-en-allemagne/
LOCATION:Restaurant Le Bastion Lectoure\, Pl. Bastion\, Lectoure\, Gers\, 32700\, France
CATEGORIES:Présentiel,Présentiel
ATTACH;FMTTYPE=image/png:https://15francoallemandeoccitanie.fr/wp-content/uploads/2023/03/SOIREE-FRANCO-ALLEMANDE-22-AVRIL-Event-Cover-1.png
ORGANIZER;CN="Ass. Chocolatine allemande":MAILTO:chocolatineallemande@gmail.com
GEO:43.933604;0.623621
X-APPLE-STRUCTURED-LOCATION;VALUE=URI;X-ADDRESS=Restaurant Le Bastion Lectoure Pl. Bastion Lectoure Gers 32700 France;X-APPLE-RADIUS=500;X-TITLE=Pl. Bastion:geo:0.623621,43.933604
END:VEVENT
END:VCALENDAR